{"text_format":"1","workbook":"xlsx","n_sheets":15,"sheets":[" Podium","Impression","1Cat","2Cat","3Cat","15_16ans","4Cat","FEM","13_14ans","11_12ans","9_10ans","6_8ans","ClassementGenéral","Engagés_Internet","LISTES"],"not_rendered":{"charts":0,"images":6,"macros":1,"external_links":0,"defined_names":50,"comments":0,"pivot_tables":0},"unopened":[],"bounds":{"document_bytes":16777216,"sheet_cells":100000,"rows_first":2000,"rows_last":500,"rows_between":2000,"halvings":0,"cell_chars":16384,"cell_head_chars":4096},"cells_cut":0,"cells_raw":0,"read":"whole","date_system":"1900"}

{"sheet":" Podium","index":0,"n_rows":117,"n_cols":10,"rows_kept":117,"cut":false,"hidden":false,"merged":[[2,0,2,8],[1,0,1,8],[0,0,0,8],[0,9,3,12],[110,0,110,1],[99,0,99,1],[88,0,88,1],[77,0,77,1],[3,0,3,8]]}
[{"$f":"ClassementGenéral!A1","v":"UFOLEP"},null,null,null,null,null,null,null,null,"Ne rien Toucher sur cette feuille qui se documente en automatique. \nSupprimer avant impression les tableaux et lignes inutiles et faites un aperçu avant impresion pour faire une belle mise en page.\nImprimer en PDF et diffuser au Webmaster"]
[{"$f":"ClassementGenéral!A2","v":"Prix de la municipalité de MIGENNES"}]
[{"$f":"ClassementGenéral!A3","v":"2025-06-29"}]
[{"$f":"ClassementGenéral!A4","v":"ASUCM "}]
[]
["PODIUMS"]
[]
[null,null,{"$f":"'1Cat'!A6","v":0},{"$f":"'1Cat'!A7","v":""}]
[null,null,{"$f":"'1Cat'!B8","v":0},{"$f":"'1Cat'!C8","v":0}]
[{"$f":"'1Cat'!A9","v":"1e"},"Caté",{"$f":"'1Cat'!B9","v":0},{"$f":"'1Cat'!C9","v":0}]
[{"$f":"ClassementGenéral!A18","v":"Place"},{"$f":"ClassementGenéral!B18","v":"Doss"},{"$f":"ClassementGenéral!C18","v":"Nom Prenom"},{"$f":"ClassementGenéral!D18","v":"Club"},{"$f":"ClassementGenéral!E18","v":"Sexe"},{"$f":"ClassementGenéral!F18","v":"Cat"},{"$f":"ClassementGenéral!G18","v":"Ecart"},{"$f":"ClassementGenéral!H18","v":"Dep"},{"$f":"ClassementGenéral!I18","v":"Fed"}]
[{"$f":"ClassementGenéral!A19","v":0},{"$f":"ClassementGenéral!B19","v":1},{"$f":"ClassementGenéral!C19","v":0},{"$f":"ClassementGenéral!D19","v":0},{"$f":"ClassementGenéral!E19","v":0},{"$f":"ClassementGenéral!F19","v":0},{"$f":"ClassementGenéral!G19","v":0},{"$f":"ClassementGenéral!H19","v":0},{"$f":"ClassementGenéral!I19","v":0}]
[{"$f":"ClassementGenéral!A20","v":0},{"$f":"ClassementGenéral!B20","v":2},{"$f":"ClassementGenéral!C20","v":0},{"$f":"ClassementGenéral!D20","v":0},{"$f":"ClassementGenéral!E20","v":0},{"$f":"ClassementGenéral!F20","v":0},{"$f":"ClassementGenéral!G20","v":0},{"$f":"ClassementGenéral!H20","v":0},{"$f":"ClassementGenéral!I20","v":0}]
[{"$f":"ClassementGenéral!A21","v":0},{"$f":"ClassementGenéral!B21","v":3},{"$f":"ClassementGenéral!C21","v":0},{"$f":"ClassementGenéral!D21","v":0},{"$f":"ClassementGenéral!E21","v":0},{"$f":"ClassementGenéral!F21","v":0},{"$f":"ClassementGenéral!G21","v":0},{"$f":"ClassementGenéral!H21","v":0},{"$f":"ClassementGenéral!I21","v":0}]
[{"$f":"ClassementGenéral!A22","v":0},{"$f":"ClassementGenéral!B22","v":4},{"$f":"ClassementGenéral!C22","v":0},{"$f":"ClassementGenéral!D22","v":0},{"$f":"ClassementGenéral!E22","v":0},{"$f":"ClassementGenéral!F22","v":0},{"$f":"ClassementGenéral!G22","v":0},{"$f":"ClassementGenéral!H22","v":0},{"$f":"ClassementGenéral!I22","v":0}]
[{"$f":"ClassementGenéral!A23","v":0},{"$f":"ClassementGenéral!B23","v":5},{"$f":"ClassementGenéral!C23","v":0},{"$f":"ClassementGenéral!D23","v":0},{"$f":"ClassementGenéral!E23","v":0},{"$f":"ClassementGenéral!F23","v":0},{"$f":"ClassementGenéral!G23","v":0},{"$f":"ClassementGenéral!H23","v":0},{"$f":"ClassementGenéral!I23","v":0}]
[]
[]
[null,null,{"$f":"'2Cat'!A6","v":0},{"$f":"'2Cat'!A7","v":""}]
[null,null,{"$f":"'2Cat'!B8","v":0},{"$f":"'2Cat'!C8","v":0}]
[{"$f":"'2Cat'!A9","v":"2e"},"Caté",{"$f":"'2Cat'!B9","v":0},{"$f":"'2Cat'!C9","v":0}]
[{"$f":"ClassementGenéral!A81","v":"Place"},{"$f":"ClassementGenéral!B81","v":"Doss"},{"$f":"ClassementGenéral!C81","v":"Nom Prenom"},{"$f":"ClassementGenéral!D81","v":"Club"},{"$f":"ClassementGenéral!E81","v":"Sexe"},{"$f":"ClassementGenéral!F81","v":"Cat"},{"$f":"ClassementGenéral!G81","v":"Ecart"},{"$f":"ClassementGenéral!H81","v":"Dep"},{"$f":"ClassementGenéral!I81","v":"Fed"}]
[{"$f":"ClassementGenéral!A82","v":0},{"$f":"ClassementGenéral!B82","v":50},{"$f":"ClassementGenéral!C82","v":0},{"$f":"ClassementGenéral!D82","v":0},{"$f":"ClassementGenéral!E82","v":0},{"$f":"ClassementGenéral!F82","v":0},{"$f":"ClassementGenéral!G82","v":0},{"$f":"ClassementGenéral!H82","v":0},{"$f":"ClassementGenéral!I82","v":0}]
[{"$f":"ClassementGenéral!A83","v":0},{"$f":"ClassementGenéral!B83","v":51},{"$f":"ClassementGenéral!C83","v":0},{"$f":"ClassementGenéral!D83","v":0},{"$f":"ClassementGenéral!E83","v":0},{"$f":"ClassementGenéral!F83","v":0},{"$f":"ClassementGenéral!G83","v":0},{"$f":"ClassementGenéral!H83","v":0},{"$f":"ClassementGenéral!I83","v":0}]
[{"$f":"ClassementGenéral!A84","v":0},{"$f":"ClassementGenéral!B84","v":52},{"$f":"ClassementGenéral!C84","v":0},{"$f":"ClassementGenéral!D84","v":0},{"$f":"ClassementGenéral!E84","v":0},{"$f":"ClassementGenéral!F84","v":0},{"$f":"ClassementGenéral!G84","v":0},{"$f":"ClassementGenéral!H84","v":0},{"$f":"ClassementGenéral!I84","v":0}]
[{"$f":"ClassementGenéral!A85","v":0},{"$f":"ClassementGenéral!B85","v":53},{"$f":"ClassementGenéral!C85","v":0},{"$f":"ClassementGenéral!D85","v":0},{"$f":"ClassementGenéral!E85","v":0},{"$f":"ClassementGenéral!F85","v":0},{"$f":"ClassementGenéral!G85","v":0},{"$f":"ClassementGenéral!H85","v":0},{"$f":"ClassementGenéral!I85","v":0}]
[{"$f":"ClassementGenéral!A86","v":0},{"$f":"ClassementGenéral!B86","v":54},{"$f":"ClassementGenéral!C86","v":0},{"$f":"ClassementGenéral!D86","v":0},{"$f":"ClassementGenéral!E86","v":0},{"$f":"ClassementGenéral!F86","v":0},{"$f":"ClassementGenéral!G86","v":0},{"$f":"ClassementGenéral!H86","v":0},{"$f":"ClassementGenéral!I86","v":0}]
[]
[]
[null,null,{"$f":"'3Cat'!A6","v":0},{"$f":"'3Cat'!A7","v":""}]
[null,null,{"$f":"'3Cat'!B8","v":0},{"$f":"'3Cat'!C8","v":0}]
[{"$f":"'3Cat'!A9","v":"3e"},"Caté",{"$f":"'3Cat'!B9","v":0},{"$f":"'3Cat'!C9","v":0}]
[{"$f":"ClassementGenéral!A150","v":"Place"},{"$f":"ClassementGenéral!B150","v":"Doss"},{"$f":"ClassementGenéral!C150","v":"Nom Prenom"},{"$f":"ClassementGenéral!D150","v":"Club"},{"$f":"ClassementGenéral!E150","v":"Sexe"},{"$f":"ClassementGenéral!F150","v":"Cat"},"Cat Âge",{"$f":"ClassementGenéral!H150","v":"Dep"},{"$f":"ClassementGenéral!I150","v":"Fed"}]
[{"$f":"ClassementGenéral!A151","v":0},{"$f":"ClassementGenéral!B151","v":50},{"$f":"ClassementGenéral!C151","v":0},{"$f":"ClassementGenéral!D151","v":0},{"$f":"ClassementGenéral!E151","v":0},{"$f":"ClassementGenéral!F151","v":0},{"$f":"ClassementGenéral!G151","v":0},{"$f":"ClassementGenéral!H151","v":0},{"$f":"ClassementGenéral!I151","v":0}]
[{"$f":"ClassementGenéral!A152","v":0},{"$f":"ClassementGenéral!B152","v":51},{"$f":"ClassementGenéral!C152","v":0},{"$f":"ClassementGenéral!D152","v":0},{"$f":"ClassementGenéral!E152","v":0},{"$f":"ClassementGenéral!F152","v":0},{"$f":"ClassementGenéral!G152","v":0},{"$f":"ClassementGenéral!H152","v":0},{"$f":"ClassementGenéral!I152","v":0}]
[{"$f":"ClassementGenéral!A153","v":0},{"$f":"ClassementGenéral!B153","v":52},{"$f":"ClassementGenéral!C153","v":0},{"$f":"ClassementGenéral!D153","v":0},{"$f":"ClassementGenéral!E153","v":0},{"$f":"ClassementGenéral!F153","v":0},{"$f":"ClassementGenéral!G153","v":0},{"$f":"ClassementGenéral!H153","v":0},{"$f":"ClassementGenéral!I153","v":0}]
[{"$f":"ClassementGenéral!A154","v":0},{"$f":"ClassementGenéral!B154","v":53},{"$f":"ClassementGenéral!C154","v":0},{"$f":"ClassementGenéral!D154","v":0},{"$f":"ClassementGenéral!E154","v":0},{"$f":"ClassementGenéral!F154","v":0},{"$f":"ClassementGenéral!G154","v":0},{"$f":"ClassementGenéral!H154","v":0},{"$f":"ClassementGenéral!I154","v":0}]
[{"$f":"ClassementGenéral!A155","v":0},{"$f":"ClassementGenéral!B155","v":54},{"$f":"ClassementGenéral!C155","v":0},{"$f":"ClassementGenéral!D155","v":0},{"$f":"ClassementGenéral!E155","v":0},{"$f":"ClassementGenéral!F155","v":0},{"$f":"ClassementGenéral!G155","v":0},{"$f":"ClassementGenéral!H155","v":0},{"$f":"ClassementGenéral!I155","v":0}]
[{"$f":"ClassementGenéral!A213","v":0},{"$f":"ClassementGenéral!B213","v":0},{"$f":"ClassementGenéral!C213","v":0},{"$f":"ClassementGenéral!D213","v":0},{"$f":"ClassementGenéral!E213","v":0},{"$f":"ClassementGenéral!F213","v":0},{"$f":"ClassementGenéral!G213","v":"00:00:00"},{"$f":"ClassementGenéral!H213","v":0},{"$f":"ClassementGenéral!I213","v":0}]
[]
[null,null,{"$f":"'4Cat'!A6","v":0},{"$f":"'4Cat'!A7","v":""}]
[null,null,{"$f":"'4Cat'!B8","v":0},{"$f":"'4Cat'!C8","v":0}]
[{"$f":"'4Cat'!A9","v":"4e"},"Caté",{"$f":"'4Cat'!B9","v":0},{"$f":"'4Cat'!C9","v":0}]
[{"$f":"ClassementGenéral!A219","v":"Place"},{"$f":"ClassementGenéral!B219","v":"Doss"},{"$f":"ClassementGenéral!C219","v":"Nom Prénom"},{"$f":"ClassementGenéral!D219","v":"Club"},{"$f":"ClassementGenéral!E219","v":"Sexe"},{"$f":"ClassementGenéral!F219","v":"Cat"},"Cat Âge",{"$f":"ClassementGenéral!H219","v":"Dep"},{"$f":"ClassementGenéral!I219","v":"Fed"}]
[{"$f":"ClassementGenéral!A220","v":0},{"$f":"ClassementGenéral!B220","v":1},{"$f":"ClassementGenéral!C220","v":0},{"$f":"ClassementGenéral!D220","v":0},{"$f":"ClassementGenéral!E220","v":0},{"$f":"ClassementGenéral!F220","v":0},{"$f":"ClassementGenéral!G220","v":0},{"$f":"ClassementGenéral!H220","v":0},{"$f":"ClassementGenéral!I220","v":0}]
[{"$f":"ClassementGenéral!A221","v":0},{"$f":"ClassementGenéral!B221","v":2},{"$f":"ClassementGenéral!C221","v":0},{"$f":"ClassementGenéral!D221","v":0},{"$f":"ClassementGenéral!E221","v":0},{"$f":"ClassementGenéral!F221","v":0},{"$f":"ClassementGenéral!G221","v":0},{"$f":"ClassementGenéral!H221","v":0},{"$f":"ClassementGenéral!I221","v":0}]
[{"$f":"ClassementGenéral!A222","v":0},{"$f":"ClassementGenéral!B222","v":3},{"$f":"ClassementGenéral!C222","v":0},{"$f":"ClassementGenéral!D222","v":0},{"$f":"ClassementGenéral!E222","v":0},{"$f":"ClassementGenéral!F222","v":0},{"$f":"ClassementGenéral!G222","v":0},{"$f":"ClassementGenéral!H222","v":0},{"$f":"ClassementGenéral!I222","v":0}]
[{"$f":"ClassementGenéral!A223","v":0},{"$f":"ClassementGenéral!B223","v":4},{"$f":"ClassementGenéral!C223","v":0},{"$f":"ClassementGenéral!D223","v":0},{"$f":"ClassementGenéral!E223","v":0},{"$f":"ClassementGenéral!F223","v":0},{"$f":"ClassementGenéral!G223","v":0},{"$f":"ClassementGenéral!H223","v":0},{"$f":"ClassementGenéral!I223","v":0}]
[{"$f":"ClassementGenéral!A224","v":0},{"$f":"ClassementGenéral!B224","v":5},{"$f":"ClassementGenéral!C224","v":0},{"$f":"ClassementGenéral!D224","v":0},{"$f":"ClassementGenéral!E224","v":0},{"$f":"ClassementGenéral!F224","v":0},{"$f":"ClassementGenéral!G224","v":0},{"$f":"ClassementGenéral!H224","v":0},{"$f":"ClassementGenéral!I224","v":0}]
[]
[]
[null,null,{"$f":"FEM!A6","v":0},{"$f":"FEM!A7","v":""}]
[null,null,{"$f":"FEM!B8","v":0},{"$f":"FEM!C8","v":0}]
[{"$f":"FEM!A9","v":"FEM"},null,{"$f":"FEM!B9","v":0},{"$f":"FEM!C9","v":0}]
[{"$f":"ClassementGenéral!A293","v":"Place"},{"$f":"ClassementGenéral!B293","v":"Doss"},{"$f":"ClassementGenéral!C293","v":"Nom Prenom"},{"$f":"ClassementGenéral!D293","v":"Club"},{"$f":"ClassementGenéral!E293","v":"Sexe"},{"$f":"ClassementGenéral!F293","v":"Cat"},"Cat Âge",{"$f":"ClassementGenéral!H293","v":"Dep"},{"$f":"ClassementGenéral!I293","v":"Fed"}]
[{"$f":"ClassementGenéral!A294","v":0},{"$f":"ClassementGenéral!B294","v":120},{"$f":"ClassementGenéral!C294","v":0},{"$f":"ClassementGenéral!D294","v":0},{"$f":"ClassementGenéral!E294","v":0},{"$f":"ClassementGenéral!F294","v":0},{"$f":"ClassementGenéral!G294","v":0},{"$f":"ClassementGenéral!H294","v":0},{"$f":"ClassementGenéral!I294","v":0}]
[{"$f":"ClassementGenéral!A295","v":0},{"$f":"ClassementGenéral!B295","v":121},{"$f":"ClassementGenéral!C295","v":0},{"$f":"ClassementGenéral!D295","v":0},{"$f":"ClassementGenéral!E295","v":0},{"$f":"ClassementGenéral!F295","v":0},{"$f":"ClassementGenéral!G295","v":0},{"$f":"ClassementGenéral!H295","v":0},{"$f":"ClassementGenéral!I295","v":0}]
[{"$f":"ClassementGenéral!A296","v":0},{"$f":"ClassementGenéral!B296","v":122},{"$f":"ClassementGenéral!C296","v":0},{"$f":"ClassementGenéral!D296","v":0},{"$f":"ClassementGenéral!E296","v":0},{"$f":"ClassementGenéral!F296","v":0},{"$f":"ClassementGenéral!G296","v":0},{"$f":"ClassementGenéral!H296","v":0},{"$f":"ClassementGenéral!I296","v":0}]
[{"$f":"ClassementGenéral!A297","v":0},{"$f":"ClassementGenéral!B297","v":123},{"$f":"ClassementGenéral!C297","v":0},{"$f":"ClassementGenéral!D297","v":0},{"$f":"ClassementGenéral!E297","v":0},{"$f":"ClassementGenéral!F297","v":0},{"$f":"ClassementGenéral!G297","v":0},{"$f":"ClassementGenéral!H297","v":0},{"$f":"ClassementGenéral!I297","v":0}]
[{"$f":"ClassementGenéral!A298","v":0},{"$f":"ClassementGenéral!B298","v":124},{"$f":"ClassementGenéral!C298","v":0},{"$f":"ClassementGenéral!D298","v":0},{"$f":"ClassementGenéral!E298","v":0},{"$f":"ClassementGenéral!F298","v":0},{"$f":"ClassementGenéral!G298","v":0},{"$f":"ClassementGenéral!H298","v":0},{"$f":"ClassementGenéral!I298","v":0}]
[{"$f":"ClassementGenéral!A327","v":0},{"$f":"ClassementGenéral!B327","v":0},{"$f":"ClassementGenéral!C327","v":0},{"$f":"ClassementGenéral!D327","v":0},{"$f":"ClassementGenéral!E327","v":0},{"$f":"ClassementGenéral!F327","v":0},{"$f":"ClassementGenéral!G327","v":"00:00:00"},{"$f":"ClassementGenéral!H327","v":0},{"$f":"ClassementGenéral!I327","v":0}]
[]
[]
[]
[null,null,{"$f":"'15_16ans'!A6","v":0},{"$f":"'15_16ans'!A7","v":""}]
[null,null,{"$f":"'15_16ans'!B8","v":0},{"$f":"'15_16ans'!C8","v":0}]
[{"$f":"'15_16ans'!A9","v":"15 à 16 ans"},null,{"$f":"'15_16ans'!B9","v":0},{"$f":"'15_16ans'!C9","v":0}]
[{"$f":"ClassementGenéral!A332","v":"Place"},{"$f":"ClassementGenéral!B332","v":"Doss"},{"$f":"ClassementGenéral!C332","v":"Nom Prenom"},{"$f":"ClassementGenéral!D332","v":"Club"},{"$f":"ClassementGenéral!E332","v":"Sexe"},{"$f":"ClassementGenéral!F332","v":"Cat"},"Cat Âge",{"$f":"ClassementGenéral!H332","v":"Dep"},{"$f":"ClassementGenéral!I332","v":"Fed"}]
[{"$f":"ClassementGenéral!A333","v":0},{"$f":"ClassementGenéral!B333","v":120},{"$f":"ClassementGenéral!C333","v":0},{"$f":"ClassementGenéral!D333","v":0},{"$f":"ClassementGenéral!E333","v":0},{"$f":"ClassementGenéral!F333","v":0},{"$f":"ClassementGenéral!G333","v":0},{"$f":"ClassementGenéral!H333","v":0},{"$f":"ClassementGenéral!I333","v":0}]
[{"$f":"ClassementGenéral!A334","v":0},{"$f":"ClassementGenéral!B334","v":121},{"$f":"ClassementGenéral!C334","v":0},{"$f":"ClassementGenéral!D334","v":0},{"$f":"ClassementGenéral!E334","v":0},{"$f":"ClassementGenéral!F334","v":0},{"$f":"ClassementGenéral!G334","v":0},{"$f":"ClassementGenéral!H334","v":0},{"$f":"ClassementGenéral!I334","v":0}]
[{"$f":"ClassementGenéral!A335","v":0},{"$f":"ClassementGenéral!B335","v":122},{"$f":"ClassementGenéral!C335","v":0},{"$f":"ClassementGenéral!D335","v":0},{"$f":"ClassementGenéral!E335","v":0},{"$f":"ClassementGenéral!F335","v":0},{"$f":"ClassementGenéral!G335","v":0},{"$f":"ClassementGenéral!H335","v":0},{"$f":"ClassementGenéral!I335","v":0}]
[{"$f":"ClassementGenéral!A336","v":0},{"$f":"ClassementGenéral!B336","v":123},{"$f":"ClassementGenéral!C336","v":0},{"$f":"ClassementGenéral!D336","v":0},{"$f":"ClassementGenéral!E336","v":0},{"$f":"ClassementGenéral!F336","v":0},{"$f":"ClassementGenéral!G336","v":0},{"$f":"ClassementGenéral!H336","v":0},{"$f":"ClassementGenéral!I336","v":0}]
[{"$f":"ClassementGenéral!A337","v":0},{"$f":"ClassementGenéral!B337","v":124},{"$f":"ClassementGenéral!C337","v":0},{"$f":"ClassementGenéral!D337","v":0},{"$f":"ClassementGenéral!E337","v":0},{"$f":"ClassementGenéral!F337","v":0},{"$f":"ClassementGenéral!G337","v":0},{"$f":"ClassementGenéral!H337","v":0},{"$f":"ClassementGenéral!I337","v":0}]
[{"$f":"ClassementGenéral!A355","v":0},{"$f":"ClassementGenéral!B355","v":0},{"$f":"ClassementGenéral!C355","v":0},{"$f":"ClassementGenéral!D355","v":0},{"$f":"ClassementGenéral!E355","v":0},{"$f":"ClassementGenéral!F355","v":0},{"$f":"ClassementGenéral!G355","v":"00:00:00"},{"$f":"ClassementGenéral!H355","v":0},{"$f":"ClassementGenéral!I355","v":0}]
[]
[null,null,{"$f":"'13_14ans'!A6","v":0},{"$f":"'13_14ans'!A7","v":""}]
[null,null,{"$f":"'13_14ans'!B8","v":0},{"$f":"'13_14ans'!C8","v":0}]
[{"$f":"'13_14ans'!A9","v":"13  à 14 ans"},"Ans",{"$f":"'13_14ans'!B9","v":0},{"$f":"'13_14ans'!C9","v":0}]
[{"$f":"ClassementGenéral!A361","v":"Place"},{"$f":"ClassementGenéral!B361","v":"Doss"},{"$f":"ClassementGenéral!C361","v":"Nom Prenom"},{"$f":"ClassementGenéral!D361","v":"Club"},{"$f":"ClassementGenéral!E361","v":"Sexe"},{"$f":"ClassementGenéral!F361","v":"Cat"},"Cat Âge",{"$f":"ClassementGenéral!H361","v":"Dep"},{"$f":"ClassementGenéral!I361","v":"Fed"}]
[{"$f":"ClassementGenéral!A362","v":0},{"$f":"ClassementGenéral!B362","v":140},{"$f":"ClassementGenéral!C362","v":0},{"$f":"ClassementGenéral!D362","v":0},{"$f":"ClassementGenéral!E362","v":0},{"$f":"ClassementGenéral!F362","v":0},{"$f":"ClassementGenéral!G362","v":0},{"$f":"ClassementGenéral!H362","v":0},{"$f":"ClassementGenéral!I362","v":0}]
[{"$f":"ClassementGenéral!A363","v":0},{"$f":"ClassementGenéral!B363","v":141},{"$f":"ClassementGenéral!C363","v":0},{"$f":"ClassementGenéral!D363","v":0},{"$f":"ClassementGenéral!E363","v":0},{"$f":"ClassementGenéral!F363","v":0},{"$f":"ClassementGenéral!G363","v":0},{"$f":"ClassementGenéral!H363","v":0},{"$f":"ClassementGenéral!I363","v":0}]
[{"$f":"ClassementGenéral!A364","v":0},{"$f":"ClassementGenéral!B364","v":142},{"$f":"ClassementGenéral!C364","v":0},{"$f":"ClassementGenéral!D364","v":0},{"$f":"ClassementGenéral!E364","v":0},{"$f":"ClassementGenéral!F364","v":0},{"$f":"ClassementGenéral!G364","v":0},{"$f":"ClassementGenéral!H364","v":0},{"$f":"ClassementGenéral!I364","v":0}]
[{"$f":"ClassementGenéral!A365","v":0},{"$f":"ClassementGenéral!B365","v":143},{"$f":"ClassementGenéral!C365","v":0},{"$f":"ClassementGenéral!D365","v":0},{"$f":"ClassementGenéral!E365","v":0},{"$f":"ClassementGenéral!F365","v":0},{"$f":"ClassementGenéral!G365","v":0},{"$f":"ClassementGenéral!H365","v":0},{"$f":"ClassementGenéral!I365","v":0}]
[{"$f":"ClassementGenéral!A366","v":0},{"$f":"ClassementGenéral!B366","v":144},{"$f":"ClassementGenéral!C366","v":0},{"$f":"ClassementGenéral!D366","v":0},{"$f":"ClassementGenéral!E366","v":0},{"$f":"ClassementGenéral!F366","v":0},{"$f":"ClassementGenéral!G366","v":0},{"$f":"ClassementGenéral!H366","v":0},{"$f":"ClassementGenéral!I366","v":0}]
[{"$f":"ClassementGenéral!A395","v":0},{"$f":"ClassementGenéral!B395","v":0},{"$f":"ClassementGenéral!C395","v":0},{"$f":"ClassementGenéral!D395","v":0},{"$f":"ClassementGenéral!E395","v":0},{"$f":"ClassementGenéral!F395","v":0},{"$f":"ClassementGenéral!G395","v":"00:00:00"},{"$f":"ClassementGenéral!H395","v":0},{"$f":"ClassementGenéral!I395","v":0}]
[]
[null,null,{"$f":"'11_12ans'!A6","v":0},{"$f":"'11_12ans'!A7","v":""}]
[null,null,{"$f":"'11_12ans'!B8","v":0},{"$f":"'11_12ans'!C8","v":0}]
[{"$f":"'11_12ans'!A9","v":"11-12ans"},"Ans",{"$f":"'11_12ans'!B9","v":0},{"$f":"'11_12ans'!C9","v":0}]
[{"$f":"ClassementGenéral!A401","v":"Place"},{"$f":"ClassementGenéral!B401","v":"Doss"},{"$f":"ClassementGenéral!C401","v":"Nom Prenom"},{"$f":"ClassementGenéral!D401","v":"Club"},{"$f":"ClassementGenéral!E401","v":"Sexe"},{"$f":"ClassementGenéral!F401","v":"Cat"},"Cat Âge",{"$f":"ClassementGenéral!H401","v":"Dep"},{"$f":"ClassementGenéral!I401","v":"Fed"}]
[{"$f":"ClassementGenéral!A402","v":0},{"$f":"ClassementGenéral!B402","v":100},{"$f":"ClassementGenéral!C402","v":0},{"$f":"ClassementGenéral!D402","v":0},{"$f":"ClassementGenéral!E402","v":0},{"$f":"ClassementGenéral!F402","v":0},{"$f":"ClassementGenéral!G402","v":0},{"$f":"ClassementGenéral!H402","v":0},{"$f":"ClassementGenéral!I402","v":0}]
[{"$f":"ClassementGenéral!A403","v":0},{"$f":"ClassementGenéral!B403","v":101},{"$f":"ClassementGenéral!C403","v":0},{"$f":"ClassementGenéral!D403","v":0},{"$f":"ClassementGenéral!E403","v":0},{"$f":"ClassementGenéral!F403","v":0},{"$f":"ClassementGenéral!G403","v":0},{"$f":"ClassementGenéral!H403","v":0},{"$f":"ClassementGenéral!I403","v":0}]
[{"$f":"ClassementGenéral!A404","v":0},{"$f":"ClassementGenéral!B404","v":102},{"$f":"ClassementGenéral!C404","v":0},{"$f":"ClassementGenéral!D404","v":0},{"$f":"ClassementGenéral!E404","v":0},{"$f":"ClassementGenéral!F404","v":0},{"$f":"ClassementGenéral!G404","v":0},{"$f":"ClassementGenéral!H404","v":0},{"$f":"ClassementGenéral!I404","v":0}]
[{"$f":"ClassementGenéral!A405","v":0},{"$f":"ClassementGenéral!B405","v":103},{"$f":"ClassementGenéral!C405","v":0},{"$f":"ClassementGenéral!D405","v":0},{"$f":"ClassementGenéral!E405","v":0},{"$f":"ClassementGenéral!F405","v":0},{"$f":"ClassementGenéral!G405","v":0},{"$f":"ClassementGenéral!H405","v":0},{"$f":"ClassementGenéral!I405","v":0}]
[{"$f":"ClassementGenéral!A406","v":0},{"$f":"ClassementGenéral!B406","v":104},{"$f":"ClassementGenéral!C406","v":0},{"$f":"ClassementGenéral!D406","v":0},{"$f":"ClassementGenéral!E406","v":0},{"$f":"ClassementGenéral!F406","v":0},{"$f":"ClassementGenéral!G406","v":0},{"$f":"ClassementGenéral!H406","v":0},{"$f":"ClassementGenéral!I406","v":0}]
[]
[]
[null,null,{"$f":"'9_10ans'!A6","v":0},{"$f":"'9_10ans'!A7","v":""}]
[null,null,{"$f":"'9_10ans'!B8","v":0},{"$f":"'9_10ans'!C8","v":0}]
[{"$f":"'9_10ans'!A9","v":"9 à 10 ans"},"Ans",{"$f":"'9_10ans'!B9","v":0},{"$f":"'9_10ans'!C9","v":0}]
[{"$f":"ClassementGenéral!A439","v":"Place"},{"$f":"ClassementGenéral!B439","v":"Doss"},{"$f":"ClassementGenéral!C439","v":"Nom Prenom"},{"$f":"ClassementGenéral!D439","v":"Club"},{"$f":"ClassementGenéral!E439","v":"Sexe"},{"$f":"ClassementGenéral!F439","v":"Cat"},"Cat Âge",{"$f":"ClassementGenéral!H439","v":"Dep"},{"$f":"ClassementGenéral!I439","v":"Fed"}]
[{"$f":"ClassementGenéral!A440","v":0},{"$f":"ClassementGenéral!B440","v":1},{"$f":"ClassementGenéral!C440","v":0},{"$f":"ClassementGenéral!D440","v":0},{"$f":"ClassementGenéral!E440","v":0},{"$f":"ClassementGenéral!F440","v":0},{"$f":"ClassementGenéral!G440","v":0},{"$f":"ClassementGenéral!H440","v":0},{"$f":"ClassementGenéral!I440","v":0}]
[{"$f":"ClassementGenéral!A441","v":0},{"$f":"ClassementGenéral!B441","v":2},{"$f":"ClassementGenéral!C441","v":0},{"$f":"ClassementGenéral!D441","v":0},{"$f":"ClassementGenéral!E441","v":0},{"$f":"ClassementGenéral!F441","v":0},{"$f":"ClassementGenéral!G441","v":0},{"$f":"ClassementGenéral!H441","v":0},{"$f":"ClassementGenéral!I441","v":0}]
[{"$f":"ClassementGenéral!A442","v":0},{"$f":"ClassementGenéral!B442","v":3},{"$f":"ClassementGenéral!C442","v":0},{"$f":"ClassementGenéral!D442","v":0},{"$f":"ClassementGenéral!E442","v":0},{"$f":"ClassementGenéral!F442","v":0},{"$f":"ClassementGenéral!G442","v":0},{"$f":"ClassementGenéral!H442","v":0},{"$f":"ClassementGenéral!I442","v":0}]
[{"$f":"ClassementGenéral!A443","v":0},{"$f":"ClassementGenéral!B443","v":4},{"$f":"ClassementGenéral!C443","v":0},{"$f":"ClassementGenéral!D443","v":0},{"$f":"ClassementGenéral!E443","v":0},{"$f":"ClassementGenéral!F443","v":0},{"$f":"ClassementGenéral!G443","v":0},{"$f":"ClassementGenéral!H443","v":0},{"$f":"ClassementGenéral!I443","v":0}]
[{"$f":"ClassementGenéral!A444","v":0},{"$f":"ClassementGenéral!B444","v":5},{"$f":"ClassementGenéral!C444","v":0},{"$f":"ClassementGenéral!D444","v":0},{"$f":"ClassementGenéral!E444","v":0},{"$f":"ClassementGenéral!F444","v":0},{"$f":"ClassementGenéral!G444","v":0},{"$f":"ClassementGenéral!H444","v":0},{"$f":"ClassementGenéral!I444","v":0}]
[]
[]
[null,null,{"$f":"'6_8ans'!A6","v":0},{"$f":"'6_8ans'!A7","v":""}]
[null,null,{"$f":"'6_8ans'!B8","v":0},{"$f":"'6_8ans'!C8","v":0}]
[{"$f":"'6_8ans'!A9","v":"6-8 ans"},null,{"$f":"'6_8ans'!B9","v":0},{"$f":"'6_8ans'!C9","v":0}]
[{"$f":"ClassementGenéral!A477","v":"Place"},{"$f":"ClassementGenéral!B477","v":"Doss"},{"$f":"ClassementGenéral!C477","v":"Nom Prenom"},{"$f":"ClassementGenéral!D477","v":"Club"},{"$f":"ClassementGenéral!E477","v":"Sexe"},{"$f":"ClassementGenéral!F477","v":"Cat"},{"$f":"ClassementGenéral!G477","v":"Cat âge"},{"$f":"ClassementGenéral!H477","v":"Dep"},{"$f":"ClassementGenéral!I477","v":"Fed"}]
[{"$f":"ClassementGenéral!A478","v":0},{"$f":"ClassementGenéral!B478","v":50},{"$f":"ClassementGenéral!C478","v":0},{"$f":"ClassementGenéral!D478","v":0},{"$f":"ClassementGenéral!E478","v":0},{"$f":"ClassementGenéral!F478","v":0},{"$f":"ClassementGenéral!G478","v":0},{"$f":"ClassementGenéral!H478","v":0},{"$f":"ClassementGenéral!I478","v":0}]
[{"$f":"ClassementGenéral!A479","v":0},{"$f":"ClassementGenéral!B479","v":51},{"$f":"ClassementGenéral!C479","v":0},{"$f":"ClassementGenéral!D479","v":0},{"$f":"ClassementGenéral!E479","v":0},{"$f":"ClassementGenéral!F479","v":0},{"$f":"ClassementGenéral!G479","v":0},{"$f":"ClassementGenéral!H479","v":0},{"$f":"ClassementGenéral!I479","v":0}]
[{"$f":"ClassementGenéral!A480","v":0},{"$f":"ClassementGenéral!B480","v":52},{"$f":"ClassementGenéral!C480","v":0},{"$f":"ClassementGenéral!D480","v":0},{"$f":"ClassementGenéral!E480","v":0},{"$f":"ClassementGenéral!F480","v":0},{"$f":"ClassementGenéral!G480","v":0},{"$f":"ClassementGenéral!H480","v":0},{"$f":"ClassementGenéral!I480","v":0}]
[{"$f":"ClassementGenéral!A481","v":0},{"$f":"ClassementGenéral!B481","v":53},{"$f":"ClassementGenéral!C481","v":0},{"$f":"ClassementGenéral!D481","v":0},{"$f":"ClassementGenéral!E481","v":0},{"$f":"ClassementGenéral!F481","v":0},{"$f":"ClassementGenéral!G481","v":0},{"$f":"ClassementGenéral!H481","v":0},{"$f":"ClassementGenéral!I481","v":0}]
[{"$f":"ClassementGenéral!A482","v":0},{"$f":"ClassementGenéral!B482","v":54},{"$f":"ClassementGenéral!C482","v":0},{"$f":"ClassementGenéral!D482","v":0},{"$f":"ClassementGenéral!E482","v":0},{"$f":"ClassementGenéral!F482","v":0},{"$f":"ClassementGenéral!G482","v":0},{"$f":"ClassementGenéral!H482","v":0},{"$f":"ClassementGenéral!I482","v":0}]

{"sheet":"Impression","index":1,"n_rows":527,"n_cols":12,"rows_kept":527,"cut":false,"hidden":false,"merged":[[8,5,8,7],[9,5,9,7],[0,0,0,8],[1,0,1,8],[2,0,2,8],[3,0,3,8],[7,5,7,7],[0,9,16,15],[5,0,5,1],[6,0,6,1],[7,0,7,1],[8,0,8,1],[4,5,4,8],[9,0,9,1],[10,0,10,1],[11,0,11,1],[12,0,12,1],[4,0,4,2],[10,5,10,7],[11,5,11,7],[12,5,12,7],[5,5,5,7],[6,5,6,7]]}
[{"$f":"ClassementGenéral!A1","v":"UFOLEP"},null,null,null,null,null,null,null,null,"\n                        Dans cet onglet\n- Ne touchez qu'à la mise en page\n- Ne faites pas de modifications de données si modification il y a, les faire dans l'onglet de la catégorie.\n- Si toutes les données n'apparaisent pas, il faut augmenter le nb de lignes du tableau de la catégorie concernée en sélectionant la derniere ligne documentée et placer le pointeur de la sourie à droite de la sélection,  un + apparait \nClique gauche et descendez jusqu'à ce qu'il n' y ait plus de données à jouter. \nVous pouvez supprimer la derniere ligne vierge et les tableaux vides pour limiter la taille  en conservant la ligne bleue.\nPour terminer la mise en page, déplacer ci nécessaire les traits bleues délimitants les pages, vous aurez ainsi un tableau complet dans la même page.\nVous imprimer le fichier en pdf à diffuser à la CTD et au Webmaster\n\n"]
[{"$f":"ClassementGenéral!A2","v":"Prix de la municipalité de MIGENNES"}]
[{"$f":"ClassementGenéral!A3","v":"2025-06-29"}]
[{"$f":"ClassementGenéral!A4","v":"ASUCM "}]
[{"$f":"ClassementGenéral!A5","v":"Analyse épreuve"},null,null,{"$f":"ClassementGenéral!D5","v":"Compétiteurs inscrits "},null,{"$f":"ClassementGenéral!F5","v":"Licenciés Participants à l'épreuve"}]
[{"$f":"ClassementGenéral!A6","v":0},null,{"$f":"ClassementGenéral!C6","v":"Vitesse moyenne"},{"$f":"ClassementGenéral!D6","v":"Licenciés UFOLEP "},{"$f":"ClassementGenéral!E6","v":0},{"$f":"ClassementGenéral!F6","v":"Icaunais toutes Fédérations"},null,null,{"$f":"ClassementGenéral!I6","v":0}]
[{"$f":"ClassementGenéral!A7","v":0},null,{"$f":"ClassementGenéral!C7","v":""},{"$f":"ClassementGenéral!D7","v":"Licenciés Autres Fédérations"},{"$f":"ClassementGenéral!E7","v":0},{"$f":"ClassementGenéral!F7","v":"FFC 89"},null,null,{"$f":"ClassementGenéral!I7","v":0}]
[{"$f":"ClassementGenéral!A8","v":0},null,{"$f":"ClassementGenéral!C8","v":" "},{"$f":"ClassementGenéral!D8","v":"FEMININES Ttes catégories confondues"},{"$f":"ClassementGenéral!E8","v":0},{"$f":"ClassementGenéral!F8","v":"FSGT"},null,null,{"$f":"ClassementGenéral!I8","v":0}]
[{"$f":"ClassementGenéral!A9","v":0},null,{"$f":"ClassementGenéral!C9","v":" "},{"$f":"ClassementGenéral!D9","v":"Jeunes 15/16 ans"},{"$f":"ClassementGenéral!E9","v":0},{"$f":"ClassementGenéral!F9","v":"Ufolep 89"},null,null,{"$f":"ClassementGenéral!I9","v":0}]
[{"$f":"ClassementGenéral!A10","v":0},null,{"$f":"ClassementGenéral!C10","v":" "},{"$f":"ClassementGenéral!D10","v":"Jeunes 13/14 ans"},{"$f":"ClassementGenéral!E10","v":0},{"$f":"ClassementGenéral!F10","v":"Ufolep autres dep"},null,null,{"$f":"ClassementGenéral!I10","v":0}]
[{"$f":"ClassementGenéral!A11","v":0},null,{"$f":"ClassementGenéral!C11","v":" "},{"$f":"ClassementGenéral!D11","v":"INITIATION 11/12 ans"},{"$f":"ClassementGenéral!E11","v":0},{"$f":"ClassementGenéral!F11","v":"Global UFOLEP"},null,null,{"$f":"ClassementGenéral!I11","v":0}]
[{"$f":"ClassementGenéral!A12","v":0},null,{"$f":"ClassementGenéral!C12","v":" "},{"$f":"ClassementGenéral!D12","v":"INITIATION  9/10 ans"},{"$f":"ClassementGenéral!E12","v":0},{"$f":"ClassementGenéral!F12","v":"Global Autres Fédérations"},null,null,{"$f":"ClassementGenéral!I12","v":0}]
[{"$f":"ClassementGenéral!A13","v":0},null,{"$f":"ClassementGenéral!C13","v":" "},{"$f":"ClassementGenéral!D13","v":"INITIATION  6/8ans"},{"$f":"ClassementGenéral!E13","v":0},{"$f":"ClassementGenéral!F13","v":"Autres départements"},null,null,{"$f":"ClassementGenéral!I13","v":0}]
[]
[]
[null,null,{"$f":"'1Cat'!A6","v":0},{"$f":"'1Cat'!A7","v":""}]
[null,null,{"$f":"'1Cat'!B8","v":0},{"$f":"'1Cat'!C8","v":0}]
[{"$f":"ClassementGenéral!A17","v":"1e"},"Catégorie",{"$f":"'1Cat'!B9","v":0},{"$f":"'1Cat'!C9","v":0}]
[{"$f":"ClassementGenéral!A18","v":"Place"},{"$f":"ClassementGenéral!B18","v":"Doss"},{"$f":"ClassementGenéral!C18","v":"Nom Prenom"},{"$f":"ClassementGenéral!D18","v":"Club"},{"$f":"ClassementGenéral!E18","v":"Sexe"},{"$f":"ClassementGenéral!F18","v":"Cat"},{"$f":"ClassementGenéral!G18","v":"Ecart"},{"$f":"ClassementGenéral!H18","v":"Dep"},{"$f":"ClassementGenéral!I18","v":"Fed"}]
[{"$f":"ClassementGenéral!A19","v":0},{"$f":"ClassementGenéral!B19","v":1},{"$f":"ClassementGenéral!C19","v":0},{"$f":"ClassementGenéral!D19","v":0},{"$f":"ClassementGenéral!E19","v":0},{"$f":"ClassementGenéral!F19","v":0},{"$f":"ClassementGenéral!G19","v":0},{"$f":"ClassementGenéral!H19","v":0},{"$f":"ClassementGenéral!I19","v":0},null,null," "]
[{"$f":"ClassementGenéral!A20","v":0},{"$f":"ClassementGenéral!B20","v":2},{"$f":"ClassementGenéral!C20","v":0},{"$f":"ClassementGenéral!D20","v":0},{"$f":"ClassementGenéral!E20","v":0},{"$f":"ClassementGenéral!F20","v":0},{"$f":"ClassementGenéral!G20","v":0},{"$f":"ClassementGenéral!H20","v":0},{"$f":"ClassementGenéral!I20","v":0}]
[{"$f":"ClassementGenéral!A21","v":0},{"$f":"ClassementGenéral!B21","v":3},{"$f":"ClassementGenéral!C21","v":0},{"$f":"ClassementGenéral!D21","v":0},{"$f":"ClassementGenéral!E21","v":0},{"$f":"ClassementGenéral!F21","v":0},{"$f":"ClassementGenéral!G21","v":0},{"$f":"ClassementGenéral!H21","v":0},{"$f":"ClassementGenéral!I21","v":0}]
[{"$f":"ClassementGenéral!A22","v":0},{"$f":"ClassementGenéral!B22","v":4},{"$f":"ClassementGenéral!C22","v":0},{"$f":"ClassementGenéral!D22","v":0},{"$f":"ClassementGenéral!E22","v":0},{"$f":"ClassementGenéral!F22","v":0},{"$f":"ClassementGenéral!G22","v":0},{"$f":"ClassementGenéral!H22","v":0},{"$f":"ClassementGenéral!I22","v":0}]
[{"$f":"ClassementGenéral!A23","v":0},{"$f":"ClassementGenéral!B23","v":5},{"$f":"ClassementGenéral!C23","v":0},{"$f":"ClassementGenéral!D23","v":0},{"$f":"ClassementGenéral!E23","v":0},{"$f":"ClassementGenéral!F23","v":0},{"$f":"ClassementGenéral!G23","v":0},{"$f":"ClassementGenéral!H23","v":0},{"$f":"ClassementGenéral!I23","v":0}]
[{"$f":"ClassementGenéral!A24","v":0},{"$f":"ClassementGenéral!B24","v":6},{"$f":"ClassementGenéral!C24","v":0},{"$f":"ClassementGenéral!D24","v":0},{"$f":"ClassementGenéral!E24","v":0},{"$f":"ClassementGenéral!F24","v":0},{"$f":"ClassementGenéral!G24","v":0},{"$f":"ClassementGenéral!H24","v":0},{"$f":"ClassementGenéral!I24","v":0}]
[{"$f":"ClassementGenéral!A25","v":0},{"$f":"ClassementGenéral!B25","v":7},{"$f":"ClassementGenéral!C25","v":0},{"$f":"ClassementGenéral!D25","v":0},{"$f":"ClassementGenéral!E25","v":0},{"$f":"ClassementGenéral!F25","v":0},{"$f":"ClassementGenéral!G25","v":0},{"$f":"ClassementGenéral!H25","v":0},{"$f":"ClassementGenéral!I25","v":0}]
[{"$f":"ClassementGenéral!A26","v":0},{"$f":"ClassementGenéral!B26","v":8},{"$f":"ClassementGenéral!C26","v":0},{"$f":"ClassementGenéral!D26","v":0},{"$f":"ClassementGenéral!E26","v":0},{"$f":"ClassementGenéral!F26","v":0},{"$f":"ClassementGenéral!G26","v":0},{"$f":"ClassementGenéral!H26","v":0},{"$f":"ClassementGenéral!I26","v":0}]
[{"$f":"ClassementGenéral!A27","v":0},{"$f":"ClassementGenéral!B27","v":9},{"$f":"ClassementGenéral!C27","v":0},{"$f":"ClassementGenéral!D27","v":0},{"$f":"ClassementGenéral!E27","v":0},{"$f":"ClassementGenéral!F27","v":0},{"$f":"ClassementGenéral!G27","v":0},{"$f":"ClassementGenéral!H27","v":0},{"$f":"ClassementGenéral!I27","v":0}]
[{"$f":"ClassementGenéral!A28","v":0},{"$f":"ClassementGenéral!B28","v":10},{"$f":"ClassementGenéral!C28","v":0},{"$f":"ClassementGenéral!D28","v":0},{"$f":"ClassementGenéral!E28","v":0},{"$f":"ClassementGenéral!F28","v":0},{"$f":"ClassementGenéral!G28","v":0},{"$f":"ClassementGenéral!H28","v":0},{"$f":"ClassementGenéral!I28","v":0}]
[{"$f":"ClassementGenéral!A29","v":0},{"$f":"ClassementGenéral!B29","v":11},{"$f":"ClassementGenéral!C29","v":0},{"$f":"ClassementGenéral!D29","v":0},{"$f":"ClassementGenéral!E29","v":0},{"$f":"ClassementGenéral!F29","v":0},{"$f":"ClassementGenéral!G29","v":0},{"$f":"ClassementGenéral!H29","v":0},{"$f":"ClassementGenéral!I29","v":0}]
[{"$f":"ClassementGenéral!A30","v":0},{"$f":"ClassementGenéral!B30","v":12},{"$f":"ClassementGenéral!C30","v":0},{"$f":"ClassementGenéral!D30","v":0},{"$f":"ClassementGenéral!E30","v":0},{"$f":"ClassementGenéral!F30","v":0},{"$f":"ClassementGenéral!G30","v":0},{"$f":"ClassementGenéral!H30","v":0},{"$f":"ClassementGenéral!I30","v":0}]
[{"$f":"ClassementGenéral!A31","v":0},{"$f":"ClassementGenéral!B31","v":13},{"$f":"ClassementGenéral!C31","v":0},{"$f":"ClassementGenéral!D31","v":0},{"$f":"ClassementGenéral!E31","v":0},{"$f":"ClassementGenéral!F31","v":0},{"$f":"ClassementGenéral!G31","v":0},{"$f":"ClassementGenéral!H31","v":0},{"$f":"ClassementGenéral!I31","v":0}]
[{"$f":"ClassementGenéral!A32","v":0},{"$f":"ClassementGenéral!B32","v":14},{"$f":"ClassementGenéral!C32","v":0},{"$f":"ClassementGenéral!D32","v":0},{"$f":"ClassementGenéral!E32","v":0},{"$f":"ClassementGenéral!F32","v":0},{"$f":"ClassementGenéral!G32","v":0},{"$f":"ClassementGenéral!H32","v":0},{"$f":"ClassementGenéral!I32","v":0}]
[{"$f":"ClassementGenéral!A33","v":0},{"$f":"ClassementGenéral!B33","v":15},{"$f":"ClassementGenéral!C33","v":0},{"$f":"ClassementGenéral!D33","v":0},{"$f":"ClassementGenéral!E33","v":0},{"$f":"ClassementGenéral!F33","v":0},{"$f":"ClassementGenéral!G33","v":0},{"$f":"ClassementGenéral!H33","v":0},{"$f":"ClassementGenéral!I33","v":0}]
[{"$f":"ClassementGenéral!A34","v":0},{"$f":"ClassementGenéral!B34","v":16},{"$f":"ClassementGenéral!C34","v":0},{"$f":"ClassementGenéral!D34","v":0},{"$f":"ClassementGenéral!E34","v":0},{"$f":"ClassementGenéral!F34","v":0},{"$f":"ClassementGenéral!G34","v":0},{"$f":"ClassementGenéral!H34","v":0},{"$f":"ClassementGenéral!I34","v":0}]
[{"$f":"ClassementGenéral!A35","v":0},{"$f":"ClassementGenéral!B35","v":17},{"$f":"ClassementGenéral!C35","v":0},{"$f":"ClassementGenéral!D35","v":0},{"$f":"ClassementGenéral!E35","v":0},{"$f":"ClassementGenéral!F35","v":0},{"$f":"ClassementGenéral!G35","v":0},{"$f":"ClassementGenéral!H35","v":0},{"$f":"ClassementGenéral!I35","v":0}]
[{"$f":"ClassementGenéral!A36","v":0},{"$f":"ClassementGenéral!B36","v":18},{"$f":"ClassementGenéral!C36","v":0},{"$f":"ClassementGenéral!D36","v":0},{"$f":"ClassementGenéral!E36","v":0},{"$f":"ClassementGenéral!F36","v":0},{"$f":"ClassementGenéral!G36","v":0},{"$f":"ClassementGenéral!H36","v":0},{"$f":"ClassementGenéral!I36","v":0}]
[{"$f":"ClassementGenéral!A37","v":0},{"$f":"ClassementGenéral!B37","v":19},{"$f":"ClassementGenéral!C37","v":0},{"$f":"ClassementGenéral!D37","v":0},{"$f":"ClassementGenéral!E37","v":0},{"$f":"ClassementGenéral!F37","v":0},{"$f":"ClassementGenéral!G37","v":0},{"$f":"ClassementGenéral!H37","v":0},{"$f":"ClassementGenéral!I37","v":0}]
[{"$f":"ClassementGenéral!A38","v":0},{"$f":"ClassementGenéral!B38","v":20},{"$f":"ClassementGenéral!C38","v":0},{"$f":"ClassementGenéral!D38","v":0},{"$f":"ClassementGenéral!E38","v":0},{"$f":"ClassementGenéral!F38","v":0},{"$f":"ClassementGenéral!G38","v":0},{"$f":"ClassementGenéral!H38","v":0},{"$f":"ClassementGenéral!I38","v":0}]
[{"$f":"ClassementGenéral!A39","v":0},{"$f":"ClassementGenéral!B39","v":21},{"$f":"ClassementGenéral!C39","v":0},{"$f":"ClassementGenéral!D39","v":0},{"$f":"ClassementGenéral!E39","v":0},{"$f":"ClassementGenéral!F39","v":0},{"$f":"ClassementGenéral!G39","v":0},{"$f":"ClassementGenéral!H39","v":0},{"$f":"ClassementGenéral!I39","v":0}]
[{"$f":"ClassementGenéral!A40","v":0},{"$f":"ClassementGenéral!B40","v":22},{"$f":"ClassementGenéral!C40","v":0},{"$f":"ClassementGenéral!D40","v":0},{"$f":"ClassementGenéral!E40","v":0},{"$f":"ClassementGenéral!F40","v":0},{"$f":"ClassementGenéral!G40","v":0},{"$f":"ClassementGenéral!H40","v":0},{"$f":"ClassementGenéral!I40","v":0}]
[{"$f":"ClassementGenéral!A41","v":0},{"$f":"ClassementGenéral!B41","v":23},{"$f":"ClassementGenéral!C41","v":0},{"$f":"ClassementGenéral!D41","v":0},{"$f":"ClassementGenéral!E41","v":0},{"$f":"ClassementGenéral!F41","v":0},{"$f":"ClassementGenéral!G41","v":0},{"$f":"ClassementGenéral!H41","v":0},{"$f":"ClassementGenéral!I41","v":0}]
[{"$f":"ClassementGenéral!A42","v":0},{"$f":"ClassementGenéral!B42","v":24},{"$f":"ClassementGenéral!C42","v":0},{"$f":"ClassementGenéral!D42","v":0},{"$f":"ClassementGenéral!E42","v":0},{"$f":"ClassementGenéral!F42","v":0},{"$f":"ClassementGenéral!G42","v":0},{"$f":"ClassementGenéral!H42","v":0},{"$f":"ClassementGenéral!I42","v":0}]
[{"$f":"ClassementGenéral!A43","v":0},{"$f":"ClassementGenéral!B43","v":25},{"$f":"ClassementGenéral!C43","v":0},{"$f":"ClassementGenéral!D43","v":0},{"$f":"ClassementGenéral!E43","v":0},{"$f":"ClassementGenéral!F43","v":0},{"$f":"ClassementGenéral!G43","v":0},{"$f":"ClassementGenéral!H43","v":0},{"$f":"ClassementGenéral!I43","v":0}]
[{"$f":"ClassementGenéral!A44","v":0},{"$f":"ClassementGenéral!B44","v":26},{"$f":"ClassementGenéral!C44","v":0},{"$f":"ClassementGenéral!D44","v":0},{"$f":"ClassementGenéral!E44","v":0},{"$f":"ClassementGenéral!F44","v":0},{"$f":"ClassementGenéral!G44","v":0},{"$f":"ClassementGenéral!H44","v":0},{"$f":"ClassementGenéral!I44","v":0}]
[{"$f":"ClassementGenéral!A45","v":0},{"$f":"ClassementGenéral!B45","v":27},{"$f":"ClassementGenéral!C45","v":0},{"$f":"ClassementGenéral!D45","v":0},{"$f":"ClassementGenéral!E45","v":0},{"$f":"ClassementGenéral!F45","v":0},{"$f":"ClassementGenéral!G45","v":0},{"$f":"ClassementGenéral!H45","v":0},{"$f":"ClassementGenéral!I45","v":0}]
[{"$f":"ClassementGenéral!A46","v":0},{"$f":"ClassementGenéral!B46","v":28},{"$f":"ClassementGenéral!C46","v":0},{"$f":"ClassementGenéral!D46","v":0},{"$f":"ClassementGenéral!E46","v":0},{"$f":"ClassementGenéral!F46","v":0},{"$f":"ClassementGenéral!G46","v":0},{"$f":"ClassementGenéral!H46","v":0},{"$f":"ClassementGenéral!I46","v":0}]
[{"$f":"ClassementGenéral!A47","v":0},{"$f":"ClassementGenéral!B47","v":29},{"$f":"ClassementGenéral!C47","v":0},{"$f":"ClassementGenéral!D47","v":0},{"$f":"ClassementGenéral!E47","v":0},{"$f":"ClassementGenéral!F47","v":0},{"$f":"ClassementGenéral!G47","v":0},{"$f":"ClassementGenéral!H47","v":0},{"$f":"ClassementGenéral!I47","v":0}]
[{"$f":"ClassementGenéral!A48","v":0},{"$f":"ClassementGenéral!B48","v":30},{"$f":"ClassementGenéral!C48","v":0},{"$f":"ClassementGenéral!D48","v":0},{"$f":"ClassementGenéral!E48","v":0},{"$f":"ClassementGenéral!F48","v":0},{"$f":"ClassementGenéral!G48","v":0},{"$f":"ClassementGenéral!H48","v":0},{"$f":"ClassementGenéral!I48","v":0}]
[{"$f":"ClassementGenéral!A49","v":0},{"$f":"ClassementGenéral!B49","v":31},{"$f":"ClassementGenéral!C49","v":0},{"$f":"ClassementGenéral!D49","v":0},{"$f":"ClassementGenéral!E49","v":0},{"$f":"ClassementGenéral!F49","v":0},{"$f":"ClassementGenéral!G49","v":0},{"$f":"ClassementGenéral!H49","v":0},{"$f":"ClassementGenéral!I49","v":0}]
[{"$f":"ClassementGenéral!A50","v":0},{"$f":"ClassementGenéral!B50","v":32},{"$f":"ClassementGenéral!C50","v":0},{"$f":"ClassementGenéral!D50","v":0},{"$f":"ClassementGenéral!E50","v":0},{"$f":"ClassementGenéral!F50","v":0},{"$f":"ClassementGenéral!G50","v":0},{"$f":"ClassementGenéral!H50","v":0},{"$f":"ClassementGenéral!I50","v":0}]
[{"$f":"ClassementGenéral!A51","v":0},{"$f":"ClassementGenéral!B51","v":33},{"$f":"ClassementGenéral!C51","v":0},{"$f":"ClassementGenéral!D51","v":0},{"$f":"ClassementGenéral!E51","v":0},{"$f":"ClassementGenéral!F51","v":0},{"$f":"ClassementGenéral!G51","v":0},{"$f":"ClassementGenéral!H51","v":0},{"$f":"ClassementGenéral!I51","v":0}]
[{"$f":"ClassementGenéral!A52","v":0},{"$f":"ClassementGenéral!B52","v":34},{"$f":"ClassementGenéral!C52","v":0},{"$f":"ClassementGenéral!D52","v":0},{"$f":"ClassementGenéral!E52","v":0},{"$f":"ClassementGenéral!F52","v":0},{"$f":"ClassementGenéral!G52","v":0},{"$f":"ClassementGenéral!H52","v":0},{"$f":"ClassementGenéral!I52","v":0}]
[{"$f":"ClassementGenéral!A53","v":0},{"$f":"ClassementGenéral!B53","v":35},{"$f":"ClassementGenéral!C53","v":0},{"$f":"ClassementGenéral!D53","v":0},{"$f":"ClassementGenéral!E53","v":0},{"$f":"ClassementGenéral!F53","v":0},{"$f":"ClassementGenéral!G53","v":0},{"$f":"ClassementGenéral!H53","v":0},{"$f":"ClassementGenéral!I53","v":0}]
[{"$f":"ClassementGenéral!A54","v":0},{"$f":"ClassementGenéral!B54","v":36},{"$f":"ClassementGenéral!C54","v":0},{"$f":"ClassementGenéral!D54","v":0},{"$f":"ClassementGenéral!E54","v":0},{"$f":"ClassementGenéral!F54","v":0},{"$f":"ClassementGenéral!G54","v":0},{"$f":"ClassementGenéral!H54","v":0},{"$f":"ClassementGenéral!I54","v":0}]
[{"$f":"ClassementGenéral!A55","v":0},{"$f":"ClassementGenéral!B55","v":37},{"$f":"ClassementGenéral!C55","v":0},{"$f":"ClassementGenéral!D55","v":0},{"$f":"ClassementGenéral!E55","v":0},{"$f":"ClassementGenéral!F55","v":0},{"$f":"ClassementGenéral!G55","v":0},{"$f":"ClassementGenéral!H55","v":0},{"$f":"ClassementGenéral!I55","v":0}]
[{"$f":"ClassementGenéral!A56","v":0},{"$f":"ClassementGenéral!B56","v":38},{"$f":"ClassementGenéral!C56","v":0},{"$f":"ClassementGenéral!D56","v":0},{"$f":"ClassementGenéral!E56","v":0},{"$f":"ClassementGenéral!F56","v":0},{"$f":"ClassementGenéral!G56","v":0},{"$f":"ClassementGenéral!H56","v":0},{"$f":"ClassementGenéral!I56","v":0}]
[{"$f":"ClassementGenéral!A57","v":0},{"$f":"ClassementGenéral!B57","v":39},{"$f":"ClassementGenéral!C57","v":0},{"$f":"ClassementGenéral!D57","v":0},{"$f":"ClassementGenéral!E57","v":0},{"$f":"ClassementGenéral!F57","v":0},{"$f":"ClassementGenéral!G57","v":0},{"$f":"ClassementGenéral!H57","v":0},{"$f":"ClassementGenéral!I57","v":0}]
[{"$f":"ClassementGenéral!A58","v":0},{"$f":"ClassementGenéral!B58","v":40},{"$f":"ClassementGenéral!C58","v":0},{"$f":"ClassementGenéral!D58","v":0},{"$f":"ClassementGenéral!E58","v":0},{"$f":"ClassementGenéral!F58","v":0},{"$f":"ClassementGenéral!G58","v":0},{"$f":"ClassementGenéral!H58","v":0},{"$f":"ClassementGenéral!I58","v":0}]
[{"$f":"ClassementGenéral!A59","v":0},{"$f":"ClassementGenéral!B59","v":41},{"$f":"ClassementGenéral!C59","v":0},{"$f":"ClassementGenéral!D59","v":0},{"$f":"ClassementGenéral!E59","v":0},{"$f":"ClassementGenéral!F59","v":0},{"$f":"ClassementGenéral!G59","v":0},{"$f":"ClassementGenéral!H59","v":0},{"$f":"ClassementGenéral!I59","v":0}]
[{"$f":"ClassementGenéral!A60","v":0},{"$f":"ClassementGenéral!B60","v":42},{"$f":"ClassementGenéral!C60","v":0},{"$f":"ClassementGenéral!D60","v":0},{"$f":"ClassementGenéral!E60","v":0},{"$f":"ClassementGenéral!F60","v":0},{"$f":"ClassementGenéral!G60","v":0},{"$f":"ClassementGenéral!H60","v":0},{"$f":"ClassementGenéral!I60","v":0}]
[{"$f":"ClassementGenéral!A61","v":0},{"$f":"ClassementGenéral!B61","v":43},{"$f":"ClassementGenéral!C61","v":0},{"$f":"ClassementGenéral!D61","v":0},{"$f":"ClassementGenéral!E61","v":0},{"$f":"ClassementGenéral!F61","v":0},{"$f":"ClassementGenéral!G61","v":0},{"$f":"ClassementGenéral!H61","v":0},{"$f":"ClassementGenéral!I61","v":0}]
[{"$f":"ClassementGenéral!A62","v":0},{"$f":"ClassementGenéral!B62","v":44},{"$f":"ClassementGenéral!C62","v":0},{"$f":"ClassementGenéral!D62","v":0},{"$f":"ClassementGenéral!E62","v":0},{"$f":"ClassementGenéral!F62","v":0},{"$f":"ClassementGenéral!G62","v":0},{"$f":"ClassementGenéral!H62","v":0},{"$f":"ClassementGenéral!I62","v":0}]
[{"$f":"ClassementGenéral!A63","v":0},{"$f":"ClassementGenéral!B63","v":45},{"$f":"ClassementGenéral!C63","v":0},{"$f":"ClassementGenéral!D63","v":0},{"$f":"ClassementGenéral!E63","v":0},{"$f":"ClassementGenéral!F63","v":0},{"$f":"ClassementGenéral!G63","v":0},{"$f":"ClassementGenéral!H63","v":0},{"$f":"ClassementGenéral!I63","v":0}]
[{"$f":"ClassementGenéral!A64","v":0},{"$f":"ClassementGenéral!B64","v":46},{"$f":"ClassementGenéral!C64","v":0},{"$f":"ClassementGenéral!D64","v":0},{"$f":"ClassementGenéral!E64","v":0},{"$f":"ClassementGenéral!F64","v":0},{"$f":"ClassementGenéral!G64","v":0},{"$f":"ClassementGenéral!H64","v":0},{"$f":"ClassementGenéral!I64","v":0}]
[{"$f":"ClassementGenéral!A65","v":0},{"$f":"ClassementGenéral!B65","v":47},{"$f":"ClassementGenéral!C65","v":0},{"$f":"ClassementGenéral!D65","v":0},{"$f":"ClassementGenéral!E65","v":0},{"$f":"ClassementGenéral!F65","v":0},{"$f":"ClassementGenéral!G65","v":0},{"$f":"ClassementGenéral!H65","v":0},{"$f":"ClassementGenéral!I65","v":0}]
[{"$f":"ClassementGenéral!A66","v":0},{"$f":"ClassementGenéral!B66","v":48},{"$f":"ClassementGenéral!C66","v":0},{"$f":"ClassementGenéral!D66","v":0},{"$f":"ClassementGenéral!E66","v":0},{"$f":"ClassementGenéral!F66","v":0},{"$f":"ClassementGenéral!G66","v":0},{"$f":"ClassementGenéral!H66","v":0},{"$f":"ClassementGenéral!I66","v":0}]
[{"$f":"ClassementGenéral!A67","v":0},{"$f":"ClassementGenéral!B67","v":49},{"$f":"ClassementGenéral!C67","v":0},{"$f":"ClassementGenéral!D67","v":0},{"$f":"ClassementGenéral!E67","v":0},{"$f":"ClassementGenéral!F67","v":0},{"$f":"ClassementGenéral!G67","v":0},{"$f":"ClassementGenéral!H67","v":0},{"$f":"ClassementGenéral!I67","v":0}]
[{"$f":"ClassementGenéral!A68","v":0},{"$f":"ClassementGenéral!B68","v":0},{"$f":"ClassementGenéral!C68","v":0},{"$f":"ClassementGenéral!D68","v":0},{"$f":"ClassementGenéral!E68","v":0},{"$f":"ClassementGenéral!F68","v":0},{"$f":"ClassementGenéral!G68","v":0},{"$f":"ClassementGenéral!H68","v":0},{"$f":"ClassementGenéral!I68","v":0}]
[{"$f":"ClassementGenéral!A69","v":0},{"$f":"ClassementGenéral!B69","v":0},{"$f":"ClassementGenéral!C69","v":0},{"$f":"ClassementGenéral!D69","v":0},{"$f":"ClassementGenéral!E69","v":0},{"$f":"ClassementGenéral!F69","v":0},{"$f":"ClassementGenéral!G69","v":0},{"$f":"ClassementGenéral!H69","v":0},{"$f":"ClassementGenéral!I69","v":0}]
[{"$f":"ClassementGenéral!A70","v":0},{"$f":"ClassementGenéral!B70","v":0},{"$f":"ClassementGenéral!C70","v":0},{"$f":"ClassementGenéral!D70","v":0},{"$f":"ClassementGenéral!E70","v":0},{"$f":"ClassementGenéral!F70","v":0},{"$f":"ClassementGenéral!G70","v":0},{"$f":"ClassementGenéral!H70","v":0},{"$f":"ClassementGenéral!I70","v":0}]
[{"$f":"ClassementGenéral!A71","v":0},{"$f":"ClassementGenéral!B71","v":0},{"$f":"ClassementGenéral!C71","v":0},{"$f":"ClassementGenéral!D71","v":0},{"$f":"ClassementGenéral!E71","v":0},{"$f":"ClassementGenéral!F71","v":0},{"$f":"ClassementGenéral!G71","v":0},{"$f":"ClassementGenéral!H71","v":0},{"$f":"ClassementGenéral!I71","v":0}]
[{"$f":"ClassementGenéral!A72","v":0},{"$f":"ClassementGenéral!B72","v":0},{"$f":"ClassementGenéral!C72","v":0},{"$f":"ClassementGenéral!D72","v":0},{"$f":"ClassementGenéral!E72","v":0},{"$f":"ClassementGenéral!F72","v":0},{"$f":"ClassementGenéral!G72","v":0},{"$f":"ClassementGenéral!H72","v":0},{"$f":"ClassementGenéral!I72","v":0}]
[{"$f":"ClassementGenéral!A73","v":0},{"$f":"ClassementGenéral!B73","v":0},{"$f":"ClassementGenéral!C73","v":0},{"$f":"ClassementGenéral!D73","v":0},{"$f":"ClassementGenéral!E73","v":0},{"$f":"ClassementGenéral!F73","v":0},{"$f":"ClassementGenéral!G73","v":0},{"$f":"ClassementGenéral!H73","v":0},{"$f":"ClassementGenéral!I73","v":0}]
[{"$f":"ClassementGenéral!A74","v":0},{"$f":"ClassementGenéral!B74","v":0},{"$f":"ClassementGenéral!C74","v":0},{"$f":"ClassementGenéral!D74","v":0},{"$f":"ClassementGenéral!E74","v":0},{"$f":"ClassementGenéral!F74","v":0},{"$f":"ClassementGenéral!G74","v":0},{"$f":"ClassementGenéral!H74","v":0},{"$f":"ClassementGenéral!I74","v":0}]
[{"$f":"ClassementGenéral!A75","v":0},{"$f":"ClassementGenéral!B75","v":0},{"$f":"ClassementGenéral!C75","v":0},{"$f":"ClassementGenéral!D75","v":0},{"$f":"ClassementGenéral!E75","v":0},{"$f":"ClassementGenéral!F75","v":0},{"$f":"ClassementGenéral!G75","v":0},{"$f":"ClassementGenéral!H75","v":0},{"$f":"ClassementGenéral!I75","v":0}]
[null,"FIN"]
[]
[]
[null,null,{"$f":"ClassementGenéral!C78","v":0},{"$f":"ClassementGenéral!D78","v":""}]
[null,null,{"$f":"ClassementGenéral!C79","v":0},{"$f":"ClassementGenéral!D79","v":0}]
[{"$f":"ClassementGenéral!A80","v":"2e"},"Catégorie",{"$f":"ClassementGenéral!C80","v":0},{"$f":"ClassementGenéral!D80","v":0}]
[{"$f":"ClassementGenéral!A81","v":"Place"},{"$f":"ClassementGenéral!B81","v":"Doss"},{"$f":"ClassementGenéral!C81","v":"Nom Prenom"},{"$f":"ClassementGenéral!D81","v":"Club"},{"$f":"ClassementGenéral!E81","v":"Sexe"},{"$f":"ClassementGenéral!F81","v":"Cat"},{"$f":"ClassementGenéral!G81","v":"Ecart"},{"$f":"ClassementGenéral!H81","v":"Dep"},{"$f":"ClassementGenéral!I81","v":"Fed"}]
[{"$f":"ClassementGenéral!A82","v":0},{"$f":"ClassementGenéral!B82","v":50},{"$f":"ClassementGenéral!C82","v":0},{"$f":"ClassementGenéral!D82","v":0},{"$f":"ClassementGenéral!E82","v":0},{"$f":"ClassementGenéral!F82","v":0},{"$f":"ClassementGenéral!G82","v":0},{"$f":"ClassementGenéral!H82","v":0},{"$f":"ClassementGenéral!I82","v":0}]
[{"$f":"ClassementGenéral!A83","v":0},{"$f":"ClassementGenéral!B83","v":51},{"$f":"ClassementGenéral!C83","v":0},{"$f":"ClassementGenéral!D83","v":0},{"$f":"ClassementGenéral!E83","v":0},{"$f":"ClassementGenéral!F83","v":0},{"$f":"ClassementGenéral!G83","v":0},{"$f":"ClassementGenéral!H83","v":0},{"$f":"ClassementGenéral!I83","v":0}]
[{"$f":"ClassementGenéral!A84","v":0},{"$f":"ClassementGenéral!B84","v":52},{"$f":"ClassementGenéral!C84","v":0},{"$f":"ClassementGenéral!D84","v":0},{"$f":"ClassementGenéral!E84","v":0},{"$f":"ClassementGenéral!F84","v":0},{"$f":"ClassementGenéral!G84","v":0},{"$f":"ClassementGenéral!H84","v":0},{"$f":"ClassementGenéral!I84","v":0}]
[{"$f":"ClassementGenéral!A85","v":0},{"$f":"ClassementGenéral!B85","v":53},{"$f":"ClassementGenéral!C85","v":0},{"$f":"ClassementGenéral!D85","v":0},{"$f":"ClassementGenéral!E85","v":0},{"$f":"ClassementGenéral!F85","v":0},{"$f":"ClassementGenéral!G85","v":0},{"$f":"ClassementGenéral!H85","v":0},{"$f":"ClassementGenéral!I85","v":0}]
[{"$f":"ClassementGenéral!A86","v":0},{"$f":"ClassementGenéral!B86","v":54},{"$f":"ClassementGenéral!C86","v":0},{"$f":"ClassementGenéral!D86","v":0},{"$f":"ClassementGenéral!E86","v":0},{"$f":"ClassementGenéral!F86","v":0},{"$f":"ClassementGenéral!G86","v":0},{"$f":"ClassementGenéral!H86","v":0},{"$f":"ClassementGenéral!I86","v":0}]
[{"$f":"ClassementGenéral!A87","v":0},{"$f":"ClassementGenéral!B87","v":55},{"$f":"ClassementGenéral!C87","v":0},{"$f":"ClassementGenéral!D87","v":0},{"$f":"ClassementGenéral!E87","v":0},{"$f":"ClassementGenéral!F87","v":0},{"$f":"ClassementGenéral!G87","v":0},{"$f":"ClassementGenéral!H87","v":0},{"$f":"ClassementGenéral!I87","v":0}]
[{"$f":"ClassementGenéral!A88","v":0},{"$f":"ClassementGenéral!B88","v":56},{"$f":"ClassementGenéral!C88","v":0},{"$f":"ClassementGenéral!D88","v":0},{"$f":"ClassementGenéral!E88","v":0},{"$f":"ClassementGenéral!F88","v":0},{"$f":"ClassementGenéral!G88","v":0},{"$f":"ClassementGenéral!H88","v":0},{"$f":"ClassementGenéral!I88","v":0}]
[{"$f":"ClassementGenéral!A89","v":0},{"$f":"ClassementGenéral!B89","v":57},{"$f":"ClassementGenéral!C89","v":0},{"$f":"ClassementGenéral!D89","v":0},{"$f":"ClassementGenéral!E89","v":0},{"$f":"ClassementGenéral!F89","v":0},{"$f":"ClassementGenéral!G89","v":0},{"$f":"ClassementGenéral!H89","v":0},{"$f":"ClassementGenéral!I89","v":0}]
[{"$f":"ClassementGenéral!A90","v":0},{"$f":"ClassementGenéral!B90","v":58},{"$f":"ClassementGenéral!C90","v":0},{"$f":"ClassementGenéral!D90","v":0},{"$f":"ClassementGenéral!E90","v":0},{"$f":"ClassementGenéral!F90","v":0},{"$f":"ClassementGenéral!G90","v":0},{"$f":"ClassementGenéral!H90","v":0},{"$f":"ClassementGenéral!I90","v":0}]
[{"$f":"ClassementGenéral!A91","v":0},{"$f":"ClassementGenéral!B91","v":59},{"$f":"ClassementGenéral!C91","v":0},{"$f":"ClassementGenéral!D91","v":0},{"$f":"ClassementGenéral!E91","v":0},{"$f":"ClassementGenéral!F91","v":0},{"$f":"ClassementGenéral!G91","v":0},{"$f":"ClassementGenéral!H91","v":0},{"$f":"ClassementGenéral!I91","v":0}]
[{"$f":"ClassementGenéral!A92","v":0},{"$f":"ClassementGenéral!B92","v":60},{"$f":"ClassementGenéral!C92","v":0},{"$f":"ClassementGenéral!D92","v":0},{"$f":"ClassementGenéral!E92","v":0},{"$f":"ClassementGenéral!F92","v":0},{"$f":"ClassementGenéral!G92","v":0},{"$f":"ClassementGenéral!H92","v":0},{"$f":"ClassementGenéral!I92","v":0}]
[{"$f":"ClassementGenéral!A93","v":0},{"$f":"ClassementGenéral!B93","v":61},{"$f":"ClassementGenéral!C93","v":0},{"$f":"ClassementGenéral!D93","v":0},{"$f":"ClassementGenéral!E93","v":0},{"$f":"ClassementGenéral!F93","v":0},{"$f":"ClassementGenéral!G93","v":0},{"$f":"ClassementGenéral!H93","v":0},{"$f":"ClassementGenéral!I93","v":0}]
[{"$f":"ClassementGenéral!A94","v":0},{"$f":"ClassementGenéral!B94","v":62},{"$f":"ClassementGenéral!C94","v":0},{"$f":"ClassementGenéral!D94","v":0},{"$f":"ClassementGenéral!E94","v":0},{"$f":"ClassementGenéral!F94","v":0},{"$f":"ClassementGenéral!G94","v":0},{"$f":"ClassementGenéral!H94","v":0},{"$f":"ClassementGenéral!I94","v":0}]
[{"$f":"ClassementGenéral!A95","v":0},{"$f":"ClassementGenéral!B95","v":63},{"$f":"ClassementGenéral!C95","v":0},{"$f":"ClassementGenéral!D95","v":0},{"$f":"ClassementGenéral!E95","v":0},{"$f":"ClassementGenéral!F95","v":0},{"$f":"ClassementGenéral!G95","v":0},{"$f":"ClassementGenéral!H95","v":0},{"$f":"ClassementGenéral!I95","v":0}]
[{"$f":"ClassementGenéral!A96","v":0},{"$f":"ClassementGenéral!B96","v":64},{"$f":"ClassementGenéral!C96","v":0},{"$f":"ClassementGenéral!D96","v":0},{"$f":"ClassementGenéral!E96","v":0},{"$f":"ClassementGenéral!F96","v":0},{"$f":"ClassementGenéral!G96","v":0},{"$f":"ClassementGenéral!H96","v":0},{"$f":"ClassementGenéral!I96","v":0}]
[{"$f":"ClassementGenéral!A97","v":0},{"$f":"ClassementGenéral!B97","v":65},{"$f":"ClassementGenéral!C97","v":0},{"$f":"ClassementGenéral!D97","v":0},{"$f":"ClassementGenéral!E97","v":0},{"$f":"ClassementGenéral!F97","v":0},{"$f":"ClassementGenéral!G97","v":0},{"$f":"ClassementGenéral!H97","v":0},{"$f":"ClassementGenéral!I97","v":0}]
[{"$f":"ClassementGenéral!A98","v":0},{"$f":"ClassementGenéral!B98","v":66},{"$f":"ClassementGenéral!C98","v":0},{"$f":"ClassementGenéral!D98","v":0},{"$f":"ClassementGenéral!E98","v":0},{"$f":"ClassementGenéral!F98","v":0},{"$f":"ClassementGenéral!G98","v":0},{"$f":"ClassementGenéral!H98","v":0},{"$f":"ClassementGenéral!I98","v":0}]
[{"$f":"ClassementGenéral!A99","v":0},{"$f":"ClassementGenéral!B99","v":67},{"$f":"ClassementGenéral!C99","v":0},{"$f":"ClassementGenéral!D99","v":0},{"$f":"ClassementGenéral!E99","v":0},{"$f":"ClassementGenéral!F99","v":0},{"$f":"ClassementGenéral!G99","v":0},{"$f":"ClassementGenéral!H99","v":0},{"$f":"ClassementGenéral!I99","v":0}]
[{"$f":"ClassementGenéral!A100","v":0},{"$f":"ClassementGenéral!B100","v":68},{"$f":"ClassementGenéral!C100","v":0},{"$f":"ClassementGenéral!D100","v":0},{"$f":"ClassementGenéral!E100","v":0},{"$f":"ClassementGenéral!F100","v":0},{"$f":"ClassementGenéral!G100","v":0},{"$f":"ClassementGenéral!H100","v":0},{"$f":"ClassementGenéral!I100","v":0}]
[{"$f":"ClassementGenéral!A101","v":0},{"$f":"ClassementGenéral!B101","v":69},{"$f":"ClassementGenéral!C101","v":0},{"$f":"ClassementGenéral!D101","v":0},{"$f":"ClassementGenéral!E101","v":0},{"$f":"ClassementGenéral!F101","v":0},{"$f":"ClassementGenéral!G101","v":0},{"$f":"ClassementGenéral!H101","v":0},{"$f":"ClassementGenéral!I101","v":0}]
[{"$f":"ClassementGenéral!A102","v":0},{"$f":"ClassementGenéral!B102","v":70},{"$f":"ClassementGenéral!C102","v":0},{"$f":"ClassementGenéral!D102","v":0},{"$f":"ClassementGenéral!E102","v":0},{"$f":"ClassementGenéral!F102","v":0},{"$f":"ClassementGenéral!G102","v":0},{"$f":"ClassementGenéral!H102","v":0},{"$f":"ClassementGenéral!I102","v":0}]
[{"$f":"ClassementGenéral!A103","v":0},{"$f":"ClassementGenéral!B103","v":71},{"$f":"ClassementGenéral!C103","v":0},{"$f":"ClassementGenéral!D103","v":0},{"$f":"ClassementGenéral!E103","v":0},{"$f":"ClassementGenéral!F103","v":0},{"$f":"ClassementGenéral!G103","v":0},{"$f":"ClassementGenéral!H103","v":0},{"$f":"ClassementGenéral!I103","v":0}]
[{"$f":"ClassementGenéral!A104","v":0},{"$f":"ClassementGenéral!B104","v":72},{"$f":"ClassementGenéral!C104","v":0},{"$f":"ClassementGenéral!D104","v":0},{"$f":"ClassementGenéral!E104","v":0},{"$f":"ClassementGenéral!F104","v":0},{"$f":"ClassementGenéral!G104","v":0},{"$f":"ClassementGenéral!H104","v":0},{"$f":"ClassementGenéral!I104","v":0}]
[{"$f":"ClassementGenéral!A105","v":0},{"$f":"ClassementGenéral!B105","v":73},{"$f":"ClassementGenéral!C105","v":0},{"$f":"ClassementGenéral!D105","v":0},{"$f":"ClassementGenéral!E105","v":0},{"$f":"ClassementGenéral!F105","v":0},{"$f":"ClassementGenéral!G105","v":0},{"$f":"ClassementGenéral!H105","v":0},{"$f":"ClassementGenéral!I105","v":0}]
[{"$f":"ClassementGenéral!A106","v":0},{"$f":"ClassementGenéral!B106","v":74},{"$f":"ClassementGenéral!C106","v":0},{"$f":"ClassementGenéral!D106","v":0},{"$f":"ClassementGenéral!E106","v":0},{"$f":"ClassementGenéral!F106","v":0},{"$f":"ClassementGenéral!G106","v":0},{"$f":"ClassementGenéral!H106","v":0},{"$f":"ClassementGenéral!I106","v":0}]
[{"$f":"ClassementGenéral!A107","v":0},{"$f":"ClassementGenéral!B107","v":75},{"$f":"ClassementGenéral!C107","v":0},{"$f":"ClassementGenéral!D107","v":0},{"$f":"ClassementGenéral!E107","v":0},{"$f":"ClassementGenéral!F107","v":0},{"$f":"ClassementGenéral!G107","v":0},{"$f":"ClassementGenéral!H107","v":0},{"$f":"ClassementGenéral!I107","v":0}]
[{"$f":"ClassementGenéral!A108","v":0},{"$f":"ClassementGenéral!B108","v":76},{"$f":"ClassementGenéral!C108","v":0},{"$f":"ClassementGenéral!D108","v":0},{"$f":"ClassementGenéral!E108","v":0},{"$f":"ClassementGenéral!F108","v":0},{"$f":"ClassementGenéral!G108","v":0},{"$f":"ClassementGenéral!H108","v":0},{"$f":"ClassementGenéral!I108","v":0}]
[{"$f":"ClassementGenéral!A109","v":0},{"$f":"ClassementGenéral!B109","v":77},{"$f":"ClassementGenéral!C109","v":0},{"$f":"ClassementGenéral!D109","v":0},{"$f":"ClassementGenéral!E109","v":0},{"$f":"ClassementGenéral!F109","v":0},{"$f":"ClassementGenéral!G109","v":0},{"$f":"ClassementGenéral!H109","v":0},{"$f":"ClassementGenéral!I109","v":0}]
[{"$f":"ClassementGenéral!A110","v":0},{"$f":"ClassementGenéral!B110","v":78},{"$f":"ClassementGenéral!C110","v":0},{"$f":"ClassementGenéral!D110","v":0},{"$f":"ClassementGenéral!E110","v":0},{"$f":"ClassementGenéral!F110","v":0},{"$f":"ClassementGenéral!G110","v":0},{"$f":"ClassementGenéral!H110","v":0},{"$f":"ClassementGenéral!I110","v":0}]
[{"$f":"ClassementGenéral!A111","v":0},{"$f":"ClassementGenéral!B111","v":79},{"$f":"ClassementGenéral!C111","v":0},{"$f":"ClassementGenéral!D111","v":0},{"$f":"ClassementGenéral!E111","v":0},{"$f":"ClassementGenéral!F111","v":0},{"$f":"ClassementGenéral!G111","v":0},{"$f":"ClassementGenéral!H111","v":0},{"$f":"ClassementGenéral!I111","v":0}]
[{"$f":"ClassementGenéral!A112","v":0},{"$f":"ClassementGenéral!B112","v":80},{"$f":"ClassementGenéral!C112","v":0},{"$f":"ClassementGenéral!D112","v":0},{"$f":"ClassementGenéral!E112","v":0},{"$f":"ClassementGenéral!F112","v":0},{"$f":"ClassementGenéral!G112","v":0},{"$f":"ClassementGenéral!H112","v":0},{"$f":"ClassementGenéral!I112","v":0}]
[{"$f":"ClassementGenéral!A113","v":0},{"$f":"ClassementGenéral!B113","v":81},{"$f":"ClassementGenéral!C113","v":0},{"$f":"ClassementGenéral!D113","v":0},{"$f":"ClassementGenéral!E113","v":0},{"$f":"ClassementGenéral!F113","v":0},{"$f":"ClassementGenéral!G113","v":0},{"$f":"ClassementGenéral!H113","v":0},{"$f":"ClassementGenéral!I113","v":0}]
[{"$f":"ClassementGenéral!A114","v":0},{"$f":"ClassementGenéral!B114","v":82},{"$f":"ClassementGenéral!C114","v":0},{"$f":"ClassementGenéral!D114","v":0},{"$f":"ClassementGenéral!E114","v":0},{"$f":"ClassementGenéral!F114","v":0},{"$f":"ClassementGenéral!G114","v":0},{"$f":"ClassementGenéral!H114","v":0},{"$f":"ClassementGenéral!I114","v":0}]
[{"$f":"ClassementGenéral!A115","v":0},{"$f":"ClassementGenéral!B115","v":83},{"$f":"ClassementGenéral!C115","v":0},{"$f":"ClassementGenéral!D115","v":0},{"$f":"ClassementGenéral!E115","v":0},{"$f":"ClassementGenéral!F115","v":0},{"$f":"ClassementGenéral!G115","v":0},{"$f":"ClassementGenéral!H115","v":0},{"$f":"ClassementGenéral!I115","v":0}]
[{"$f":"ClassementGenéral!A116","v":0},{"$f":"ClassementGenéral!B116","v":84},{"$f":"ClassementGenéral!C116","v":0},{"$f":"ClassementGenéral!D116","v":0},{"$f":"ClassementGenéral!E116","v":0},{"$f":"ClassementGenéral!F116","v":0},{"$f":"ClassementGenéral!G116","v":0},{"$f":"ClassementGenéral!H116","v":0},{"$f":"ClassementGenéral!I116","v":0}]
[{"$f":"ClassementGenéral!A117","v":0},{"$f":"ClassementGenéral!B117","v":85},{"$f":"ClassementGenéral!C117","v":0},{"$f":"ClassementGenéral!D117","v":0},{"$f":"ClassementGenéral!E117","v":0},{"$f":"ClassementGenéral!F117","v":0},{"$f":"ClassementGenéral!G117","v":0},{"$f":"ClassementGenéral!H117","v":0},{"$f":"ClassementGenéral!I117","v":0}]
[{"$f":"ClassementGenéral!A118","v":0},{"$f":"ClassementGenéral!B118","v":86},{"$f":"ClassementGenéral!C118","v":0},{"$f":"ClassementGenéral!D118","v":0},{"$f":"ClassementGenéral!E118","v":0},{"$f":"ClassementGenéral!F118","v":0},{"$f":"ClassementGenéral!G118","v":0},{"$f":"ClassementGenéral!H118","v":0},{"$f":"ClassementGenéral!I118","v":0}]
[{"$f":"ClassementGenéral!A119","v":0},{"$f":"ClassementGenéral!B119","v":87},{"$f":"ClassementGenéral!C119","v":0},{"$f":"ClassementGenéral!D119","v":0},{"$f":"ClassementGenéral!E119","v":0},{"$f":"ClassementGenéral!F119","v":0},{"$f":"ClassementGenéral!G119","v":0},{"$f":"ClassementGenéral!H119","v":0},{"$f":"ClassementGenéral!I119","v":0}]
[{"$f":"ClassementGenéral!A120","v":0},{"$f":"ClassementGenéral!B120","v":88},{"$f":"ClassementGenéral!C120","v":0},{"$f":"ClassementGenéral!D120","v":0},{"$f":"ClassementGenéral!E120","v":0},{"$f":"ClassementGenéral!F120","v":0},{"$f":"ClassementGenéral!G120","v":0},{"$f":"ClassementGenéral!H120","v":0},{"$f":"ClassementGenéral!I120","v":0}]
[{"$f":"ClassementGenéral!A121","v":0},{"$f":"ClassementGenéral!B121","v":89},{"$f":"ClassementGenéral!C121","v":0},{"$f":"ClassementGenéral!D121","v":0},{"$f":"ClassementGenéral!E121","v":0},{"$f":"ClassementGenéral!F121","v":0},{"$f":"ClassementGenéral!G121","v":0},{"$f":"ClassementGenéral!H121","v":0},{"$f":"ClassementGenéral!I121","v":0}]
[{"$f":"ClassementGenéral!A122","v":0},{"$f":"ClassementGenéral!B122","v":90},{"$f":"ClassementGenéral!C122","v":0},{"$f":"ClassementGenéral!D122","v":0},{"$f":"ClassementGenéral!E122","v":0},{"$f":"ClassementGenéral!F122","v":0},{"$f":"ClassementGenéral!G122","v":0},{"$f":"ClassementGenéral!H122","v":0},{"$f":"ClassementGenéral!I122","v":0}]
[{"$f":"ClassementGenéral!A123","v":0},{"$f":"ClassementGenéral!B123","v":91},{"$f":"ClassementGenéral!C123","v":0},{"$f":"ClassementGenéral!D123","v":0},{"$f":"ClassementGenéral!E123","v":0},{"$f":"ClassementGenéral!F123","v":0},{"$f":"ClassementGenéral!G123","v":0},{"$f":"ClassementGenéral!H123","v":0},{"$f":"ClassementGenéral!I123","v":0}]
[{"$f":"ClassementGenéral!A124","v":0},{"$f":"ClassementGenéral!B124","v":92},{"$f":"ClassementGenéral!C124","v":0},{"$f":"ClassementGenéral!D124","v":0},{"$f":"ClassementGenéral!E124","v":0},{"$f":"ClassementGenéral!F124","v":0},{"$f":"ClassementGenéral!G124","v":0},{"$f":"ClassementGenéral!H124","v":0},{"$f":"ClassementGenéral!I124","v":0}]
[{"$f":"ClassementGenéral!A125","v":0},{"$f":"ClassementGenéral!B125","v":93},{"$f":"ClassementGenéral!C125","v":0},{"$f":"ClassementGenéral!D125","v":0},{"$f":"ClassementGenéral!E125","v":0},{"$f":"ClassementGenéral!F125","v":0},{"$f":"ClassementGenéral!G125","v":0},{"$f":"ClassementGenéral!H125","v":0},{"$f":"ClassementGenéral!I125","v":0}]
[{"$f":"ClassementGenéral!A126","v":0},{"$f":"ClassementGenéral!B126","v":94},{"$f":"ClassementGenéral!C126","v":0},{"$f":"ClassementGenéral!D126","v":0},{"$f":"ClassementGenéral!E126","v":0},{"$f":"ClassementGenéral!F126","v":0},{"$f":"ClassementGenéral!G126","v":0},{"$f":"ClassementGenéral!H126","v":0},{"$f":"ClassementGenéral!I126","v":0}]
[{"$f":"ClassementGenéral!A127","v":0},{"$f":"ClassementGenéral!B127","v":95},{"$f":"ClassementGenéral!C127","v":0},{"$f":"ClassementGenéral!D127","v":0},{"$f":"ClassementGenéral!E127","v":0},{"$f":"ClassementGenéral!F127","v":0},{"$f":"ClassementGenéral!G127","v":0},{"$f":"ClassementGenéral!H127","v":0},{"$f":"ClassementGenéral!I127","v":0}]
[{"$f":"ClassementGenéral!A128","v":0},{"$f":"ClassementGenéral!B128","v":96},{"$f":"ClassementGenéral!C128","v":0},{"$f":"ClassementGenéral!D128","v":0},{"$f":"ClassementGenéral!E128","v":0},{"$f":"ClassementGenéral!F128","v":0},{"$f":"ClassementGenéral!G128","v":0},{"$f":"ClassementGenéral!H128","v":0},{"$f":"ClassementGenéral!I128","v":0}]
[{"$f":"ClassementGenéral!A129","v":0},{"$f":"ClassementGenéral!B129","v":97},{"$f":"ClassementGenéral!C129","v":0},{"$f":"ClassementGenéral!D129","v":0},{"$f":"ClassementGenéral!E129","v":0},{"$f":"ClassementGenéral!F129","v":0},{"$f":"ClassementGenéral!G129","v":0},{"$f":"ClassementGenéral!H129","v":0},{"$f":"ClassementGenéral!I129","v":0}]
[{"$f":"ClassementGenéral!A130","v":0},{"$f":"ClassementGenéral!B130","v":98},{"$f":"ClassementGenéral!C130","v":0},{"$f":"ClassementGenéral!D130","v":0},{"$f":"ClassementGenéral!E130","v":0},{"$f":"ClassementGenéral!F130","v":0},{"$f":"ClassementGenéral!G130","v":0},{"$f":"ClassementGenéral!H130","v":0},{"$f":"ClassementGenéral!I130","v":0}]
[{"$f":"ClassementGenéral!A131","v":0},{"$f":"ClassementGenéral!B131","v":99},{"$f":"ClassementGenéral!C131","v":0},{"$f":"ClassementGenéral!D131","v":0},{"$f":"ClassementGenéral!E131","v":0},{"$f":"ClassementGenéral!F131","v":0},{"$f":"ClassementGenéral!G131","v":0},{"$f":"ClassementGenéral!H131","v":0},{"$f":"ClassementGenéral!I131","v":0}]
[{"$f":"ClassementGenéral!A132","v":0},{"$f":"ClassementGenéral!B132","v":0},{"$f":"ClassementGenéral!C132","v":0},{"$f":"ClassementGenéral!D132","v":0},{"$f":"ClassementGenéral!E132","v":0},{"$f":"ClassementGenéral!F132","v":0},{"$f":"ClassementGenéral!G132","v":0},{"$f":"ClassementGenéral!H132","v":0},{"$f":"ClassementGenéral!I132","v":0}]
[{"$f":"ClassementGenéral!A133","v":0},{"$f":"ClassementGenéral!B133","v":0},{"$f":"ClassementGenéral!C133","v":0},{"$f":"ClassementGenéral!D133","v":0},{"$f":"ClassementGenéral!E133","v":0},{"$f":"ClassementGenéral!F133","v":0},{"$f":"ClassementGenéral!G133","v":0},{"$f":"ClassementGenéral!H133","v":0},{"$f":"ClassementGenéral!I133","v":0}]
[{"$f":"ClassementGenéral!A134","v":0},{"$f":"ClassementGenéral!B134","v":0},{"$f":"ClassementGenéral!C134","v":0},{"$f":"ClassementGenéral!D134","v":0},{"$f":"ClassementGenéral!E134","v":0},{"$f":"ClassementGenéral!F134","v":0},{"$f":"ClassementGenéral!G134","v":0},{"$f":"ClassementGenéral!H134","v":0},{"$f":"ClassementGenéral!I134","v":0}]
[{"$f":"ClassementGenéral!A135","v":0},{"$f":"ClassementGenéral!B135","v":0},{"$f":"ClassementGenéral!C135","v":0},{"$f":"ClassementGenéral!D135","v":0},{"$f":"ClassementGenéral!E135","v":0},{"$f":"ClassementGenéral!F135","v":0},{"$f":"ClassementGenéral!G135","v":0},{"$f":"ClassementGenéral!H135","v":0},{"$f":"ClassementGenéral!I135","v":0}]
[{"$f":"ClassementGenéral!A136","v":0},{"$f":"ClassementGenéral!B136","v":0},{"$f":"ClassementGenéral!C136","v":0},{"$f":"ClassementGenéral!D136","v":0},{"$f":"ClassementGenéral!E136","v":0},{"$f":"ClassementGenéral!F136","v":0},{"$f":"ClassementGenéral!G136","v":0},{"$f":"ClassementGenéral!H136","v":0},{"$f":"ClassementGenéral!I136","v":0}]
[{"$f":"ClassementGenéral!A137","v":0},{"$f":"ClassementGenéral!B137","v":0},{"$f":"ClassementGenéral!C137","v":0},{"$f":"ClassementGenéral!D137","v":0},{"$f":"ClassementGenéral!E137","v":0},{"$f":"ClassementGenéral!F137","v":0},{"$f":"ClassementGenéral!G137","v":0},{"$f":"ClassementGenéral!H137","v":0},{"$f":"ClassementGenéral!I137","v":0}]
[{"$f":"ClassementGenéral!A138","v":0},{"$f":"ClassementGenéral!B138","v":0},{"$f":"ClassementGenéral!C138","v":0},{"$f":"ClassementGenéral!D138","v":0},{"$f":"ClassementGenéral!E138","v":0},{"$f":"ClassementGenéral!F138","v":0},{"$f":"ClassementGenéral!G138","v":0},{"$f":"ClassementGenéral!H138","v":0},{"$f":"ClassementGenéral!I138","v":0}]
[{"$f":"ClassementGenéral!A139","v":0},{"$f":"ClassementGenéral!B139","v":0},{"$f":"ClassementGenéral!C139","v":0},{"$f":"ClassementGenéral!D139","v":0},{"$f":"ClassementGenéral!E139","v":0},{"$f":"ClassementGenéral!F139","v":0},{"$f":"ClassementGenéral!G139","v":0},{"$f":"ClassementGenéral!H139","v":0},{"$f":"ClassementGenéral!I139","v":0}]
[{"$f":"ClassementGenéral!A140","v":0},{"$f":"ClassementGenéral!B140","v":0},{"$f":"ClassementGenéral!C140","v":0},{"$f":"ClassementGenéral!D140","v":0},{"$f":"ClassementGenéral!E140","v":0},{"$f":"ClassementGenéral!F140","v":0},{"$f":"ClassementGenéral!G140","v":0},{"$f":"ClassementGenéral!H140","v":0},{"$f":"ClassementGenéral!I140","v":0}]
[{"$f":"ClassementGenéral!A141","v":0},{"$f":"ClassementGenéral!B141","v":0},{"$f":"ClassementGenéral!C141","v":0},{"$f":"ClassementGenéral!D141","v":0},{"$f":"ClassementGenéral!E141","v":0},{"$f":"ClassementGenéral!F141","v":0},{"$f":"ClassementGenéral!G141","v":0},{"$f":"ClassementGenéral!H141","v":0},{"$f":"ClassementGenéral!I141","v":0}]
[{"$f":"ClassementGenéral!A142","v":0},{"$f":"ClassementGenéral!B142","v":0},{"$f":"ClassementGenéral!C142","v":0},{"$f":"ClassementGenéral!D142","v":0},{"$f":"ClassementGenéral!E142","v":0},{"$f":"ClassementGenéral!F142","v":0},{"$f":"ClassementGenéral!G142","v":0},{"$f":"ClassementGenéral!H142","v":0},{"$f":"ClassementGenéral!I142","v":0}]
[{"$f":"ClassementGenéral!A143","v":0},{"$f":"ClassementGenéral!B143","v":0},{"$f":"ClassementGenéral!C143","v":0},{"$f":"ClassementGenéral!D143","v":0},{"$f":"ClassementGenéral!E143","v":0},{"$f":"ClassementGenéral!F143","v":0},{"$f":"ClassementGenéral!G143","v":0},{"$f":"ClassementGenéral!H143","v":0},{"$f":"ClassementGenéral!I143","v":0}]
[null,"FIN"]
[]
[]
[null,null,{"$f":"ClassementGenéral!C147","v":0},{"$f":"ClassementGenéral!D147","v":""}]
[null,null,{"$f":"ClassementGenéral!C148","v":0},{"$f":"ClassementGenéral!D148","v":0}]
[{"$f":"ClassementGenéral!A149","v":"3e"},"Catégorie",{"$f":"ClassementGenéral!C149","v":0},{"$f":"ClassementGenéral!D149","v":0}]
[{"$f":"ClassementGenéral!A150","v":"Place"},{"$f":"ClassementGenéral!B150","v":"Doss"},{"$f":"ClassementGenéral!C150","v":"Nom Prenom"},{"$f":"ClassementGenéral!D150","v":"Club"},{"$f":"ClassementGenéral!E150","v":"Sexe"},{"$f":"ClassementGenéral!F150","v":"Cat"},"Cat Âge",{"$f":"ClassementGenéral!H150","v":"Dep"},{"$f":"ClassementGenéral!I150","v":"Fed"}]
[{"$f":"ClassementGenéral!A151","v":0},{"$f":"ClassementGenéral!B151","v":50},{"$f":"ClassementGenéral!C151","v":0},{"$f":"ClassementGenéral!D151","v":0},{"$f":"ClassementGenéral!E151","v":0},{"$f":"ClassementGenéral!F151","v":0},{"$f":"ClassementGenéral!G151","v":0},{"$f":"ClassementGenéral!H151","v":0},{"$f":"ClassementGenéral!I151","v":0}]
[{"$f":"ClassementGenéral!A152","v":0},{"$f":"ClassementGenéral!B152","v":51},{"$f":"ClassementGenéral!C152","v":0},{"$f":"ClassementGenéral!D152","v":0},{"$f":"ClassementGenéral!E152","v":0},{"$f":"ClassementGenéral!F152","v":0},{"$f":"ClassementGenéral!G152","v":0},{"$f":"ClassementGenéral!H152","v":0},{"$f":"ClassementGenéral!I152","v":0}]
[{"$f":"ClassementGenéral!A153","v":0},{"$f":"ClassementGenéral!B153","v":52},{"$f":"ClassementGenéral!C153","v":0},{"$f":"ClassementGenéral!D153","v":0},{"$f":"ClassementGenéral!E153","v":0},{"$f":"ClassementGenéral!F153","v":0},{"$f":"ClassementGenéral!G153","v":0},{"$f":"ClassementGenéral!H153","v":0},{"$f":"ClassementGenéral!I153","v":0}]
[{"$f":"ClassementGenéral!A154","v":0},{"$f":"ClassementGenéral!B154","v":53},{"$f":"ClassementGenéral!C154","v":0},{"$f":"ClassementGenéral!D154","v":0},{"$f":"ClassementGenéral!E154","v":0},{"$f":"ClassementGenéral!F154","v":0},{"$f":"ClassementGenéral!G154","v":0},{"$f":"ClassementGenéral!H154","v":0},{"$f":"ClassementGenéral!I154","v":0}]
[{"$f":"ClassementGenéral!A155","v":0},{"$f":"ClassementGenéral!B155","v":54},{"$f":"ClassementGenéral!C155","v":0},{"$f":"ClassementGenéral!D155","v":0},{"$f":"ClassementGenéral!E155","v":0},{"$f":"ClassementGenéral!F155","v":0},{"$f":"ClassementGenéral!G155","v":0},{"$f":"ClassementGenéral!H155","v":0},{"$f":"ClassementGenéral!I155","v":0}]
[{"$f":"ClassementGenéral!A156","v":0},{"$f":"ClassementGenéral!B156","v":55},{"$f":"ClassementGenéral!C156","v":0},{"$f":"ClassementGenéral!D156","v":0},{"$f":"ClassementGenéral!E156","v":0},{"$f":"ClassementGenéral!F156","v":0},{"$f":"ClassementGenéral!G156","v":0},{"$f":"ClassementGenéral!H156","v":0},{"$f":"ClassementGenéral!I156","v":0}]
[{"$f":"ClassementGenéral!A157","v":0},{"$f":"ClassementGenéral!B157","v":56},{"$f":"ClassementGenéral!C157","v":0},{"$f":"ClassementGenéral!D157","v":0},{"$f":"ClassementGenéral!E157","v":0},{"$f":"ClassementGenéral!F157","v":0},{"$f":"ClassementGenéral!G157","v":0},{"$f":"ClassementGenéral!H157","v":0},{"$f":"ClassementGenéral!I157","v":0}]
[{"$f":"ClassementGenéral!A158","v":0},{"$f":"ClassementGenéral!B158","v":57},{"$f":"ClassementGenéral!C158","v":0},{"$f":"ClassementGenéral!D158","v":0},{"$f":"ClassementGenéral!E158","v":0},{"$f":"ClassementGenéral!F158","v":0},{"$f":"ClassementGenéral!G158","v":0},{"$f":"ClassementGenéral!H158","v":0},{"$f":"ClassementGenéral!I158","v":0}]
[{"$f":"ClassementGenéral!A159","v":0},{"$f":"ClassementGenéral!B159","v":58},{"$f":"ClassementGenéral!C159","v":0},{"$f":"ClassementGenéral!D159","v":0},{"$f":"ClassementGenéral!E159","v":0},{"$f":"ClassementGenéral!F159","v":0},{"$f":"ClassementGenéral!G159","v":0},{"$f":"ClassementGenéral!H159","v":0},{"$f":"ClassementGenéral!I159","v":0}]
[{"$f":"ClassementGenéral!A160","v":0},{"$f":"ClassementGenéral!B160","v":59},{"$f":"ClassementGenéral!C160","v":0},{"$f":"ClassementGenéral!D160","v":0},{"$f":"ClassementGenéral!E160","v":0},{"$f":"ClassementGenéral!F160","v":0},{"$f":"ClassementGenéral!G160","v":0},{"$f":"ClassementGenéral!H160","v":0},{"$f":"ClassementGenéral!I160","v":0}]
[{"$f":"ClassementGenéral!A161","v":0},{"$f":"ClassementGenéral!B161","v":60},{"$f":"ClassementGenéral!C161","v":0},{"$f":"ClassementGenéral!D161","v":0},{"$f":"ClassementGenéral!E161","v":0},{"$f":"ClassementGenéral!F161","v":0},{"$f":"ClassementGenéral!G161","v":0},{"$f":"ClassementGenéral!H161","v":0},{"$f":"ClassementGenéral!I161","v":0}]
[{"$f":"ClassementGenéral!A162","v":0},{"$f":"ClassementGenéral!B162","v":61},{"$f":"ClassementGenéral!C162","v":0},{"$f":"ClassementGenéral!D162","v":0},{"$f":"ClassementGenéral!E162","v":0},{"$f":"ClassementGenéral!F162","v":0},{"$f":"ClassementGenéral!G162","v":0},{"$f":"ClassementGenéral!H162","v":0},{"$f":"ClassementGenéral!I162","v":0}]
[{"$f":"ClassementGenéral!A163","v":0},{"$f":"ClassementGenéral!B163","v":62},{"$f":"ClassementGenéral!C163","v":0},{"$f":"ClassementGenéral!D163","v":0},{"$f":"ClassementGenéral!E163","v":0},{"$f":"ClassementGenéral!F163","v":0},{"$f":"ClassementGenéral!G163","v":0},{"$f":"ClassementGenéral!H163","v":0},{"$f":"ClassementGenéral!I163","v":0}]
[{"$f":"ClassementGenéral!A164","v":0},{"$f":"ClassementGenéral!B164","v":63},{"$f":"ClassementGenéral!C164","v":0},{"$f":"ClassementGenéral!D164","v":0},{"$f":"ClassementGenéral!E164","v":0},{"$f":"ClassementGenéral!F164","v":0},{"$f":"ClassementGenéral!G164","v":0},{"$f":"ClassementGenéral!H164","v":0},{"$f":"ClassementGenéral!I164","v":0}]
[{"$f":"ClassementGenéral!A165","v":0},{"$f":"ClassementGenéral!B165","v":64},{"$f":"ClassementGenéral!C165","v":0},{"$f":"ClassementGenéral!D165","v":0},{"$f":"ClassementGenéral!E165","v":0},{"$f":"ClassementGenéral!F165","v":0},{"$f":"ClassementGenéral!G165","v":0},{"$f":"ClassementGenéral!H165","v":0},{"$f":"ClassementGenéral!I165","v":0}]
[{"$f":"ClassementGenéral!A166","v":0},{"$f":"ClassementGenéral!B166","v":65},{"$f":"ClassementGenéral!C166","v":0},{"$f":"ClassementGenéral!D166","v":0},{"$f":"ClassementGenéral!E166","v":0},{"$f":"ClassementGenéral!F166","v":0},{"$f":"ClassementGenéral!G166","v":0},{"$f":"ClassementGenéral!H166","v":0},{"$f":"ClassementGenéral!I166","v":0}]
[{"$f":"ClassementGenéral!A167","v":0},{"$f":"ClassementGenéral!B167","v":66},{"$f":"ClassementGenéral!C167","v":0},{"$f":"ClassementGenéral!D167","v":0},{"$f":"ClassementGenéral!E167","v":0},{"$f":"ClassementGenéral!F167","v":0},{"$f":"ClassementGenéral!G167","v":0},{"$f":"ClassementGenéral!H167","v":0},{"$f":"ClassementGenéral!I167","v":0}]
[{"$f":"ClassementGenéral!A168","v":0},{"$f":"ClassementGenéral!B168","v":67},{"$f":"ClassementGenéral!C168","v":0},{"$f":"ClassementGenéral!D168","v":0},{"$f":"ClassementGenéral!E168","v":0},{"$f":"ClassementGenéral!F168","v":0},{"$f":"ClassementGenéral!G168","v":0},{"$f":"ClassementGenéral!H168","v":0},{"$f":"ClassementGenéral!I168","v":0}]
[{"$f":"ClassementGenéral!A169","v":0},{"$f":"ClassementGenéral!B169","v":68},{"$f":"ClassementGenéral!C169","v":0},{"$f":"ClassementGenéral!D169","v":0},{"$f":"ClassementGenéral!E169","v":0},{"$f":"ClassementGenéral!F169","v":0},{"$f":"ClassementGenéral!G169","v":0},{"$f":"ClassementGenéral!H169","v":0},{"$f":"ClassementGenéral!I169","v":0}]
[{"$f":"ClassementGenéral!A170","v":0},{"$f":"ClassementGenéral!B170","v":69},{"$f":"ClassementGenéral!C170","v":0},{"$f":"ClassementGenéral!D170","v":0},{"$f":"ClassementGenéral!E170","v":0},{"$f":"ClassementGenéral!F170","v":0},{"$f":"ClassementGenéral!G170","v":0},{"$f":"ClassementGenéral!H170","v":0},{"$f":"ClassementGenéral!I170","v":0}]
[{"$f":"ClassementGenéral!A171","v":0},{"$f":"ClassementGenéral!B171","v":70},{"$f":"ClassementGenéral!C171","v":0},{"$f":"ClassementGenéral!D171","v":0},{"$f":"ClassementGenéral!E171","v":0},{"$f":"ClassementGenéral!F171","v":0},{"$f":"ClassementGenéral!G171","v":0},{"$f":"ClassementGenéral!H171","v":0},{"$f":"ClassementGenéral!I171","v":0}]
[{"$f":"ClassementGenéral!A172","v":0},{"$f":"ClassementGenéral!B172","v":71},{"$f":"ClassementGenéral!C172","v":0},{"$f":"ClassementGenéral!D172","v":0},{"$f":"ClassementGenéral!E172","v":0},{"$f":"ClassementGenéral!F172","v":0},{"$f":"ClassementGenéral!G172","v":0},{"$f":"ClassementGenéral!H172","v":0},{"$f":"ClassementGenéral!I172","v":0}]
[{"$f":"ClassementGenéral!A173","v":0},{"$f":"ClassementGenéral!B173","v":72},{"$f":"ClassementGenéral!C173","v":0},{"$f":"ClassementGenéral!D173","v":0},{"$f":"ClassementGenéral!E173","v":0},{"$f":"ClassementGenéral!F173","v":0},{"$f":"ClassementGenéral!G173","v":0},{"$f":"ClassementGenéral!H173","v":0},{"$f":"ClassementGenéral!I173","v":0}]
[{"$f":"ClassementGenéral!A174","v":0},{"$f":"ClassementGenéral!B174","v":73},{"$f":"ClassementGenéral!C174","v":0},{"$f":"ClassementGenéral!D174","v":0},{"$f":"ClassementGenéral!E174","v":0},{"$f":"ClassementGenéral!F174","v":0},{"$f":"ClassementGenéral!G174","v":0},{"$f":"ClassementGenéral!H174","v":0},{"$f":"ClassementGenéral!I174","v":0}]
[{"$f":"ClassementGenéral!A175","v":0},{"$f":"ClassementGenéral!B175","v":74},{"$f":"ClassementGenéral!C175","v":0},{"$f":"ClassementGenéral!D175","v":0},{"$f":"ClassementGenéral!E175","v":0},{"$f":"ClassementGenéral!F175","v":0},{"$f":"ClassementGenéral!G175","v":0},{"$f":"ClassementGenéral!H175","v":0},{"$f":"ClassementGenéral!I175","v":0}]
[{"$f":"ClassementGenéral!A176","v":0},{"$f":"ClassementGenéral!B176","v":75},{"$f":"ClassementGenéral!C176","v":0},{"$f":"ClassementGenéral!D176","v":0},{"$f":"ClassementGenéral!E176","v":0},{"$f":"ClassementGenéral!F176","v":0},{"$f":"ClassementGenéral!G176","v":0},{"$f":"ClassementGenéral!H176","v":0},{"$f":"ClassementGenéral!I176","v":0}]
[{"$f":"ClassementGenéral!A177","v":0},{"$f":"ClassementGenéral!B177","v":76},{"$f":"ClassementGenéral!C177","v":0},{"$f":"ClassementGenéral!D177","v":0},{"$f":"ClassementGenéral!E177","v":0},{"$f":"ClassementGenéral!F177","v":0},{"$f":"ClassementGenéral!G177","v":0},{"$f":"ClassementGenéral!H177","v":0},{"$f":"ClassementGenéral!I177","v":0}]
[{"$f":"ClassementGenéral!A178","v":0},{"$f":"ClassementGenéral!B178","v":77},{"$f":"ClassementGenéral!C178","v":0},{"$f":"ClassementGenéral!D178","v":0},{"$f":"ClassementGenéral!E178","v":0},{"$f":"ClassementGenéral!F178","v":0},{"$f":"ClassementGenéral!G178","v":0},{"$f":"ClassementGenéral!H178","v":0},{"$f":"ClassementGenéral!I178","v":0}]
[{"$f":"ClassementGenéral!A179","v":0},{"$f":"ClassementGenéral!B179","v":78},{"$f":"ClassementGenéral!C179","v":0},{"$f":"ClassementGenéral!D179","v":0},{"$f":"ClassementGenéral!E179","v":0},{"$f":"ClassementGenéral!F179","v":0},{"$f":"ClassementGenéral!G179","v":0},{"$f":"ClassementGenéral!H179","v":0},{"$f":"ClassementGenéral!I179","v":0}]
[{"$f":"ClassementGenéral!A180","v":0},{"$f":"ClassementGenéral!B180","v":79},{"$f":"ClassementGenéral!C180","v":0},{"$f":"ClassementGenéral!D180","v":0},{"$f":"ClassementGenéral!E180","v":0},{"$f":"ClassementGenéral!F180","v":0},{"$f":"ClassementGenéral!G180","v":0},{"$f":"ClassementGenéral!H180","v":0},{"$f":"ClassementGenéral!I180","v":0}]
[{"$f":"ClassementGenéral!A181","v":0},{"$f":"ClassementGenéral!B181","v":80},{"$f":"ClassementGenéral!C181","v":0},{"$f":"ClassementGenéral!D181","v":0},{"$f":"ClassementGenéral!E181","v":0},{"$f":"ClassementGenéral!F181","v":0},{"$f":"ClassementGenéral!G181","v":0},{"$f":"ClassementGenéral!H181","v":0},{"$f":"ClassementGenéral!I181","v":0}]
[{"$f":"ClassementGenéral!A182","v":0},{"$f":"ClassementGenéral!B182","v":81},{"$f":"ClassementGenéral!C182","v":0},{"$f":"ClassementGenéral!D182","v":0},{"$f":"ClassementGenéral!E182","v":0},{"$f":"ClassementGenéral!F182","v":0},{"$f":"ClassementGenéral!G182","v":0},{"$f":"ClassementGenéral!H182","v":0},{"$f":"ClassementGenéral!I182","v":0}]
[{"$f":"ClassementGenéral!A183","v":0},{"$f":"ClassementGenéral!B183","v":82},{"$f":"ClassementGenéral!C183","v":0},{"$f":"ClassementGenéral!D183","v":0},{"$f":"ClassementGenéral!E183","v":0},{"$f":"ClassementGenéral!F183","v":0},{"$f":"ClassementGenéral!G183","v":0},{"$f":"ClassementGenéral!H183","v":0},{"$f":"ClassementGenéral!I183","v":0}]
[{"$f":"ClassementGenéral!A184","v":0},{"$f":"ClassementGenéral!B184","v":83},{"$f":"ClassementGenéral!C184","v":0},{"$f":"ClassementGenéral!D184","v":0},{"$f":"ClassementGenéral!E184","v":0},{"$f":"ClassementGenéral!F184","v":0},{"$f":"ClassementGenéral!G184","v":0},{"$f":"ClassementGenéral!H184","v":0},{"$f":"ClassementGenéral!I184","v":0}]
[{"$f":"ClassementGenéral!A185","v":0},{"$f":"ClassementGenéral!B185","v":84},{"$f":"ClassementGenéral!C185","v":0},{"$f":"ClassementGenéral!D185","v":0},{"$f":"ClassementGenéral!E185","v":0},{"$f":"ClassementGenéral!F185","v":0},{"$f":"ClassementGenéral!G185","v":0},{"$f":"ClassementGenéral!H185","v":0},{"$f":"ClassementGenéral!I185","v":0}]
[{"$f":"ClassementGenéral!A186","v":0},{"$f":"ClassementGenéral!B186","v":85},{"$f":"ClassementGenéral!C186","v":0},{"$f":"ClassementGenéral!D186","v":0},{"$f":"ClassementGenéral!E186","v":0},{"$f":"ClassementGenéral!F186","v":0},{"$f":"ClassementGenéral!G186","v":0},{"$f":"ClassementGenéral!H186","v":0},{"$f":"ClassementGenéral!I186","v":0}]
[{"$f":"ClassementGenéral!A187","v":0},{"$f":"ClassementGenéral!B187","v":86},{"$f":"ClassementGenéral!C187","v":0},{"$f":"ClassementGenéral!D187","v":0},{"$f":"ClassementGenéral!E187","v":0},{"$f":"ClassementGenéral!F187","v":0},{"$f":"ClassementGenéral!G187","v":0},{"$f":"ClassementGenéral!H187","v":0},{"$f":"ClassementGenéral!I187","v":0}]
[{"$f":"ClassementGenéral!A188","v":0},{"$f":"ClassementGenéral!B188","v":87},{"$f":"ClassementGenéral!C188","v":0},{"$f":"ClassementGenéral!D188","v":0},{"$f":"ClassementGenéral!E188","v":0},{"$f":"ClassementGenéral!F188","v":0},{"$f":"ClassementGenéral!G188","v":0},{"$f":"ClassementGenéral!H188","v":0},{"$f":"ClassementGenéral!I188","v":0}]
[{"$f":"ClassementGenéral!A189","v":0},{"$f":"ClassementGenéral!B189","v":88},{"$f":"ClassementGenéral!C189","v":0},{"$f":"ClassementGenéral!D189","v":0},{"$f":"ClassementGenéral!E189","v":0},{"$f":"ClassementGenéral!F189","v":0},{"$f":"ClassementGenéral!G189","v":0},{"$f":"ClassementGenéral!H189","v":0},{"$f":"ClassementGenéral!I189","v":0}]
[{"$f":"ClassementGenéral!A190","v":0},{"$f":"ClassementGenéral!B190","v":89},{"$f":"ClassementGenéral!C190","v":0},{"$f":"ClassementGenéral!D190","v":0},{"$f":"ClassementGenéral!E190","v":0},{"$f":"ClassementGenéral!F190","v":0},{"$f":"ClassementGenéral!G190","v":0},{"$f":"ClassementGenéral!H190","v":0},{"$f":"ClassementGenéral!I190","v":0}]
[{"$f":"ClassementGenéral!A191","v":0},{"$f":"ClassementGenéral!B191","v":90},{"$f":"ClassementGenéral!C191","v":0},{"$f":"ClassementGenéral!D191","v":0},{"$f":"ClassementGenéral!E191","v":0},{"$f":"ClassementGenéral!F191","v":0},{"$f":"ClassementGenéral!G191","v":0},{"$f":"ClassementGenéral!H191","v":0},{"$f":"ClassementGenéral!I191","v":0}]
[{"$f":"ClassementGenéral!A192","v":0},{"$f":"ClassementGenéral!B192","v":91},{"$f":"ClassementGenéral!C192","v":0},{"$f":"ClassementGenéral!D192","v":0},{"$f":"ClassementGenéral!E192","v":0},{"$f":"ClassementGenéral!F192","v":0},{"$f":"ClassementGenéral!G192","v":0},{"$f":"ClassementGenéral!H192","v":0},{"$f":"ClassementGenéral!I192","v":0}]
[{"$f":"ClassementGenéral!A193","v":0},{"$f":"ClassementGenéral!B193","v":92},{"$f":"ClassementGenéral!C193","v":0},{"$f":"ClassementGenéral!D193","v":0},{"$f":"ClassementGenéral!E193","v":0},{"$f":"ClassementGenéral!F193","v":0},{"$f":"ClassementGenéral!G193","v":0},{"$f":"ClassementGenéral!H193","v":0},{"$f":"ClassementGenéral!I193","v":0}]
[{"$f":"ClassementGenéral!A194","v":0},{"$f":"ClassementGenéral!B194","v":93},{"$f":"ClassementGenéral!C194","v":0},{"$f":"ClassementGenéral!D194","v":0},{"$f":"ClassementGenéral!E194","v":0},{"$f":"ClassementGenéral!F194","v":0},{"$f":"ClassementGenéral!G194","v":0},{"$f":"ClassementGenéral!H194","v":0},{"$f":"ClassementGenéral!I194","v":0}]
[{"$f":"ClassementGenéral!A195","v":0},{"$f":"ClassementGenéral!B195","v":94},{"$f":"ClassementGenéral!C195","v":0},{"$f":"ClassementGenéral!D195","v":0},{"$f":"ClassementGenéral!E195","v":0},{"$f":"ClassementGenéral!F195","v":0},{"$f":"ClassementGenéral!G195","v":0},{"$f":"ClassementGenéral!H195","v":0},{"$f":"ClassementGenéral!I195","v":0}]
[{"$f":"ClassementGenéral!A196","v":0},{"$f":"ClassementGenéral!B196","v":95},{"$f":"ClassementGenéral!C196","v":0},{"$f":"ClassementGenéral!D196","v":0},{"$f":"ClassementGenéral!E196","v":0},{"$f":"ClassementGenéral!F196","v":0},{"$f":"ClassementGenéral!G196","v":0},{"$f":"ClassementGenéral!H196","v":0},{"$f":"ClassementGenéral!I196","v":0}]
[{"$f":"ClassementGenéral!A197","v":0},{"$f":"ClassementGenéral!B197","v":96},{"$f":"ClassementGenéral!C197","v":0},{"$f":"ClassementGenéral!D197","v":0},{"$f":"ClassementGenéral!E197","v":0},{"$f":"ClassementGenéral!F197","v":0},{"$f":"ClassementGenéral!G197","v":0},{"$f":"ClassementGenéral!H197","v":0},{"$f":"ClassementGenéral!I197","v":0}]
[{"$f":"ClassementGenéral!A198","v":0},{"$f":"ClassementGenéral!B198","v":97},{"$f":"ClassementGenéral!C198","v":0},{"$f":"ClassementGenéral!D198","v":0},{"$f":"ClassementGenéral!E198","v":0},{"$f":"ClassementGenéral!F198","v":0},{"$f":"ClassementGenéral!G198","v":0},{"$f":"ClassementGenéral!H198","v":0},{"$f":"ClassementGenéral!I198","v":0}]
[{"$f":"ClassementGenéral!A199","v":0},{"$f":"ClassementGenéral!B199","v":98},{"$f":"ClassementGenéral!C199","v":0},{"$f":"ClassementGenéral!D199","v":0},{"$f":"ClassementGenéral!E199","v":0},{"$f":"ClassementGenéral!F199","v":0},{"$f":"ClassementGenéral!G199","v":0},{"$f":"ClassementGenéral!H199","v":0},{"$f":"ClassementGenéral!I199","v":0}]
[{"$f":"ClassementGenéral!A200","v":0},{"$f":"ClassementGenéral!B200","v":99},{"$f":"ClassementGenéral!C200","v":0},{"$f":"ClassementGenéral!D200","v":0},{"$f":"ClassementGenéral!E200","v":0},{"$f":"ClassementGenéral!F200","v":0},{"$f":"ClassementGenéral!G200","v":0},{"$f":"ClassementGenéral!H200","v":0},{"$f":"ClassementGenéral!I200","v":0}]
[{"$f":"ClassementGenéral!A201","v":0},{"$f":"ClassementGenéral!B201","v":0},{"$f":"ClassementGenéral!C201","v":0},{"$f":"ClassementGenéral!D201","v":0},{"$f":"ClassementGenéral!E201","v":0},{"$f":"ClassementGenéral!F201","v":0},{"$f":"ClassementGenéral!G201","v":0},{"$f":"ClassementGenéral!H201","v":0},{"$f":"ClassementGenéral!I201","v":0}]
[{"$f":"ClassementGenéral!A202","v":0},{"$f":"ClassementGenéral!B202","v":0},{"$f":"ClassementGenéral!C202","v":0},{"$f":"ClassementGenéral!D202","v":0},{"$f":"ClassementGenéral!E202","v":0},{"$f":"ClassementGenéral!F202","v":0},{"$f":"ClassementGenéral!G202","v":0},{"$f":"ClassementGenéral!H202","v":0},{"$f":"ClassementGenéral!I202","v":0}]
[{"$f":"ClassementGenéral!A203","v":0},{"$f":"ClassementGenéral!B203","v":0},{"$f":"ClassementGenéral!C203","v":0},{"$f":"ClassementGenéral!D203","v":0},{"$f":"ClassementGenéral!E203","v":0},{"$f":"ClassementGenéral!F203","v":0},{"$f":"ClassementGenéral!G203","v":0},{"$f":"ClassementGenéral!H203","v":0},{"$f":"ClassementGenéral!I203","v":0}]
[{"$f":"ClassementGenéral!A204","v":0},{"$f":"ClassementGenéral!B204","v":0},{"$f":"ClassementGenéral!C204","v":0},{"$f":"ClassementGenéral!D204","v":0},{"$f":"ClassementGenéral!E204","v":0},{"$f":"ClassementGenéral!F204","v":0},{"$f":"ClassementGenéral!G204","v":0},{"$f":"ClassementGenéral!H204","v":0},{"$f":"ClassementGenéral!I204","v":0}]
[{"$f":"ClassementGenéral!A205","v":0},{"$f":"ClassementGenéral!B205","v":0},{"$f":"ClassementGenéral!C205","v":0},{"$f":"ClassementGenéral!D205","v":0},{"$f":"ClassementGenéral!E205","v":0},{"$f":"ClassementGenéral!F205","v":0},{"$f":"ClassementGenéral!G205","v":0},{"$f":"ClassementGenéral!H205","v":0},{"$f":"ClassementGenéral!I205","v":0}]
[{"$f":"ClassementGenéral!A206","v":0},{"$f":"ClassementGenéral!B206","v":0},{"$f":"ClassementGenéral!C206","v":0},{"$f":"ClassementGenéral!D206","v":0},{"$f":"ClassementGenéral!E206","v":0},{"$f":"ClassementGenéral!F206","v":0},{"$f":"ClassementGenéral!G206","v":0},{"$f":"ClassementGenéral!H206","v":0},{"$f":"ClassementGenéral!I206","v":0}]
[{"$f":"ClassementGenéral!A207","v":0},{"$f":"ClassementGenéral!B207","v":0},{"$f":"ClassementGenéral!C207","v":0},{"$f":"ClassementGenéral!D207","v":0},{"$f":"ClassementGenéral!E207","v":0},{"$f":"ClassementGenéral!F207","v":0},{"$f":"ClassementGenéral!G207","v":0},{"$f":"ClassementGenéral!H207","v":0},{"$f":"ClassementGenéral!I207","v":0}]
[{"$f":"ClassementGenéral!A208","v":0},{"$f":"ClassementGenéral!B208","v":0},{"$f":"ClassementGenéral!C208","v":0},{"$f":"ClassementGenéral!D208","v":0},{"$f":"ClassementGenéral!E208","v":0},{"$f":"ClassementGenéral!F208","v":0},{"$f":"ClassementGenéral!G208","v":0},{"$f":"ClassementGenéral!H208","v":0},{"$f":"ClassementGenéral!I208","v":0}]
[{"$f":"ClassementGenéral!A209","v":0},{"$f":"ClassementGenéral!B209","v":0},{"$f":"ClassementGenéral!C209","v":0},{"$f":"ClassementGenéral!D209","v":0},{"$f":"ClassementGenéral!E209","v":0},{"$f":"ClassementGenéral!F209","v":0},{"$f":"ClassementGenéral!G209","v":0},{"$f":"ClassementGenéral!H209","v":0},{"$f":"ClassementGenéral!I209","v":0}]
[{"$f":"ClassementGenéral!A210","v":0},{"$f":"ClassementGenéral!B210","v":0},{"$f":"ClassementGenéral!C210","v":0},{"$f":"ClassementGenéral!D210","v":0},{"$f":"ClassementGenéral!E210","v":0},{"$f":"ClassementGenéral!F210","v":0},{"$f":"ClassementGenéral!G210","v":0},{"$f":"ClassementGenéral!H210","v":0},{"$f":"ClassementGenéral!I210","v":0}]
[{"$f":"ClassementGenéral!A211","v":0},{"$f":"ClassementGenéral!B211","v":0},{"$f":"ClassementGenéral!C211","v":0},{"$f":"ClassementGenéral!D211","v":0},{"$f":"ClassementGenéral!E211","v":0},{"$f":"ClassementGenéral!F211","v":0},{"$f":"ClassementGenéral!G211","v":0},{"$f":"ClassementGenéral!H211","v":0},{"$f":"ClassementGenéral!I211","v":0}]
[{"$f":"ClassementGenéral!A212","v":0},{"$f":"ClassementGenéral!B212","v":0},{"$f":"ClassementGenéral!C212","v":0},{"$f":"ClassementGenéral!D212","v":0},{"$f":"ClassementGenéral!E212","v":0},{"$f":"ClassementGenéral!F212","v":0},{"$f":"ClassementGenéral!G212","v":0},{"$f":"ClassementGenéral!H212","v":0},{"$f":"ClassementGenéral!I212","v":0}]
[null,"FIN"]
[]
[]
[null,null,{"$f":"ClassementGenéral!C216","v":0},{"$f":"ClassementGenéral!D216","v":""}]
[null,null,{"$f":"ClassementGenéral!C217","v":0},{"$f":"ClassementGenéral!D217","v":0}]
[{"$f":"ClassementGenéral!A218","v":"4e"},"Catégorie",{"$f":"ClassementGenéral!C218","v":0},{"$f":"ClassementGenéral!D218","v":0}]
[{"$f":"ClassementGenéral!A219","v":"Place"},{"$f":"ClassementGenéral!B219","v":"Doss"},{"$f":"ClassementGenéral!C219","v":"Nom Prénom"},{"$f":"ClassementGenéral!D219","v":"Club"},{"$f":"ClassementGenéral!E219","v":"Sexe"},{"$f":"ClassementGenéral!F219","v":"Cat"},"Cat Âge",{"$f":"ClassementGenéral!H219","v":"Dep"},{"$f":"ClassementGenéral!I219","v":"Fed"}]
[{"$f":"ClassementGenéral!A220","v":0},{"$f":"ClassementGenéral!B220","v":1},{"$f":"ClassementGenéral!C220","v":0},{"$f":"ClassementGenéral!D220","v":0},{"$f":"ClassementGenéral!E220","v":0},{"$f":"ClassementGenéral!F220","v":0},{"$f":"ClassementGenéral!G220","v":0},{"$f":"ClassementGenéral!H220","v":0},{"$f":"ClassementGenéral!I220","v":0}]
[{"$f":"ClassementGenéral!A221","v":0},{"$f":"ClassementGenéral!B221","v":2},{"$f":"ClassementGenéral!C221","v":0},{"$f":"ClassementGenéral!D221","v":0},{"$f":"ClassementGenéral!E221","v":0},{"$f":"ClassementGenéral!F221","v":0},{"$f":"ClassementGenéral!G221","v":0},{"$f":"ClassementGenéral!H221","v":0},{"$f":"ClassementGenéral!I221","v":0}]
[{"$f":"ClassementGenéral!A222","v":0},{"$f":"ClassementGenéral!B222","v":3},{"$f":"ClassementGenéral!C222","v":0},{"$f":"ClassementGenéral!D222","v":0},{"$f":"ClassementGenéral!E222","v":0},{"$f":"ClassementGenéral!F222","v":0},{"$f":"ClassementGenéral!G222","v":0},{"$f":"ClassementGenéral!H222","v":0},{"$f":"ClassementGenéral!I222","v":0}]
[{"$f":"ClassementGenéral!A223","v":0},{"$f":"ClassementGenéral!B223","v":4},{"$f":"ClassementGenéral!C223","v":0},{"$f":"ClassementGenéral!D223","v":0},{"$f":"ClassementGenéral!E223","v":0},{"$f":"ClassementGenéral!F223","v":0},{"$f":"ClassementGenéral!G223","v":0},{"$f":"ClassementGenéral!H223","v":0},{"$f":"ClassementGenéral!I223","v":0}]
[{"$f":"ClassementGenéral!A224","v":0},{"$f":"ClassementGenéral!B224","v":5},{"$f":"ClassementGenéral!C224","v":0},{"$f":"ClassementGenéral!D224","v":0},{"$f":"ClassementGenéral!E224","v":0},{"$f":"ClassementGenéral!F224","v":0},{"$f":"ClassementGenéral!G224","v":0},{"$f":"ClassementGenéral!H224","v":0},{"$f":"ClassementGenéral!I224","v":0}]
[{"$f":"ClassementGenéral!A225","v":0},{"$f":"ClassementGenéral!B225","v":6},{"$f":"ClassementGenéral!C225","v":0},{"$f":"ClassementGenéral!D225","v":0},{"$f":"ClassementGenéral!E225","v":0},{"$f":"ClassementGenéral!F225","v":0},{"$f":"ClassementGenéral!G225","v":0},{"$f":"ClassementGenéral!H225","v":0},{"$f":"ClassementGenéral!I225","v":0}]
[{"$f":"ClassementGenéral!A226","v":0},{"$f":"ClassementGenéral!B226","v":7},{"$f":"ClassementGenéral!C226","v":0},{"$f":"ClassementGenéral!D226","v":0},{"$f":"ClassementGenéral!E226","v":0},{"$f":"ClassementGenéral!F226","v":0},{"$f":"ClassementGenéral!G226","v":0},{"$f":"ClassementGenéral!H226","v":0},{"$f":"ClassementGenéral!I226","v":0}]
[{"$f":"ClassementGenéral!A227","v":0},{"$f":"ClassementGenéral!B227","v":8},{"$f":"ClassementGenéral!C227","v":0},{"$f":"ClassementGenéral!D227","v":0},{"$f":"ClassementGenéral!E227","v":0},{"$f":"ClassementGenéral!F227","v":0},{"$f":"ClassementGenéral!G227","v":0},{"$f":"ClassementGenéral!H227","v":0},{"$f":"ClassementGenéral!I227","v":0}]
[{"$f":"ClassementGenéral!A228","v":0},{"$f":"ClassementGenéral!B228","v":9},{"$f":"ClassementGenéral!C228","v":0},{"$f":"ClassementGenéral!D228","v":0},{"$f":"ClassementGenéral!E228","v":0},{"$f":"ClassementGenéral!F228","v":0},{"$f":"ClassementGenéral!G228","v":0},{"$f":"ClassementGenéral!H228","v":0},{"$f":"ClassementGenéral!I228","v":0}]
[{"$f":"ClassementGenéral!A229","v":0},{"$f":"ClassementGenéral!B229","v":10},{"$f":"ClassementGenéral!C229","v":0},{"$f":"ClassementGenéral!D229","v":0},{"$f":"ClassementGenéral!E229","v":0},{"$f":"ClassementGenéral!F229","v":0},{"$f":"ClassementGenéral!G229","v":0},{"$f":"ClassementGenéral!H229","v":0},{"$f":"ClassementGenéral!I229","v":0}]
[{"$f":"ClassementGenéral!A230","v":0},{"$f":"ClassementGenéral!B230","v":11},{"$f":"ClassementGenéral!C230","v":0},{"$f":"ClassementGenéral!D230","v":0},{"$f":"ClassementGenéral!E230","v":0},{"$f":"ClassementGenéral!F230","v":0},{"$f":"ClassementGenéral!G230","v":0},{"$f":"ClassementGenéral!H230","v":0},{"$f":"ClassementGenéral!I230","v":0}]
[{"$f":"ClassementGenéral!A231","v":0},{"$f":"ClassementGenéral!B231","v":12},{"$f":"ClassementGenéral!C231","v":0},{"$f":"ClassementGenéral!D231","v":0},{"$f":"ClassementGenéral!E231","v":0},{"$f":"ClassementGenéral!F231","v":0},{"$f":"ClassementGenéral!G231","v":0},{"$f":"ClassementGenéral!H231","v":0},{"$f":"ClassementGenéral!I231","v":0}]
[{"$f":"ClassementGenéral!A232","v":0},{"$f":"ClassementGenéral!B232","v":13},{"$f":"ClassementGenéral!C232","v":0},{"$f":"ClassementGenéral!D232","v":0},{"$f":"ClassementGenéral!E232","v":0},{"$f":"ClassementGenéral!F232","v":0},{"$f":"ClassementGenéral!G232","v":0},{"$f":"ClassementGenéral!H232","v":0},{"$f":"ClassementGenéral!I232","v":0}]
[{"$f":"ClassementGenéral!A233","v":0},{"$f":"ClassementGenéral!B233","v":14},{"$f":"ClassementGenéral!C233","v":0},{"$f":"ClassementGenéral!D233","v":0},{"$f":"ClassementGenéral!E233","v":0},{"$f":"ClassementGenéral!F233","v":0},{"$f":"ClassementGenéral!G233","v":0},{"$f":"ClassementGenéral!H233","v":0},{"$f":"ClassementGenéral!I233","v":0}]
[{"$f":"ClassementGenéral!A234","v":0},{"$f":"ClassementGenéral!B234","v":15},{"$f":"ClassementGenéral!C234","v":0},{"$f":"ClassementGenéral!D234","v":0},{"$f":"ClassementGenéral!E234","v":0},{"$f":"ClassementGenéral!F234","v":0},{"$f":"ClassementGenéral!G234","v":0},{"$f":"ClassementGenéral!H234","v":0},{"$f":"ClassementGenéral!I234","v":0}]
[{"$f":"ClassementGenéral!A235","v":0},{"$f":"ClassementGenéral!B235","v":16},{"$f":"ClassementGenéral!C235","v":0},{"$f":"ClassementGenéral!D235","v":0},{"$f":"ClassementGenéral!E235","v":0},{"$f":"ClassementGenéral!F235","v":0},{"$f":"ClassementGenéral!G235","v":0},{"$f":"ClassementGenéral!H235","v":0},{"$f":"ClassementGenéral!I235","v":0}]
[{"$f":"ClassementGenéral!A236","v":0},{"$f":"ClassementGenéral!B236","v":17},{"$f":"ClassementGenéral!C236","v":0},{"$f":"ClassementGenéral!D236","v":0},{"$f":"ClassementGenéral!E236","v":0},{"$f":"ClassementGenéral!F236","v":0},{"$f":"ClassementGenéral!G236","v":0},{"$f":"ClassementGenéral!H236","v":0},{"$f":"ClassementGenéral!I236","v":0}]
[{"$f":"ClassementGenéral!A237","v":0},{"$f":"ClassementGenéral!B237","v":18},{"$f":"ClassementGenéral!C237","v":0},{"$f":"ClassementGenéral!D237","v":0},{"$f":"ClassementGenéral!E237","v":0},{"$f":"ClassementGenéral!F237","v":0},{"$f":"ClassementGenéral!G237","v":0},{"$f":"ClassementGenéral!H237","v":0},{"$f":"ClassementGenéral!I237","v":0}]
[{"$f":"ClassementGenéral!A238","v":0},{"$f":"ClassementGenéral!B238","v":19},{"$f":"ClassementGenéral!C238","v":0},{"$f":"ClassementGenéral!D238","v":0},{"$f":"ClassementGenéral!E238","v":0},{"$f":"ClassementGenéral!F238","v":0},{"$f":"ClassementGenéral!G238","v":0},{"$f":"ClassementGenéral!H238","v":0},{"$f":"ClassementGenéral!I238","v":0}]
[{"$f":"ClassementGenéral!A239","v":0},{"$f":"ClassementGenéral!B239","v":20},{"$f":"ClassementGenéral!C239","v":0},{"$f":"ClassementGenéral!D239","v":0},{"$f":"ClassementGenéral!E239","v":0},{"$f":"ClassementGenéral!F239","v":0},{"$f":"ClassementGenéral!G239","v":0},{"$f":"ClassementGenéral!H239","v":0},{"$f":"ClassementGenéral!I239","v":0}]
[{"$f":"ClassementGenéral!A240","v":0},{"$f":"ClassementGenéral!B240","v":21},{"$f":"ClassementGenéral!C240","v":0},{"$f":"ClassementGenéral!D240","v":0},{"$f":"ClassementGenéral!E240","v":0},{"$f":"ClassementGenéral!F240","v":0},{"$f":"ClassementGenéral!G240","v":0},{"$f":"ClassementGenéral!H240","v":0},{"$f":"ClassementGenéral!I240","v":0}]
[{"$f":"ClassementGenéral!A241","v":0},{"$f":"ClassementGenéral!B241","v":22},{"$f":"ClassementGenéral!C241","v":0},{"$f":"ClassementGenéral!D241","v":0},{"$f":"ClassementGenéral!E241","v":0},{"$f":"ClassementGenéral!F241","v":0},{"$f":"ClassementGenéral!G241","v":0},{"$f":"ClassementGenéral!H241","v":0},{"$f":"ClassementGenéral!I241","v":0}]
[{"$f":"ClassementGenéral!A242","v":0},{"$f":"ClassementGenéral!B242","v":23},{"$f":"ClassementGenéral!C242","v":0},{"$f":"ClassementGenéral!D242","v":0},{"$f":"ClassementGenéral!E242","v":0},{"$f":"ClassementGenéral!F242","v":0},{"$f":"ClassementGenéral!G242","v":0},{"$f":"ClassementGenéral!H242","v":0},{"$f":"ClassementGenéral!I242","v":0}]
[{"$f":"ClassementGenéral!A243","v":0},{"$f":"ClassementGenéral!B243","v":24},{"$f":"ClassementGenéral!C243","v":0},{"$f":"ClassementGenéral!D243","v":0},{"$f":"ClassementGenéral!E243","v":0},{"$f":"ClassementGenéral!F243","v":0},{"$f":"ClassementGenéral!G243","v":0},{"$f":"ClassementGenéral!H243","v":0},{"$f":"ClassementGenéral!I243","v":0}]
[{"$f":"ClassementGenéral!A244","v":0},{"$f":"ClassementGenéral!B244","v":25},{"$f":"ClassementGenéral!C244","v":0},{"$f":"ClassementGenéral!D244","v":0},{"$f":"ClassementGenéral!E244","v":0},{"$f":"ClassementGenéral!F244","v":0},{"$f":"ClassementGenéral!G244","v":0},{"$f":"ClassementGenéral!H244","v":0},{"$f":"ClassementGenéral!I244","v":0}]
[{"$f":"ClassementGenéral!A245","v":0},{"$f":"ClassementGenéral!B245","v":26},{"$f":"ClassementGenéral!C245","v":0},{"$f":"ClassementGenéral!D245","v":0},{"$f":"ClassementGenéral!E245","v":0},{"$f":"ClassementGenéral!F245","v":0},{"$f":"ClassementGenéral!G245","v":0},{"$f":"ClassementGenéral!H245","v":0},{"$f":"ClassementGenéral!I245","v":0}]
[{"$f":"ClassementGenéral!A246","v":0},{"$f":"ClassementGenéral!B246","v":27},{"$f":"ClassementGenéral!C246","v":0},{"$f":"ClassementGenéral!D246","v":0},{"$f":"ClassementGenéral!E246","v":0},{"$f":"ClassementGenéral!F246","v":0},{"$f":"ClassementGenéral!G246","v":0},{"$f":"ClassementGenéral!H246","v":0},{"$f":"ClassementGenéral!I246","v":0}]
[{"$f":"ClassementGenéral!A247","v":0},{"$f":"ClassementGenéral!B247","v":28},{"$f":"ClassementGenéral!C247","v":0},{"$f":"ClassementGenéral!D247","v":0},{"$f":"ClassementGenéral!E247","v":0},{"$f":"ClassementGenéral!F247","v":0},{"$f":"ClassementGenéral!G247","v":0},{"$f":"ClassementGenéral!H247","v":0},{"$f":"ClassementGenéral!I247","v":0}]
[{"$f":"ClassementGenéral!A248","v":0},{"$f":"ClassementGenéral!B248","v":29},{"$f":"ClassementGenéral!C248","v":0},{"$f":"ClassementGenéral!D248","v":0},{"$f":"ClassementGenéral!E248","v":0},{"$f":"ClassementGenéral!F248","v":0},{"$f":"ClassementGenéral!G248","v":0},{"$f":"ClassementGenéral!H248","v":0},{"$f":"ClassementGenéral!I248","v":0}]
[{"$f":"ClassementGenéral!A249","v":0},{"$f":"ClassementGenéral!B249","v":30},{"$f":"ClassementGenéral!C249","v":0},{"$f":"ClassementGenéral!D249","v":0},{"$f":"ClassementGenéral!E249","v":0},{"$f":"ClassementGenéral!F249","v":0},{"$f":"ClassementGenéral!G249","v":0},{"$f":"ClassementGenéral!H249","v":0},{"$f":"ClassementGenéral!I249","v":0}]
[{"$f":"ClassementGenéral!A250","v":0},{"$f":"ClassementGenéral!B250","v":31},{"$f":"ClassementGenéral!C250","v":0},{"$f":"ClassementGenéral!D250","v":0},{"$f":"ClassementGenéral!E250","v":0},{"$f":"ClassementGenéral!F250","v":0},{"$f":"ClassementGenéral!G250","v":0},{"$f":"ClassementGenéral!H250","v":0},{"$f":"ClassementGenéral!I250","v":0}]
[{"$f":"ClassementGenéral!A251","v":0},{"$f":"ClassementGenéral!B251","v":32},{"$f":"ClassementGenéral!C251","v":0},{"$f":"ClassementGenéral!D251","v":0},{"$f":"ClassementGenéral!E251","v":0},{"$f":"ClassementGenéral!F251","v":0},{"$f":"ClassementGenéral!G251","v":0},{"$f":"ClassementGenéral!H251","v":0},{"$f":"ClassementGenéral!I251","v":0}]
[{"$f":"ClassementGenéral!A252","v":0},{"$f":"ClassementGenéral!B252","v":33},{"$f":"ClassementGenéral!C252","v":0},{"$f":"ClassementGenéral!D252","v":0},{"$f":"ClassementGenéral!E252","v":0},{"$f":"ClassementGenéral!F252","v":0},{"$f":"ClassementGenéral!G252","v":0},{"$f":"ClassementGenéral!H252","v":0},{"$f":"ClassementGenéral!I252","v":0}]
[{"$f":"ClassementGenéral!A253","v":0},{"$f":"ClassementGenéral!B253","v":34},{"$f":"ClassementGenéral!C253","v":0},{"$f":"ClassementGenéral!D253","v":0},{"$f":"ClassementGenéral!E253","v":0},{"$f":"ClassementGenéral!F253","v":0},{"$f":"ClassementGenéral!G253","v":0},{"$f":"ClassementGenéral!H253","v":0},{"$f":"ClassementGenéral!I253","v":0}]
[{"$f":"ClassementGenéral!A254","v":0},{"$f":"ClassementGenéral!B254","v":35},{"$f":"ClassementGenéral!C254","v":0},{"$f":"ClassementGenéral!D254","v":0},{"$f":"ClassementGenéral!E254","v":0},{"$f":"ClassementGenéral!F254","v":0},{"$f":"ClassementGenéral!G254","v":0},{"$f":"ClassementGenéral!H254","v":0},{"$f":"ClassementGenéral!I254","v":0}]
[{"$f":"ClassementGenéral!A255","v":0},{"$f":"ClassementGenéral!B255","v":36},{"$f":"ClassementGenéral!C255","v":0},{"$f":"ClassementGenéral!D255","v":0},{"$f":"ClassementGenéral!E255","v":0},{"$f":"ClassementGenéral!F255","v":0},{"$f":"ClassementGenéral!G255","v":0},{"$f":"ClassementGenéral!H255","v":0},{"$f":"ClassementGenéral!I255","v":0}]
[{"$f":"ClassementGenéral!A256","v":0},{"$f":"ClassementGenéral!B256","v":37},{"$f":"ClassementGenéral!C256","v":0},{"$f":"ClassementGenéral!D256","v":0},{"$f":"ClassementGenéral!E256","v":0},{"$f":"ClassementGenéral!F256","v":0},{"$f":"ClassementGenéral!G256","v":0},{"$f":"ClassementGenéral!H256","v":0},{"$f":"ClassementGenéral!I256","v":0}]
[{"$f":"ClassementGenéral!A257","v":0},{"$f":"ClassementGenéral!B257","v":38},{"$f":"ClassementGenéral!C257","v":0},{"$f":"ClassementGenéral!D257","v":0},{"$f":"ClassementGenéral!E257","v":0},{"$f":"ClassementGenéral!F257","v":0},{"$f":"ClassementGenéral!G257","v":0},{"$f":"ClassementGenéral!H257","v":0},{"$f":"ClassementGenéral!I257","v":0}]
[{"$f":"ClassementGenéral!A258","v":0},{"$f":"ClassementGenéral!B258","v":39},{"$f":"ClassementGenéral!C258","v":0},{"$f":"ClassementGenéral!D258","v":0},{"$f":"ClassementGenéral!E258","v":0},{"$f":"ClassementGenéral!F258","v":0},{"$f":"ClassementGenéral!G258","v":0},{"$f":"ClassementGenéral!H258","v":0},{"$f":"ClassementGenéral!I258","v":0}]
[{"$f":"ClassementGenéral!A259","v":0},{"$f":"ClassementGenéral!B259","v":40},{"$f":"ClassementGenéral!C259","v":0},{"$f":"ClassementGenéral!D259","v":0},{"$f":"ClassementGenéral!E259","v":0},{"$f":"ClassementGenéral!F259","v":0},{"$f":"ClassementGenéral!G259","v":0},{"$f":"ClassementGenéral!H259","v":0},{"$f":"ClassementGenéral!I259","v":0}]
[{"$f":"ClassementGenéral!A260","v":0},{"$f":"ClassementGenéral!B260","v":41},{"$f":"ClassementGenéral!C260","v":0},{"$f":"ClassementGenéral!D260","v":0},{"$f":"ClassementGenéral!E260","v":0},{"$f":"ClassementGenéral!F260","v":0},{"$f":"ClassementGenéral!G260","v":0},{"$f":"ClassementGenéral!H260","v":0},{"$f":"ClassementGenéral!I260","v":0}]
[{"$f":"ClassementGenéral!A261","v":0},{"$f":"ClassementGenéral!B261","v":42},{"$f":"ClassementGenéral!C261","v":0},{"$f":"ClassementGenéral!D261","v":0},{"$f":"ClassementGenéral!E261","v":0},{"$f":"ClassementGenéral!F261","v":0},{"$f":"ClassementGenéral!G261","v":0},{"$f":"ClassementGenéral!H261","v":0},{"$f":"ClassementGenéral!I261","v":0}]
[{"$f":"ClassementGenéral!A262","v":0},{"$f":"ClassementGenéral!B262","v":43},{"$f":"ClassementGenéral!C262","v":0},{"$f":"ClassementGenéral!D262","v":0},{"$f":"ClassementGenéral!E262","v":0},{"$f":"ClassementGenéral!F262","v":0},{"$f":"ClassementGenéral!G262","v":0},{"$f":"ClassementGenéral!H262","v":0},{"$f":"ClassementGenéral!I262","v":0}]
[{"$f":"ClassementGenéral!A263","v":0},{"$f":"ClassementGenéral!B263","v":44},{"$f":"ClassementGenéral!C263","v":0},{"$f":"ClassementGenéral!D263","v":0},{"$f":"ClassementGenéral!E263","v":0},{"$f":"ClassementGenéral!F263","v":0},{"$f":"ClassementGenéral!G263","v":0},{"$f":"ClassementGenéral!H263","v":0},{"$f":"ClassementGenéral!I263","v":0}]
[{"$f":"ClassementGenéral!A264","v":0},{"$f":"ClassementGenéral!B264","v":45},{"$f":"ClassementGenéral!C264","v":0},{"$f":"ClassementGenéral!D264","v":0},{"$f":"ClassementGenéral!E264","v":0},{"$f":"ClassementGenéral!F264","v":0},{"$f":"ClassementGenéral!G264","v":0},{"$f":"ClassementGenéral!H264","v":0},{"$f":"ClassementGenéral!I264","v":0}]
[{"$f":"ClassementGenéral!A265","v":0},{"$f":"ClassementGenéral!B265","v":46},{"$f":"ClassementGenéral!C265","v":0},{"$f":"ClassementGenéral!D265","v":0},{"$f":"ClassementGenéral!E265","v":0},{"$f":"ClassementGenéral!F265","v":0},{"$f":"ClassementGenéral!G265","v":0},{"$f":"ClassementGenéral!H265","v":0},{"$f":"ClassementGenéral!I265","v":0}]
[{"$f":"ClassementGenéral!A266","v":0},{"$f":"ClassementGenéral!B266","v":47},{"$f":"ClassementGenéral!C266","v":0},{"$f":"ClassementGenéral!D266","v":0},{"$f":"ClassementGenéral!E266","v":0},{"$f":"ClassementGenéral!F266","v":0},{"$f":"ClassementGenéral!G266","v":0},{"$f":"ClassementGenéral!H266","v":0},{"$f":"ClassementGenéral!I266","v":0}]
[{"$f":"ClassementGenéral!A267","v":0},{"$f":"ClassementGenéral!B267","v":48},{"$f":"ClassementGenéral!C267","v":0},{"$f":"ClassementGenéral!D267","v":0},{"$f":"ClassementGenéral!E267","v":0},{"$f":"ClassementGenéral!F267","v":0},{"$f":"ClassementGenéral!G267","v":0},{"$f":"ClassementGenéral!H267","v":0},{"$f":"ClassementGenéral!I267","v":0}]
[{"$f":"ClassementGenéral!A268","v":0},{"$f":"ClassementGenéral!B268","v":49},{"$f":"ClassementGenéral!C268","v":0},{"$f":"ClassementGenéral!D268","v":0},{"$f":"ClassementGenéral!E268","v":0},{"$f":"ClassementGenéral!F268","v":0},{"$f":"ClassementGenéral!G268","v":0},{"$f":"ClassementGenéral!H268","v":0},{"$f":"ClassementGenéral!I268","v":0}]
[{"$f":"ClassementGenéral!A269","v":0},{"$f":"ClassementGenéral!B269","v":0},{"$f":"ClassementGenéral!C269","v":0},{"$f":"ClassementGenéral!D269","v":0},{"$f":"ClassementGenéral!E269","v":0},{"$f":"ClassementGenéral!F269","v":0},{"$f":"ClassementGenéral!G269","v":0},{"$f":"ClassementGenéral!H269","v":0},{"$f":"ClassementGenéral!I269","v":0}]
[{"$f":"ClassementGenéral!A270","v":0},{"$f":"ClassementGenéral!B270","v":0},{"$f":"ClassementGenéral!C270","v":0},{"$f":"ClassementGenéral!D270","v":0},{"$f":"ClassementGenéral!E270","v":0},{"$f":"ClassementGenéral!F270","v":0},{"$f":"ClassementGenéral!G270","v":0},{"$f":"ClassementGenéral!H270","v":0},{"$f":"ClassementGenéral!I270","v":0}]
[{"$f":"ClassementGenéral!A271","v":0},{"$f":"ClassementGenéral!B271","v":0},{"$f":"ClassementGenéral!C271","v":0},{"$f":"ClassementGenéral!D271","v":0},{"$f":"ClassementGenéral!E271","v":0},{"$f":"ClassementGenéral!F271","v":0},{"$f":"ClassementGenéral!G271","v":0},{"$f":"ClassementGenéral!H271","v":0},{"$f":"ClassementGenéral!I271","v":0}]
[{"$f":"ClassementGenéral!A272","v":0},{"$f":"ClassementGenéral!B272","v":0},{"$f":"ClassementGenéral!C272","v":0},{"$f":"ClassementGenéral!D272","v":0},{"$f":"ClassementGenéral!E272","v":0},{"$f":"ClassementGenéral!F272","v":0},{"$f":"ClassementGenéral!G272","v":0},{"$f":"ClassementGenéral!H272","v":0},{"$f":"ClassementGenéral!I272","v":0}]
[{"$f":"ClassementGenéral!A273","v":0},{"$f":"ClassementGenéral!B273","v":0},{"$f":"ClassementGenéral!C273","v":0},{"$f":"ClassementGenéral!D273","v":0},{"$f":"ClassementGenéral!E273","v":0},{"$f":"ClassementGenéral!F273","v":0},{"$f":"ClassementGenéral!G273","v":0},{"$f":"ClassementGenéral!H273","v":0},{"$f":"ClassementGenéral!I273","v":0}]
[{"$f":"ClassementGenéral!A274","v":0},{"$f":"ClassementGenéral!B274","v":0},{"$f":"ClassementGenéral!C274","v":0},{"$f":"ClassementGenéral!D274","v":0},{"$f":"ClassementGenéral!E274","v":0},{"$f":"ClassementGenéral!F274","v":0},{"$f":"ClassementGenéral!G274","v":0},{"$f":"ClassementGenéral!H274","v":0},{"$f":"ClassementGenéral!I274","v":0}]
[{"$f":"ClassementGenéral!A275","v":0},{"$f":"ClassementGenéral!B275","v":0},{"$f":"ClassementGenéral!C275","v":0},{"$f":"ClassementGenéral!D275","v":0},{"$f":"ClassementGenéral!E275","v":0},{"$f":"ClassementGenéral!F275","v":0},{"$f":"ClassementGenéral!G275","v":0},{"$f":"ClassementGenéral!H275","v":0},{"$f":"ClassementGenéral!I275","v":0}]
[{"$f":"ClassementGenéral!A276","v":0},{"$f":"ClassementGenéral!B276","v":0},{"$f":"ClassementGenéral!C276","v":0},{"$f":"ClassementGenéral!D276","v":0},{"$f":"ClassementGenéral!E276","v":0},{"$f":"ClassementGenéral!F276","v":0},{"$f":"ClassementGenéral!G276","v":0},{"$f":"ClassementGenéral!H276","v":0},{"$f":"ClassementGenéral!I276","v":0}]
[{"$f":"ClassementGenéral!A277","v":0},{"$f":"ClassementGenéral!B277","v":0},{"$f":"ClassementGenéral!C277","v":0},{"$f":"ClassementGenéral!D277","v":0},{"$f":"ClassementGenéral!E277","v":0},{"$f":"ClassementGenéral!F277","v":0},{"$f":"ClassementGenéral!G277","v":0},{"$f":"ClassementGenéral!H277","v":0},{"$f":"ClassementGenéral!I277","v":0}]
[{"$f":"ClassementGenéral!A278","v":0},{"$f":"ClassementGenéral!B278","v":0},{"$f":"ClassementGenéral!C278","v":0},{"$f":"ClassementGenéral!D278","v":0},{"$f":"ClassementGenéral!E278","v":0},{"$f":"ClassementGenéral!F278","v":0},{"$f":"ClassementGenéral!G278","v":0},{"$f":"ClassementGenéral!H278","v":0},{"$f":"ClassementGenéral!I278","v":0}]
[{"$f":"ClassementGenéral!A279","v":0},{"$f":"ClassementGenéral!B279","v":0},{"$f":"ClassementGenéral!C279","v":0},{"$f":"ClassementGenéral!D279","v":0},{"$f":"ClassementGenéral!E279","v":0},{"$f":"ClassementGenéral!F279","v":0},{"$f":"ClassementGenéral!G279","v":0},{"$f":"ClassementGenéral!H279","v":0},{"$f":"ClassementGenéral!I279","v":0}]
[{"$f":"ClassementGenéral!A280","v":0},{"$f":"ClassementGenéral!B280","v":0},{"$f":"ClassementGenéral!C280","v":0},{"$f":"ClassementGenéral!D280","v":0},{"$f":"ClassementGenéral!E280","v":0},{"$f":"ClassementGenéral!F280","v":0},{"$f":"ClassementGenéral!G280","v":0},{"$f":"ClassementGenéral!H280","v":0},{"$f":"ClassementGenéral!I280","v":0}]
[{"$f":"ClassementGenéral!A281","v":0},{"$f":"ClassementGenéral!B281","v":0},{"$f":"ClassementGenéral!C281","v":0},{"$f":"ClassementGenéral!D281","v":0},{"$f":"ClassementGenéral!E281","v":0},{"$f":"ClassementGenéral!F281","v":0},{"$f":"ClassementGenéral!G281","v":0},{"$f":"ClassementGenéral!H281","v":0},{"$f":"ClassementGenéral!I281","v":0}]
[{"$f":"ClassementGenéral!A282","v":0},{"$f":"ClassementGenéral!B282","v":0},{"$f":"ClassementGenéral!C282","v":0},{"$f":"ClassementGenéral!D282","v":0},{"$f":"ClassementGenéral!E282","v":0},{"$f":"ClassementGenéral!F282","v":0},{"$f":"ClassementGenéral!G282","v":0},{"$f":"ClassementGenéral!H282","v":0},{"$f":"ClassementGenéral!I282","v":0}]
[{"$f":"ClassementGenéral!A283","v":0},{"$f":"ClassementGenéral!B283","v":0},{"$f":"ClassementGenéral!C283","v":0},{"$f":"ClassementGenéral!D283","v":0},{"$f":"ClassementGenéral!E283","v":0},{"$f":"ClassementGenéral!F283","v":0},{"$f":"ClassementGenéral!G283","v":0},{"$f":"ClassementGenéral!H283","v":0},{"$f":"ClassementGenéral!I283","v":0}]
[{"$f":"ClassementGenéral!A284","v":0},{"$f":"ClassementGenéral!B284","v":0},{"$f":"ClassementGenéral!C284","v":0},{"$f":"ClassementGenéral!D284","v":0},{"$f":"ClassementGenéral!E284","v":0},{"$f":"ClassementGenéral!F284","v":0},{"$f":"ClassementGenéral!G284","v":0},{"$f":"ClassementGenéral!H284","v":0},{"$f":"ClassementGenéral!I284","v":0}]
[{"$f":"ClassementGenéral!A285","v":0},{"$f":"ClassementGenéral!B285","v":0},{"$f":"ClassementGenéral!C285","v":0},{"$f":"ClassementGenéral!D285","v":0},{"$f":"ClassementGenéral!E285","v":0},{"$f":"ClassementGenéral!F285","v":0},{"$f":"ClassementGenéral!G285","v":0},{"$f":"ClassementGenéral!H285","v":0},{"$f":"ClassementGenéral!I285","v":0}]
[{"$f":"ClassementGenéral!A286","v":0},{"$f":"ClassementGenéral!B286","v":0},{"$f":"ClassementGenéral!C286","v":0},{"$f":"ClassementGenéral!D286","v":0},{"$f":"ClassementGenéral!E286","v":0},{"$f":"ClassementGenéral!F286","v":0},{"$f":"ClassementGenéral!G286","v":0},{"$f":"ClassementGenéral!H286","v":0},{"$f":"ClassementGenéral!I286","v":0}]
[{"$f":"ClassementGenéral!A287","v":0},{"$f":"ClassementGenéral!B287","v":0},{"$f":"ClassementGenéral!C287","v":0},{"$f":"ClassementGenéral!D287","v":0},{"$f":"ClassementGenéral!E287","v":0},{"$f":"ClassementGenéral!F287","v":0},{"$f":"ClassementGenéral!G287","v":0},{"$f":"ClassementGenéral!H287","v":0},{"$f":"ClassementGenéral!I287","v":0}]
[null,"FIN"]
[]
[]
[{"$f":"ClassementGenéral!A290","v":0},{"$f":"ClassementGenéral!B290","v":0},{"$f":"ClassementGenéral!C290","v":0},{"$f":"ClassementGenéral!D290","v":""},{"$f":"ClassementGenéral!E290","v":0},{"$f":"ClassementGenéral!F290","v":0},{"$f":"ClassementGenéral!G290","v":0},null,{"$f":"ClassementGenéral!I290","v":0}]
[{"$f":"ClassementGenéral!A291","v":0},{"$f":"ClassementGenéral!B291","v":0},{"$f":"ClassementGenéral!C291","v":0},{"$f":"ClassementGenéral!D291","v":0},{"$f":"ClassementGenéral!E291","v":0},{"$f":"ClassementGenéral!F291","v":0},{"$f":"ClassementGenéral!G291","v":0},null,{"$f":"ClassementGenéral!I291","v":0}]
[{"$f":"ClassementGenéral!A292","v":"FEM"},null,{"$f":"ClassementGenéral!C292","v":0},{"$f":"ClassementGenéral!D292","v":0},{"$f":"ClassementGenéral!E292","v":0},{"$f":"ClassementGenéral!F292","v":0},{"$f":"ClassementGenéral!G292","v":0},null,{"$f":"ClassementGenéral!I292","v":0}]
[{"$f":"ClassementGenéral!A293","v":"Place"},{"$f":"ClassementGenéral!B293","v":"Doss"},{"$f":"ClassementGenéral!C293","v":"Nom Prenom"},{"$f":"ClassementGenéral!D293","v":"Club"},{"$f":"ClassementGenéral!E293","v":"Sexe"},{"$f":"ClassementGenéral!F293","v":"Cat"},{"$f":"ClassementGenéral!G293","v":"Catégorie d'âge"},{"$f":"ClassementGenéral!H293","v":"Dep"},{"$f":"ClassementGenéral!I293","v":"Fed"}]
[{"$f":"ClassementGenéral!A294","v":0},{"$f":"ClassementGenéral!B294","v":120},{"$f":"ClassementGenéral!C294","v":0},{"$f":"ClassementGenéral!D294","v":0},{"$f":"ClassementGenéral!E294","v":0},{"$f":"ClassementGenéral!F294","v":0},{"$f":"ClassementGenéral!G294","v":0},{"$f":"ClassementGenéral!H294","v":0},{"$f":"ClassementGenéral!I294","v":0}]
[{"$f":"ClassementGenéral!A295","v":0},{"$f":"ClassementGenéral!B295","v":121},{"$f":"ClassementGenéral!C295","v":0},{"$f":"ClassementGenéral!D295","v":0},{"$f":"ClassementGenéral!E295","v":0},{"$f":"ClassementGenéral!F295","v":0},{"$f":"ClassementGenéral!G295","v":0},{"$f":"ClassementGenéral!H295","v":0},{"$f":"ClassementGenéral!I295","v":0}]
[{"$f":"ClassementGenéral!A296","v":0},{"$f":"ClassementGenéral!B296","v":122},{"$f":"ClassementGenéral!C296","v":0},{"$f":"ClassementGenéral!D296","v":0},{"$f":"ClassementGenéral!E296","v":0},{"$f":"ClassementGenéral!F296","v":0},{"$f":"ClassementGenéral!G296","v":0},{"$f":"ClassementGenéral!H296","v":0},{"$f":"ClassementGenéral!I296","v":0}]
[{"$f":"ClassementGenéral!A297","v":0},{"$f":"ClassementGenéral!B297","v":123},{"$f":"ClassementGenéral!C297","v":0},{"$f":"ClassementGenéral!D297","v":0},{"$f":"ClassementGenéral!E297","v":0},{"$f":"ClassementGenéral!F297","v":0},{"$f":"ClassementGenéral!G297","v":0},{"$f":"ClassementGenéral!H297","v":0},{"$f":"ClassementGenéral!I297","v":0}]
[{"$f":"ClassementGenéral!A298","v":0},{"$f":"ClassementGenéral!B298","v":124},{"$f":"ClassementGenéral!C298","v":0},{"$f":"ClassementGenéral!D298","v":0},{"$f":"ClassementGenéral!E298","v":0},{"$f":"ClassementGenéral!F298","v":0},{"$f":"ClassementGenéral!G298","v":0},{"$f":"ClassementGenéral!H298","v":0},{"$f":"ClassementGenéral!I298","v":0}]
[{"$f":"ClassementGenéral!A299","v":0},{"$f":"ClassementGenéral!B299","v":125},{"$f":"ClassementGenéral!C299","v":0},{"$f":"ClassementGenéral!D299","v":0},{"$f":"ClassementGenéral!E299","v":0},{"$f":"ClassementGenéral!F299","v":0},{"$f":"ClassementGenéral!G299","v":0},{"$f":"ClassementGenéral!H299","v":0},{"$f":"ClassementGenéral!I299","v":0}]
[{"$f":"ClassementGenéral!A300","v":0},{"$f":"ClassementGenéral!B300","v":126},{"$f":"ClassementGenéral!C300","v":0},{"$f":"ClassementGenéral!D300","v":0},{"$f":"ClassementGenéral!E300","v":0},{"$f":"ClassementGenéral!F300","v":0},{"$f":"ClassementGenéral!G300","v":0},{"$f":"ClassementGenéral!H300","v":0},{"$f":"ClassementGenéral!I300","v":0}]
[{"$f":"ClassementGenéral!A301","v":0},{"$f":"ClassementGenéral!B301","v":127},{"$f":"ClassementGenéral!C301","v":0},{"$f":"ClassementGenéral!D301","v":0},{"$f":"ClassementGenéral!E301","v":0},{"$f":"ClassementGenéral!F301","v":0},{"$f":"ClassementGenéral!G301","v":0},{"$f":"ClassementGenéral!H301","v":0},{"$f":"ClassementGenéral!I301","v":0}]
[{"$f":"ClassementGenéral!A302","v":0},{"$f":"ClassementGenéral!B302","v":128},{"$f":"ClassementGenéral!C302","v":0},{"$f":"ClassementGenéral!D302","v":0},{"$f":"ClassementGenéral!E302","v":0},{"$f":"ClassementGenéral!F302","v":0},{"$f":"ClassementGenéral!G302","v":0},{"$f":"ClassementGenéral!H302","v":0},{"$f":"ClassementGenéral!I302","v":0}]
[{"$f":"ClassementGenéral!A303","v":0},{"$f":"ClassementGenéral!B303","v":129},{"$f":"ClassementGenéral!C303","v":0},{"$f":"ClassementGenéral!D303","v":0},{"$f":"ClassementGenéral!E303","v":0},{"$f":"ClassementGenéral!F303","v":0},{"$f":"ClassementGenéral!G303","v":0},{"$f":"ClassementGenéral!H303","v":0},{"$f":"ClassementGenéral!I303","v":0}]
[{"$f":"ClassementGenéral!A304","v":0},{"$f":"ClassementGenéral!B304","v":130},{"$f":"ClassementGenéral!C304","v":0},{"$f":"ClassementGenéral!D304","v":0},{"$f":"ClassementGenéral!E304","v":0},{"$f":"ClassementGenéral!F304","v":0},{"$f":"ClassementGenéral!G304","v":0},{"$f":"ClassementGenéral!H304","v":0},{"$f":"ClassementGenéral!I304","v":0}]
[{"$f":"ClassementGenéral!A305","v":0},{"$f":"ClassementGenéral!B305","v":131},{"$f":"ClassementGenéral!C305","v":0},{"$f":"ClassementGenéral!D305","v":0},{"$f":"ClassementGenéral!E305","v":0},{"$f":"ClassementGenéral!F305","v":0},{"$f":"ClassementGenéral!G305","v":0},{"$f":"ClassementGenéral!H305","v":0},{"$f":"ClassementGenéral!I305","v":0}]
[{"$f":"ClassementGenéral!A306","v":0},{"$f":"ClassementGenéral!B306","v":132},{"$f":"ClassementGenéral!C306","v":0},{"$f":"ClassementGenéral!D306","v":0},{"$f":"ClassementGenéral!E306","v":0},{"$f":"ClassementGenéral!F306","v":0},{"$f":"ClassementGenéral!G306","v":0},{"$f":"ClassementGenéral!H306","v":0},{"$f":"ClassementGenéral!I306","v":0}]
[{"$f":"ClassementGenéral!A307","v":0},{"$f":"ClassementGenéral!B307","v":133},{"$f":"ClassementGenéral!C307","v":0},{"$f":"ClassementGenéral!D307","v":0},{"$f":"ClassementGenéral!E307","v":0},{"$f":"ClassementGenéral!F307","v":0},{"$f":"ClassementGenéral!G307","v":0},{"$f":"ClassementGenéral!H307","v":0},{"$f":"ClassementGenéral!I307","v":0}]
[{"$f":"ClassementGenéral!A308","v":0},{"$f":"ClassementGenéral!B308","v":134},{"$f":"ClassementGenéral!C308","v":0},{"$f":"ClassementGenéral!D308","v":0},{"$f":"ClassementGenéral!E308","v":0},{"$f":"ClassementGenéral!F308","v":0},{"$f":"ClassementGenéral!G308","v":0},{"$f":"ClassementGenéral!H308","v":0},{"$f":"ClassementGenéral!I308","v":0}]
[{"$f":"ClassementGenéral!A309","v":0},{"$f":"ClassementGenéral!B309","v":135},{"$f":"ClassementGenéral!C309","v":0},{"$f":"ClassementGenéral!D309","v":0},{"$f":"ClassementGenéral!E309","v":0},{"$f":"ClassementGenéral!F309","v":0},{"$f":"ClassementGenéral!G309","v":0},{"$f":"ClassementGenéral!H309","v":0},{"$f":"ClassementGenéral!I309","v":0}]
[{"$f":"ClassementGenéral!A310","v":0},{"$f":"ClassementGenéral!B310","v":136},{"$f":"ClassementGenéral!C310","v":0},{"$f":"ClassementGenéral!D310","v":0},{"$f":"ClassementGenéral!E310","v":0},{"$f":"ClassementGenéral!F310","v":0},{"$f":"ClassementGenéral!G310","v":0},{"$f":"ClassementGenéral!H310","v":0},{"$f":"ClassementGenéral!I310","v":0}]
[{"$f":"ClassementGenéral!A311","v":0},{"$f":"ClassementGenéral!B311","v":137},{"$f":"ClassementGenéral!C311","v":0},{"$f":"ClassementGenéral!D311","v":0},{"$f":"ClassementGenéral!E311","v":0},{"$f":"ClassementGenéral!F311","v":0},{"$f":"ClassementGenéral!G311","v":0},{"$f":"ClassementGenéral!H311","v":0},{"$f":"ClassementGenéral!I311","v":0}]
[{"$f":"ClassementGenéral!A312","v":0},{"$f":"ClassementGenéral!B312","v":138},{"$f":"ClassementGenéral!C312","v":0},{"$f":"ClassementGenéral!D312","v":0},{"$f":"ClassementGenéral!E312","v":0},{"$f":"ClassementGenéral!F312","v":0},{"$f":"ClassementGenéral!G312","v":0},{"$f":"ClassementGenéral!H312","v":0},{"$f":"ClassementGenéral!I312","v":0}]
[{"$f":"ClassementGenéral!A313","v":0},{"$f":"ClassementGenéral!B313","v":139},{"$f":"ClassementGenéral!C313","v":0},{"$f":"ClassementGenéral!D313","v":0},{"$f":"ClassementGenéral!E313","v":0},{"$f":"ClassementGenéral!F313","v":0},{"$f":"ClassementGenéral!G313","v":0},{"$f":"ClassementGenéral!H313","v":0},{"$f":"ClassementGenéral!I313","v":0}]
[{"$f":"ClassementGenéral!A314","v":0},{"$f":"ClassementGenéral!B314","v":0},{"$f":"ClassementGenéral!C314","v":0},{"$f":"ClassementGenéral!D314","v":0},{"$f":"ClassementGenéral!E314","v":0},{"$f":"ClassementGenéral!F314","v":0},{"$f":"ClassementGenéral!G314","v":0},{"$f":"ClassementGenéral!H314","v":0},{"$f":"ClassementGenéral!I314","v":0}]
[{"$f":"ClassementGenéral!A315","v":0},{"$f":"ClassementGenéral!B315","v":0},{"$f":"ClassementGenéral!C315","v":0},{"$f":"ClassementGenéral!D315","v":0},{"$f":"ClassementGenéral!E315","v":0},{"$f":"ClassementGenéral!F315","v":0},{"$f":"ClassementGenéral!G315","v":0},{"$f":"ClassementGenéral!H315","v":0},{"$f":"ClassementGenéral!I315","v":0}]
[{"$f":"ClassementGenéral!A316","v":0},{"$f":"ClassementGenéral!B316","v":0},{"$f":"ClassementGenéral!C316","v":0},{"$f":"ClassementGenéral!D316","v":0},{"$f":"ClassementGenéral!E316","v":0},{"$f":"ClassementGenéral!F316","v":0},{"$f":"ClassementGenéral!G316","v":0},{"$f":"ClassementGenéral!H316","v":0},{"$f":"ClassementGenéral!I316","v":0}]
[{"$f":"ClassementGenéral!A317","v":0},{"$f":"ClassementGenéral!B317","v":0},{"$f":"ClassementGenéral!C317","v":0},{"$f":"ClassementGenéral!D317","v":0},{"$f":"ClassementGenéral!E317","v":0},{"$f":"ClassementGenéral!F317","v":0},{"$f":"ClassementGenéral!G317","v":0},{"$f":"ClassementGenéral!H317","v":0},{"$f":"ClassementGenéral!I317","v":0}]
[{"$f":"ClassementGenéral!A318","v":0},{"$f":"ClassementGenéral!B318","v":0},{"$f":"ClassementGenéral!C318","v":0},{"$f":"ClassementGenéral!D318","v":0},{"$f":"ClassementGenéral!E318","v":0},{"$f":"ClassementGenéral!F318","v":0},{"$f":"ClassementGenéral!G318","v":0},{"$f":"ClassementGenéral!H318","v":0},{"$f":"ClassementGenéral!I318","v":0}]
[{"$f":"ClassementGenéral!A319","v":0},{"$f":"ClassementGenéral!B319","v":0},{"$f":"ClassementGenéral!C319","v":0},{"$f":"ClassementGenéral!D319","v":0},{"$f":"ClassementGenéral!E319","v":0},{"$f":"ClassementGenéral!F319","v":0},{"$f":"ClassementGenéral!G319","v":0},{"$f":"ClassementGenéral!H319","v":0},{"$f":"ClassementGenéral!I319","v":0}]
[{"$f":"ClassementGenéral!A320","v":0},{"$f":"ClassementGenéral!B320","v":0},{"$f":"ClassementGenéral!C320","v":0},{"$f":"ClassementGenéral!D320","v":0},{"$f":"ClassementGenéral!E320","v":0},{"$f":"ClassementGenéral!F320","v":0},{"$f":"ClassementGenéral!G320","v":0},{"$f":"ClassementGenéral!H320","v":0},{"$f":"ClassementGenéral!I320","v":0}]
[{"$f":"ClassementGenéral!A321","v":0},{"$f":"ClassementGenéral!B321","v":0},{"$f":"ClassementGenéral!C321","v":0},{"$f":"ClassementGenéral!D321","v":0},{"$f":"ClassementGenéral!E321","v":0},{"$f":"ClassementGenéral!F321","v":0},{"$f":"ClassementGenéral!G321","v":0},{"$f":"ClassementGenéral!H321","v":0},{"$f":"ClassementGenéral!I321","v":0}]
[{"$f":"ClassementGenéral!A322","v":0},{"$f":"ClassementGenéral!B322","v":0},{"$f":"ClassementGenéral!C322","v":0},{"$f":"ClassementGenéral!D322","v":0},{"$f":"ClassementGenéral!E322","v":0},{"$f":"ClassementGenéral!F322","v":0},{"$f":"ClassementGenéral!G322","v":0},{"$f":"ClassementGenéral!H322","v":0},{"$f":"ClassementGenéral!I322","v":0}]
[{"$f":"ClassementGenéral!A323","v":0},{"$f":"ClassementGenéral!B323","v":0},{"$f":"ClassementGenéral!C323","v":0},{"$f":"ClassementGenéral!D323","v":0},{"$f":"ClassementGenéral!E323","v":0},{"$f":"ClassementGenéral!F323","v":0},{"$f":"ClassementGenéral!G323","v":0},{"$f":"ClassementGenéral!H323","v":0},{"$f":"ClassementGenéral!I323","v":0}]
[{"$f":"ClassementGenéral!A324","v":0},{"$f":"ClassementGenéral!B324","v":0},{"$f":"ClassementGenéral!C324","v":0},{"$f":"ClassementGenéral!D324","v":0},{"$f":"ClassementGenéral!E324","v":0},{"$f":"ClassementGenéral!F324","v":0},{"$f":"ClassementGenéral!G324","v":0},{"$f":"ClassementGenéral!H324","v":0},{"$f":"ClassementGenéral!I324","v":0}]
[{"$f":"ClassementGenéral!A325","v":0},{"$f":"ClassementGenéral!B325","v":0},{"$f":"ClassementGenéral!C325","v":0},{"$f":"ClassementGenéral!D325","v":0},{"$f":"ClassementGenéral!E325","v":0},{"$f":"ClassementGenéral!F325","v":0},{"$f":"ClassementGenéral!G325","v":0},{"$f":"ClassementGenéral!H325","v":0},{"$f":"ClassementGenéral!I325","v":0}]
[{"$f":"ClassementGenéral!A326","v":0},{"$f":"ClassementGenéral!B326","v":0},{"$f":"ClassementGenéral!C326","v":0},{"$f":"ClassementGenéral!D326","v":0},{"$f":"ClassementGenéral!E326","v":0},{"$f":"ClassementGenéral!F326","v":0},{"$f":"ClassementGenéral!G326","v":0},{"$f":"ClassementGenéral!H326","v":0},{"$f":"ClassementGenéral!I326","v":0}]
[null,"FIN"]
[]
[{"$f":"ClassementGenéral!A329","v":0},{"$f":"ClassementGenéral!B329","v":0},{"$f":"ClassementGenéral!C329","v":0},{"$f":"ClassementGenéral!D329","v":""},{"$f":"ClassementGenéral!E329","v":0},{"$f":"ClassementGenéral!F329","v":0},{"$f":"ClassementGenéral!G329","v":0},null,{"$f":"ClassementGenéral!I329","v":0}]
[{"$f":"ClassementGenéral!A330","v":0},{"$f":"ClassementGenéral!B330","v":0},{"$f":"ClassementGenéral!C330","v":0},{"$f":"ClassementGenéral!D330","v":0},{"$f":"ClassementGenéral!E330","v":0},{"$f":"ClassementGenéral!F330","v":0},{"$f":"ClassementGenéral!G330","v":0},null,{"$f":"ClassementGenéral!I330","v":0}]
[{"$f":"ClassementGenéral!A331","v":"15 à 16 ans"},null,{"$f":"ClassementGenéral!C331","v":0},{"$f":"ClassementGenéral!D331","v":0},{"$f":"ClassementGenéral!E331","v":0},{"$f":"ClassementGenéral!F331","v":0},{"$f":"ClassementGenéral!G331","v":0},null,{"$f":"ClassementGenéral!I331","v":0}]
[{"$f":"ClassementGenéral!A332","v":"Place"},{"$f":"ClassementGenéral!B332","v":"Doss"},{"$f":"ClassementGenéral!C332","v":"Nom Prenom"},{"$f":"ClassementGenéral!D332","v":"Club"},{"$f":"ClassementGenéral!E332","v":"Sexe"},{"$f":"ClassementGenéral!F332","v":"Cat"},"Cat Âge",{"$f":"ClassementGenéral!H332","v":"Dep"},{"$f":"ClassementGenéral!I332","v":"Fed"}]
[{"$f":"ClassementGenéral!A333","v":0},{"$f":"ClassementGenéral!B333","v":120},{"$f":"ClassementGenéral!C333","v":0},{"$f":"ClassementGenéral!D333","v":0},{"$f":"ClassementGenéral!E333","v":0},{"$f":"ClassementGenéral!F333","v":0},{"$f":"ClassementGenéral!G333","v":0},{"$f":"ClassementGenéral!H333","v":0},{"$f":"ClassementGenéral!I333","v":0}]
[{"$f":"ClassementGenéral!A334","v":0},{"$f":"ClassementGenéral!B334","v":121},{"$f":"ClassementGenéral!C334","v":0},{"$f":"ClassementGenéral!D334","v":0},{"$f":"ClassementGenéral!E334","v":0},{"$f":"ClassementGenéral!F334","v":0},{"$f":"ClassementGenéral!G334","v":0},{"$f":"ClassementGenéral!H334","v":0},{"$f":"ClassementGenéral!I334","v":0}]
[{"$f":"ClassementGenéral!A335","v":0},{"$f":"ClassementGenéral!B335","v":122},{"$f":"ClassementGenéral!C335","v":0},{"$f":"ClassementGenéral!D335","v":0},{"$f":"ClassementGenéral!E335","v":0},{"$f":"ClassementGenéral!F335","v":0},{"$f":"ClassementGenéral!G335","v":0},{"$f":"ClassementGenéral!H335","v":0},{"$f":"ClassementGenéral!I335","v":0}]
[{"$f":"ClassementGenéral!A336","v":0},{"$f":"ClassementGenéral!B336","v":123},{"$f":"ClassementGenéral!C336","v":0},{"$f":"ClassementGenéral!D336","v":0},{"$f":"ClassementGenéral!E336","v":0},{"$f":"ClassementGenéral!F336","v":0},{"$f":"ClassementGenéral!G336","v":0},{"$f":"ClassementGenéral!H336","v":0},{"$f":"ClassementGenéral!I336","v":0}]
[{"$f":"ClassementGenéral!A337","v":0},{"$f":"ClassementGenéral!B337","v":124},{"$f":"ClassementGenéral!C337","v":0},{"$f":"ClassementGenéral!D337","v":0},{"$f":"ClassementGenéral!E337","v":0},{"$f":"ClassementGenéral!F337","v":0},{"$f":"ClassementGenéral!G337","v":0},{"$f":"ClassementGenéral!H337","v":0},{"$f":"ClassementGenéral!I337","v":0}]
[{"$f":"ClassementGenéral!A338","v":0},{"$f":"ClassementGenéral!B338","v":125},{"$f":"ClassementGenéral!C338","v":0},{"$f":"ClassementGenéral!D338","v":0},{"$f":"ClassementGenéral!E338","v":0},{"$f":"ClassementGenéral!F338","v":0},{"$f":"ClassementGenéral!G338","v":0},{"$f":"ClassementGenéral!H338","v":0},{"$f":"ClassementGenéral!I338","v":0}]
[{"$f":"ClassementGenéral!A339","v":0},{"$f":"ClassementGenéral!B339","v":126},{"$f":"ClassementGenéral!C339","v":0},{"$f":"ClassementGenéral!D339","v":0},{"$f":"ClassementGenéral!E339","v":0},{"$f":"ClassementGenéral!F339","v":0},{"$f":"ClassementGenéral!G339","v":0},{"$f":"ClassementGenéral!H339","v":0},{"$f":"ClassementGenéral!I339","v":0}]
[{"$f":"ClassementGenéral!A340","v":0},{"$f":"ClassementGenéral!B340","v":127},{"$f":"ClassementGenéral!C340","v":0},{"$f":"ClassementGenéral!D340","v":0},{"$f":"ClassementGenéral!E340","v":0},{"$f":"ClassementGenéral!F340","v":0},{"$f":"ClassementGenéral!G340","v":0},{"$f":"ClassementGenéral!H340","v":0},{"$f":"ClassementGenéral!I340","v":0}]
[{"$f":"ClassementGenéral!A341","v":0},{"$f":"ClassementGenéral!B341","v":128},{"$f":"ClassementGenéral!C341","v":0},{"$f":"ClassementGenéral!D341","v":0},{"$f":"ClassementGenéral!E341","v":0},{"$f":"ClassementGenéral!F341","v":0},{"$f":"ClassementGenéral!G341","v":0},{"$f":"ClassementGenéral!H341","v":0},{"$f":"ClassementGenéral!I341","v":0}]
[{"$f":"ClassementGenéral!A342","v":0},{"$f":"ClassementGenéral!B342","v":129},{"$f":"ClassementGenéral!C342","v":0},{"$f":"ClassementGenéral!D342","v":0},{"$f":"ClassementGenéral!E342","v":0},{"$f":"ClassementGenéral!F342","v":0},{"$f":"ClassementGenéral!G342","v":0},{"$f":"ClassementGenéral!H342","v":0},{"$f":"ClassementGenéral!I342","v":0}]
[{"$f":"ClassementGenéral!A343","v":0},{"$f":"ClassementGenéral!B343","v":130},{"$f":"ClassementGenéral!C343","v":0},{"$f":"ClassementGenéral!D343","v":0},{"$f":"ClassementGenéral!E343","v":0},{"$f":"ClassementGenéral!F343","v":0},{"$f":"ClassementGenéral!G343","v":0},{"$f":"ClassementGenéral!H343","v":0},{"$f":"ClassementGenéral!I343","v":0}]
[{"$f":"ClassementGenéral!A344","v":0},{"$f":"ClassementGenéral!B344","v":131},{"$f":"ClassementGenéral!C344","v":0},{"$f":"ClassementGenéral!D344","v":0},{"$f":"ClassementGenéral!E344","v":0},{"$f":"ClassementGenéral!F344","v":0},{"$f":"ClassementGenéral!G344","v":0},{"$f":"ClassementGenéral!H344","v":0},{"$f":"ClassementGenéral!I344","v":0}]
[{"$f":"ClassementGenéral!A345","v":0},{"$f":"ClassementGenéral!B345","v":132},{"$f":"ClassementGenéral!C345","v":0},{"$f":"ClassementGenéral!D345","v":0},{"$f":"ClassementGenéral!E345","v":0},{"$f":"ClassementGenéral!F345","v":0},{"$f":"ClassementGenéral!G345","v":0},{"$f":"ClassementGenéral!H345","v":0},{"$f":"ClassementGenéral!I345","v":0}]
[{"$f":"ClassementGenéral!A346","v":0},{"$f":"ClassementGenéral!B346","v":133},{"$f":"ClassementGenéral!C346","v":0},{"$f":"ClassementGenéral!D346","v":0},{"$f":"ClassementGenéral!E346","v":0},{"$f":"ClassementGenéral!F346","v":0},{"$f":"ClassementGenéral!G346","v":0},{"$f":"ClassementGenéral!H346","v":0},{"$f":"ClassementGenéral!I346","v":0}]
[{"$f":"ClassementGenéral!A347","v":0},{"$f":"ClassementGenéral!B347","v":134},{"$f":"ClassementGenéral!C347","v":0},{"$f":"ClassementGenéral!D347","v":0},{"$f":"ClassementGenéral!E347","v":0},{"$f":"ClassementGenéral!F347","v":0},{"$f":"ClassementGenéral!G347","v":0},{"$f":"ClassementGenéral!H347","v":0},{"$f":"ClassementGenéral!I347","v":0}]
[{"$f":"ClassementGenéral!A348","v":0},{"$f":"ClassementGenéral!B348","v":135},{"$f":"ClassementGenéral!C348","v":0},{"$f":"ClassementGenéral!D348","v":0},{"$f":"ClassementGenéral!E348","v":0},{"$f":"ClassementGenéral!F348","v":0},{"$f":"ClassementGenéral!G348","v":0},{"$f":"ClassementGenéral!H348","v":0},{"$f":"ClassementGenéral!I348","v":0}]
[{"$f":"ClassementGenéral!A349","v":0},{"$f":"ClassementGenéral!B349","v":136},{"$f":"ClassementGenéral!C349","v":0},{"$f":"ClassementGenéral!D349","v":0},{"$f":"ClassementGenéral!E349","v":0},{"$f":"ClassementGenéral!F349","v":0},{"$f":"ClassementGenéral!G349","v":0},{"$f":"ClassementGenéral!H349","v":0},{"$f":"ClassementGenéral!I349","v":0}]
[{"$f":"ClassementGenéral!A350","v":0},{"$f":"ClassementGenéral!B350","v":137},{"$f":"ClassementGenéral!C350","v":0},{"$f":"ClassementGenéral!D350","v":0},{"$f":"ClassementGenéral!E350","v":0},{"$f":"ClassementGenéral!F350","v":0},{"$f":"ClassementGenéral!G350","v":0},{"$f":"ClassementGenéral!H350","v":0},{"$f":"ClassementGenéral!I350","v":0}]
[{"$f":"ClassementGenéral!A351","v":0},{"$f":"ClassementGenéral!B351","v":138},{"$f":"ClassementGenéral!C351","v":0},{"$f":"ClassementGenéral!D351","v":0},{"$f":"ClassementGenéral!E351","v":0},{"$f":"ClassementGenéral!F351","v":0},{"$f":"ClassementGenéral!G351","v":0},{"$f":"ClassementGenéral!H351","v":0},{"$f":"ClassementGenéral!I351","v":0}]
[{"$f":"ClassementGenéral!A352","v":0},{"$f":"ClassementGenéral!B352","v":139},{"$f":"ClassementGenéral!C352","v":0},{"$f":"ClassementGenéral!D352","v":0},{"$f":"ClassementGenéral!E352","v":0},{"$f":"ClassementGenéral!F352","v":0},{"$f":"ClassementGenéral!G352","v":0},{"$f":"ClassementGenéral!H352","v":0},{"$f":"ClassementGenéral!I352","v":0}]
[{"$f":"ClassementGenéral!A354","v":0},{"$f":"ClassementGenéral!B354","v":0},{"$f":"ClassementGenéral!C354","v":0},{"$f":"ClassementGenéral!D354","v":0},{"$f":"ClassementGenéral!E354","v":0},{"$f":"ClassementGenéral!F354","v":0},{"$f":"ClassementGenéral!G354","v":0},{"$f":"ClassementGenéral!H354","v":0},{"$f":"ClassementGenéral!I354","v":0}]
[null,"FIN"]
[]
[]
[null,null,{"$f":"ClassementGenéral!C358","v":0},{"$f":"ClassementGenéral!D358","v":""}]
[null,null,{"$f":"ClassementGenéral!C359","v":0},{"$f":"ClassementGenéral!D359","v":0}]
[{"$f":"ClassementGenéral!A360","v":"13  à 14 ans"},null,{"$f":"ClassementGenéral!C360","v":0},{"$f":"ClassementGenéral!D360","v":0}]
[{"$f":"ClassementGenéral!A361","v":"Place"},{"$f":"ClassementGenéral!B361","v":"Doss"},{"$f":"ClassementGenéral!C361","v":"Nom Prenom"},{"$f":"ClassementGenéral!D361","v":"Club"},{"$f":"ClassementGenéral!E361","v":"Sexe"},{"$f":"ClassementGenéral!F361","v":"Cat"},"Cat Âge",{"$f":"ClassementGenéral!H361","v":"Dep"},{"$f":"ClassementGenéral!I361","v":"Fed"}]
[{"$f":"ClassementGenéral!A362","v":0},{"$f":"ClassementGenéral!B362","v":140},{"$f":"ClassementGenéral!C362","v":0},{"$f":"ClassementGenéral!D362","v":0},{"$f":"ClassementGenéral!E362","v":0},{"$f":"ClassementGenéral!F362","v":0},{"$f":"ClassementGenéral!G362","v":0},{"$f":"ClassementGenéral!H362","v":0},{"$f":"ClassementGenéral!I362","v":0}]
[{"$f":"ClassementGenéral!A363","v":0},{"$f":"ClassementGenéral!B363","v":141},{"$f":"ClassementGenéral!C363","v":0},{"$f":"ClassementGenéral!D363","v":0},{"$f":"ClassementGenéral!E363","v":0},{"$f":"ClassementGenéral!F363","v":0},{"$f":"ClassementGenéral!G363","v":0},{"$f":"ClassementGenéral!H363","v":0},{"$f":"ClassementGenéral!I363","v":0}]
[{"$f":"ClassementGenéral!A364","v":0},{"$f":"ClassementGenéral!B364","v":142},{"$f":"ClassementGenéral!C364","v":0},{"$f":"ClassementGenéral!D364","v":0},{"$f":"ClassementGenéral!E364","v":0},{"$f":"ClassementGenéral!F364","v":0},{"$f":"ClassementGenéral!G364","v":0},{"$f":"ClassementGenéral!H364","v":0},{"$f":"ClassementGenéral!I364","v":0}]
[{"$f":"ClassementGenéral!A365","v":0},{"$f":"ClassementGenéral!B365","v":143},{"$f":"ClassementGenéral!C365","v":0},{"$f":"ClassementGenéral!D365","v":0},{"$f":"ClassementGenéral!E365","v":0},{"$f":"ClassementGenéral!F365","v":0},{"$f":"ClassementGenéral!G365","v":0},{"$f":"ClassementGenéral!H365","v":0},{"$f":"ClassementGenéral!I365","v":0}]
[{"$f":"ClassementGenéral!A366","v":0},{"$f":"ClassementGenéral!B366","v":144},{"$f":"ClassementGenéral!C366","v":0},{"$f":"ClassementGenéral!D366","v":0},{"$f":"ClassementGenéral!E366","v":0},{"$f":"ClassementGenéral!F366","v":0},{"$f":"ClassementGenéral!G366","v":0},{"$f":"ClassementGenéral!H366","v":0},{"$f":"ClassementGenéral!I366","v":0}]
[{"$f":"ClassementGenéral!A367","v":0},{"$f":"ClassementGenéral!B367","v":145},{"$f":"ClassementGenéral!C367","v":0},{"$f":"ClassementGenéral!D367","v":0},{"$f":"ClassementGenéral!E367","v":0},{"$f":"ClassementGenéral!F367","v":0},{"$f":"ClassementGenéral!G367","v":0},{"$f":"ClassementGenéral!H367","v":0},{"$f":"ClassementGenéral!I367","v":0}]
[{"$f":"ClassementGenéral!A368","v":0},{"$f":"ClassementGenéral!B368","v":146},{"$f":"ClassementGenéral!C368","v":0},{"$f":"ClassementGenéral!D368","v":0},{"$f":"ClassementGenéral!E368","v":0},{"$f":"ClassementGenéral!F368","v":0},{"$f":"ClassementGenéral!G368","v":0},{"$f":"ClassementGenéral!H368","v":0},{"$f":"ClassementGenéral!I368","v":0}]
[{"$f":"ClassementGenéral!A369","v":0},{"$f":"ClassementGenéral!B369","v":147},{"$f":"ClassementGenéral!C369","v":0},{"$f":"ClassementGenéral!D369","v":0},{"$f":"ClassementGenéral!E369","v":0},{"$f":"ClassementGenéral!F369","v":0},{"$f":"ClassementGenéral!G369","v":0},{"$f":"ClassementGenéral!H369","v":0},{"$f":"ClassementGenéral!I369","v":0}]
[{"$f":"ClassementGenéral!A370","v":0},{"$f":"ClassementGenéral!B370","v":148},{"$f":"ClassementGenéral!C370","v":0},{"$f":"ClassementGenéral!D370","v":0},{"$f":"ClassementGenéral!E370","v":0},{"$f":"ClassementGenéral!F370","v":0},{"$f":"ClassementGenéral!G370","v":0},{"$f":"ClassementGenéral!H370","v":0},{"$f":"ClassementGenéral!I370","v":0}]
[{"$f":"ClassementGenéral!A371","v":0},{"$f":"ClassementGenéral!B371","v":149},{"$f":"ClassementGenéral!C371","v":0},{"$f":"ClassementGenéral!D371","v":0},{"$f":"ClassementGenéral!E371","v":0},{"$f":"ClassementGenéral!F371","v":0},{"$f":"ClassementGenéral!G371","v":0},{"$f":"ClassementGenéral!H371","v":0},{"$f":"ClassementGenéral!I371","v":0}]
[{"$f":"ClassementGenéral!A372","v":0},{"$f":"ClassementGenéral!B372","v":150},{"$f":"ClassementGenéral!C372","v":0},{"$f":"ClassementGenéral!D372","v":0},{"$f":"ClassementGenéral!E372","v":0},{"$f":"ClassementGenéral!F372","v":0},{"$f":"ClassementGenéral!G372","v":0},{"$f":"ClassementGenéral!H372","v":0},{"$f":"ClassementGenéral!I372","v":0}]
[{"$f":"ClassementGenéral!A373","v":0},{"$f":"ClassementGenéral!B373","v":0},{"$f":"ClassementGenéral!C373","v":0},{"$f":"ClassementGenéral!D373","v":0},{"$f":"ClassementGenéral!E373","v":0},{"$f":"ClassementGenéral!F373","v":0},{"$f":"ClassementGenéral!G373","v":0},{"$f":"ClassementGenéral!H373","v":0},{"$f":"ClassementGenéral!I373","v":0}]
[{"$f":"ClassementGenéral!A374","v":0},{"$f":"ClassementGenéral!B374","v":0},{"$f":"ClassementGenéral!C374","v":0},{"$f":"ClassementGenéral!D374","v":0},{"$f":"ClassementGenéral!E374","v":0},{"$f":"ClassementGenéral!F374","v":0},{"$f":"ClassementGenéral!G374","v":0},{"$f":"ClassementGenéral!H374","v":0},{"$f":"ClassementGenéral!I374","v":0}]
[{"$f":"ClassementGenéral!A375","v":0},{"$f":"ClassementGenéral!B375","v":0},{"$f":"ClassementGenéral!C375","v":0},{"$f":"ClassementGenéral!D375","v":0},{"$f":"ClassementGenéral!E375","v":0},{"$f":"ClassementGenéral!F375","v":0},{"$f":"ClassementGenéral!G375","v":0},{"$f":"ClassementGenéral!H375","v":0},{"$f":"ClassementGenéral!I375","v":0}]
[{"$f":"ClassementGenéral!A376","v":0},{"$f":"ClassementGenéral!B376","v":0},{"$f":"ClassementGenéral!C376","v":0},{"$f":"ClassementGenéral!D376","v":0},{"$f":"ClassementGenéral!E376","v":0},{"$f":"ClassementGenéral!F376","v":0},{"$f":"ClassementGenéral!G376","v":0},{"$f":"ClassementGenéral!H376","v":0},{"$f":"ClassementGenéral!I376","v":0}]
[{"$f":"ClassementGenéral!A377","v":0},{"$f":"ClassementGenéral!B377","v":0},{"$f":"ClassementGenéral!C377","v":0},{"$f":"ClassementGenéral!D377","v":0},{"$f":"ClassementGenéral!E377","v":0},{"$f":"ClassementGenéral!F377","v":0},{"$f":"ClassementGenéral!G377","v":0},{"$f":"ClassementGenéral!H377","v":0},{"$f":"ClassementGenéral!I377","v":0}]
[{"$f":"ClassementGenéral!A378","v":0},{"$f":"ClassementGenéral!B378","v":0},{"$f":"ClassementGenéral!C378","v":0},{"$f":"ClassementGenéral!D378","v":0},{"$f":"ClassementGenéral!E378","v":0},{"$f":"ClassementGenéral!F378","v":0},{"$f":"ClassementGenéral!G378","v":0},{"$f":"ClassementGenéral!H378","v":0},{"$f":"ClassementGenéral!I378","v":0}]
[{"$f":"ClassementGenéral!A379","v":0},{"$f":"ClassementGenéral!B379","v":0},{"$f":"ClassementGenéral!C379","v":0},{"$f":"ClassementGenéral!D379","v":0},{"$f":"ClassementGenéral!E379","v":0},{"$f":"ClassementGenéral!F379","v":0},{"$f":"ClassementGenéral!G379","v":0},{"$f":"ClassementGenéral!H379","v":0},{"$f":"ClassementGenéral!I379","v":0}]
[{"$f":"ClassementGenéral!A380","v":0},{"$f":"ClassementGenéral!B380","v":0},{"$f":"ClassementGenéral!C380","v":0},{"$f":"ClassementGenéral!D380","v":0},{"$f":"ClassementGenéral!E380","v":0},{"$f":"ClassementGenéral!F380","v":0},{"$f":"ClassementGenéral!G380","v":0},{"$f":"ClassementGenéral!H380","v":0},{"$f":"ClassementGenéral!I380","v":0}]
[{"$f":"ClassementGenéral!A381","v":0},{"$f":"ClassementGenéral!B381","v":0},{"$f":"ClassementGenéral!C381","v":0},{"$f":"ClassementGenéral!D381","v":0},{"$f":"ClassementGenéral!E381","v":0},{"$f":"ClassementGenéral!F381","v":0},{"$f":"ClassementGenéral!G381","v":0},{"$f":"ClassementGenéral!H381","v":0},{"$f":"ClassementGenéral!I381","v":0}]
[{"$f":"ClassementGenéral!A382","v":0},{"$f":"ClassementGenéral!B382","v":0},{"$f":"ClassementGenéral!C382","v":0},{"$f":"ClassementGenéral!D382","v":0},{"$f":"ClassementGenéral!E382","v":0},{"$f":"ClassementGenéral!F382","v":0},{"$f":"ClassementGenéral!G382","v":0},{"$f":"ClassementGenéral!H382","v":0},{"$f":"ClassementGenéral!I382","v":0}]
[{"$f":"ClassementGenéral!A383","v":0},{"$f":"ClassementGenéral!B383","v":0},{"$f":"ClassementGenéral!C383","v":0},{"$f":"ClassementGenéral!D383","v":0},{"$f":"ClassementGenéral!E383","v":0},{"$f":"ClassementGenéral!F383","v":0},{"$f":"ClassementGenéral!G383","v":0},{"$f":"ClassementGenéral!H383","v":0},{"$f":"ClassementGenéral!I383","v":0}]
[{"$f":"ClassementGenéral!A384","v":0},{"$f":"ClassementGenéral!B384","v":0},{"$f":"ClassementGenéral!C384","v":0},{"$f":"ClassementGenéral!D384","v":0},{"$f":"ClassementGenéral!E384","v":0},{"$f":"ClassementGenéral!F384","v":0},{"$f":"ClassementGenéral!G384","v":0},{"$f":"ClassementGenéral!H384","v":0},{"$f":"ClassementGenéral!I384","v":0}]
[{"$f":"ClassementGenéral!A385","v":0},{"$f":"ClassementGenéral!B385","v":0},{"$f":"ClassementGenéral!C385","v":0},{"$f":"ClassementGenéral!D385","v":0},{"$f":"ClassementGenéral!E385","v":0},{"$f":"ClassementGenéral!F385","v":0},{"$f":"ClassementGenéral!G385","v":0},{"$f":"ClassementGenéral!H385","v":0},{"$f":"ClassementGenéral!I385","v":0}]
[{"$f":"ClassementGenéral!A386","v":0},{"$f":"ClassementGenéral!B386","v":0},{"$f":"ClassementGenéral!C386","v":0},{"$f":"ClassementGenéral!D386","v":0},{"$f":"ClassementGenéral!E386","v":0},{"$f":"ClassementGenéral!F386","v":0},{"$f":"ClassementGenéral!G386","v":0},{"$f":"ClassementGenéral!H386","v":0},{"$f":"ClassementGenéral!I386","v":0}]
[{"$f":"ClassementGenéral!A391","v":0},{"$f":"ClassementGenéral!B391","v":0},{"$f":"ClassementGenéral!C391","v":0},{"$f":"ClassementGenéral!D391","v":0},{"$f":"ClassementGenéral!E391","v":0},{"$f":"ClassementGenéral!F391","v":0},{"$f":"ClassementGenéral!G391","v":0},{"$f":"ClassementGenéral!H391","v":0},{"$f":"ClassementGenéral!I391","v":0}]
[{"$f":"ClassementGenéral!A392","v":0},{"$f":"ClassementGenéral!B392","v":0},{"$f":"ClassementGenéral!C392","v":0},{"$f":"ClassementGenéral!D392","v":0},{"$f":"ClassementGenéral!E392","v":0},{"$f":"ClassementGenéral!F392","v":0},{"$f":"ClassementGenéral!G392","v":0},{"$f":"ClassementGenéral!H392","v":0},{"$f":"ClassementGenéral!I392","v":0}]
[{"$f":"ClassementGenéral!A393","v":0},{"$f":"ClassementGenéral!B393","v":0},{"$f":"ClassementGenéral!C393","v":0},{"$f":"ClassementGenéral!D393","v":0},{"$f":"ClassementGenéral!E393","v":0},{"$f":"ClassementGenéral!F393","v":0},{"$f":"ClassementGenéral!G393","v":0},{"$f":"ClassementGenéral!H393","v":0},{"$f":"ClassementGenéral!I393","v":0}]
[{"$f":"ClassementGenéral!A394","v":0},{"$f":"ClassementGenéral!B394","v":0},{"$f":"ClassementGenéral!C394","v":0},{"$f":"ClassementGenéral!D394","v":0},{"$f":"ClassementGenéral!E394","v":0},{"$f":"ClassementGenéral!F394","v":0},{"$f":"ClassementGenéral!G394","v":0},{"$f":"ClassementGenéral!H394","v":0},{"$f":"ClassementGenéral!I394","v":0}]
[{"$f":"ClassementGenéral!A395","v":0},"FIN",{"$f":"ClassementGenéral!C395","v":0},{"$f":"ClassementGenéral!D395","v":0},{"$f":"ClassementGenéral!E395","v":0},{"$f":"ClassementGenéral!F395","v":0},{"$f":"ClassementGenéral!G395","v":"00:00:00"},{"$f":"ClassementGenéral!H395","v":0},{"$f":"ClassementGenéral!I395","v":0}]
[]
[]
[null,null,{"$f":"ClassementGenéral!C398","v":0},{"$f":"ClassementGenéral!D398","v":""}]
[null,null,{"$f":"ClassementGenéral!C399","v":0},{"$f":"ClassementGenéral!D399","v":0}]
[{"$f":"ClassementGenéral!A400","v":"11-12ans"},null,{"$f":"ClassementGenéral!C400","v":0},{"$f":"ClassementGenéral!D400","v":0}]
[{"$f":"ClassementGenéral!A401","v":"Place"},{"$f":"ClassementGenéral!B401","v":"Doss"},{"$f":"ClassementGenéral!C401","v":"Nom Prenom"},{"$f":"ClassementGenéral!D401","v":"Club"},{"$f":"ClassementGenéral!E401","v":"Sexe"},{"$f":"ClassementGenéral!F401","v":"Cat"},"Cat Âge",{"$f":"ClassementGenéral!H401","v":"Dep"},{"$f":"ClassementGenéral!I401","v":"Fed"}]
[1,{"$f":"ClassementGenéral!B402","v":100},{"$f":"ClassementGenéral!C402","v":0},{"$f":"ClassementGenéral!D402","v":0},{"$f":"ClassementGenéral!E402","v":0},{"$f":"ClassementGenéral!F402","v":0},{"$f":"ClassementGenéral!G402","v":0},{"$f":"ClassementGenéral!H402","v":0},{"$f":"ClassementGenéral!I402","v":0}]
[{"$f":"ClassementGenéral!A403","v":0},{"$f":"ClassementGenéral!B403","v":101},{"$f":"ClassementGenéral!C403","v":0},{"$f":"ClassementGenéral!D403","v":0},{"$f":"ClassementGenéral!E403","v":0},{"$f":"ClassementGenéral!F403","v":0},{"$f":"ClassementGenéral!G403","v":0},{"$f":"ClassementGenéral!H403","v":0},{"$f":"ClassementGenéral!I403","v":0}]
[{"$f":"ClassementGenéral!A404","v":0},{"$f":"ClassementGenéral!B404","v":102},{"$f":"ClassementGenéral!C404","v":0},{"$f":"ClassementGenéral!D404","v":0},{"$f":"ClassementGenéral!E404","v":0},{"$f":"ClassementGenéral!F404","v":0},{"$f":"ClassementGenéral!G404","v":0},{"$f":"ClassementGenéral!H404","v":0},{"$f":"ClassementGenéral!I404","v":0}]
[{"$f":"ClassementGenéral!A405","v":0},{"$f":"ClassementGenéral!B405","v":103},{"$f":"ClassementGenéral!C405","v":0},{"$f":"ClassementGenéral!D405","v":0},{"$f":"ClassementGenéral!E405","v":0},{"$f":"ClassementGenéral!F405","v":0},{"$f":"ClassementGenéral!G405","v":0},{"$f":"ClassementGenéral!H405","v":0},{"$f":"ClassementGenéral!I405","v":0}]
[{"$f":"ClassementGenéral!A406","v":0},{"$f":"ClassementGenéral!B406","v":104},{"$f":"ClassementGenéral!C406","v":0},{"$f":"ClassementGenéral!D406","v":0},{"$f":"ClassementGenéral!E406","v":0},{"$f":"ClassementGenéral!F406","v":0},{"$f":"ClassementGenéral!G406","v":0},{"$f":"ClassementGenéral!H406","v":0},{"$f":"ClassementGenéral!I406","v":0}]
[{"$f":"ClassementGenéral!A407","v":0},{"$f":"ClassementGenéral!B407","v":105},{"$f":"ClassementGenéral!C407","v":0},{"$f":"ClassementGenéral!D407","v":0},{"$f":"ClassementGenéral!E407","v":0},{"$f":"ClassementGenéral!F407","v":0},{"$f":"ClassementGenéral!G407","v":0},{"$f":"ClassementGenéral!H407","v":0},{"$f":"ClassementGenéral!I407","v":0}]
[{"$f":"ClassementGenéral!A408","v":0},{"$f":"ClassementGenéral!B408","v":106},{"$f":"ClassementGenéral!C408","v":0},{"$f":"ClassementGenéral!D408","v":0},{"$f":"ClassementGenéral!E408","v":0},{"$f":"ClassementGenéral!F408","v":0},{"$f":"ClassementGenéral!G408","v":0},{"$f":"ClassementGenéral!H408","v":0},{"$f":"ClassementGenéral!I408","v":0}]
[{"$f":"ClassementGenéral!A409","v":0},{"$f":"ClassementGenéral!B409","v":107},{"$f":"ClassementGenéral!C409","v":0},{"$f":"ClassementGenéral!D409","v":0},{"$f":"ClassementGenéral!E409","v":0},{"$f":"ClassementGenéral!F409","v":0},{"$f":"ClassementGenéral!G409","v":0},{"$f":"ClassementGenéral!H409","v":0},{"$f":"ClassementGenéral!I409","v":0}]
[{"$f":"ClassementGenéral!A410","v":0},{"$f":"ClassementGenéral!B410","v":108},{"$f":"ClassementGenéral!C410","v":0},{"$f":"ClassementGenéral!D410","v":0},{"$f":"ClassementGenéral!E410","v":0},{"$f":"ClassementGenéral!F410","v":0},{"$f":"ClassementGenéral!G410","v":0},{"$f":"ClassementGenéral!H410","v":0},{"$f":"ClassementGenéral!I410","v":0}]
[{"$f":"ClassementGenéral!A411","v":0},{"$f":"ClassementGenéral!B411","v":109},{"$f":"ClassementGenéral!C411","v":0},{"$f":"ClassementGenéral!D411","v":0},{"$f":"ClassementGenéral!E411","v":0},{"$f":"ClassementGenéral!F411","v":0},{"$f":"ClassementGenéral!G411","v":0},{"$f":"ClassementGenéral!H411","v":0},{"$f":"ClassementGenéral!I411","v":0}]
[{"$f":"ClassementGenéral!A412","v":0},{"$f":"ClassementGenéral!B412","v":110},{"$f":"ClassementGenéral!C412","v":0},{"$f":"ClassementGenéral!D412","v":0},{"$f":"ClassementGenéral!E412","v":0},{"$f":"ClassementGenéral!F412","v":0},{"$f":"ClassementGenéral!G412","v":0},{"$f":"ClassementGenéral!H412","v":0},{"$f":"ClassementGenéral!I412","v":0}]
[{"$f":"ClassementGenéral!A413","v":0},{"$f":"ClassementGenéral!B413","v":0},{"$f":"ClassementGenéral!C413","v":0},{"$f":"ClassementGenéral!D413","v":0},{"$f":"ClassementGenéral!E413","v":0},{"$f":"ClassementGenéral!F413","v":0},{"$f":"ClassementGenéral!G413","v":0},{"$f":"ClassementGenéral!H413","v":0},{"$f":"ClassementGenéral!I413","v":0}]
[{"$f":"ClassementGenéral!A414","v":0},{"$f":"ClassementGenéral!B414","v":0},{"$f":"ClassementGenéral!C414","v":0},{"$f":"ClassementGenéral!D414","v":0},{"$f":"ClassementGenéral!E414","v":0},{"$f":"ClassementGenéral!F414","v":0},{"$f":"ClassementGenéral!G414","v":0},{"$f":"ClassementGenéral!H414","v":0},{"$f":"ClassementGenéral!I414","v":0}]
[{"$f":"ClassementGenéral!A415","v":0},{"$f":"ClassementGenéral!B415","v":0},{"$f":"ClassementGenéral!C415","v":0},{"$f":"ClassementGenéral!D415","v":0},{"$f":"ClassementGenéral!E415","v":0},{"$f":"ClassementGenéral!F415","v":0},{"$f":"ClassementGenéral!G415","v":0},{"$f":"ClassementGenéral!H415","v":0},{"$f":"ClassementGenéral!I415","v":0}]
[{"$f":"ClassementGenéral!A416","v":0},{"$f":"ClassementGenéral!B416","v":0},{"$f":"ClassementGenéral!C416","v":0},{"$f":"ClassementGenéral!D416","v":0},{"$f":"ClassementGenéral!E416","v":0},{"$f":"ClassementGenéral!F416","v":0},{"$f":"ClassementGenéral!G416","v":0},{"$f":"ClassementGenéral!H416","v":0},{"$f":"ClassementGenéral!I416","v":0}]
[{"$f":"ClassementGenéral!A417","v":0},{"$f":"ClassementGenéral!B417","v":0},{"$f":"ClassementGenéral!C417","v":0},{"$f":"ClassementGenéral!D417","v":0},{"$f":"ClassementGenéral!E417","v":0},{"$f":"ClassementGenéral!F417","v":0},{"$f":"ClassementGenéral!G417","v":0},{"$f":"ClassementGenéral!H417","v":0},{"$f":"ClassementGenéral!I417","v":0}]
[{"$f":"ClassementGenéral!A418","v":0},{"$f":"ClassementGenéral!B418","v":0},{"$f":"ClassementGenéral!C418","v":0},{"$f":"ClassementGenéral!D418","v":0},{"$f":"ClassementGenéral!E418","v":0},{"$f":"ClassementGenéral!F418","v":0},{"$f":"ClassementGenéral!G418","v":0},{"$f":"ClassementGenéral!H418","v":0},{"$f":"ClassementGenéral!I418","v":0}]
[{"$f":"ClassementGenéral!A419","v":0},{"$f":"ClassementGenéral!B419","v":0},{"$f":"ClassementGenéral!C419","v":0},{"$f":"ClassementGenéral!D419","v":0},{"$f":"ClassementGenéral!E419","v":0},{"$f":"ClassementGenéral!F419","v":0},{"$f":"ClassementGenéral!G419","v":0},{"$f":"ClassementGenéral!H419","v":0},{"$f":"ClassementGenéral!I419","v":0}]
[{"$f":"ClassementGenéral!A420","v":0},{"$f":"ClassementGenéral!B420","v":0},{"$f":"ClassementGenéral!C420","v":0},{"$f":"ClassementGenéral!D420","v":0},{"$f":"ClassementGenéral!E420","v":0},{"$f":"ClassementGenéral!F420","v":0},{"$f":"ClassementGenéral!G420","v":0},{"$f":"ClassementGenéral!H420","v":0},{"$f":"ClassementGenéral!I420","v":0}]
[{"$f":"ClassementGenéral!A421","v":0},{"$f":"ClassementGenéral!B421","v":0},{"$f":"ClassementGenéral!C421","v":0},{"$f":"ClassementGenéral!D421","v":0},{"$f":"ClassementGenéral!E421","v":0},{"$f":"ClassementGenéral!F421","v":0},{"$f":"ClassementGenéral!G421","v":0},{"$f":"ClassementGenéral!H421","v":0},{"$f":"ClassementGenéral!I421","v":0}]
[{"$f":"ClassementGenéral!A422","v":0},{"$f":"ClassementGenéral!B422","v":0},{"$f":"ClassementGenéral!C422","v":0},{"$f":"ClassementGenéral!D422","v":0},{"$f":"ClassementGenéral!E422","v":0},{"$f":"ClassementGenéral!F422","v":0},{"$f":"ClassementGenéral!G422","v":0},{"$f":"ClassementGenéral!H422","v":0},{"$f":"ClassementGenéral!I422","v":0}]
[{"$f":"ClassementGenéral!A423","v":0},{"$f":"ClassementGenéral!B423","v":0},{"$f":"ClassementGenéral!C423","v":0},{"$f":"ClassementGenéral!D423","v":0},{"$f":"ClassementGenéral!E423","v":0},{"$f":"ClassementGenéral!F423","v":0},{"$f":"ClassementGenéral!G423","v":0},{"$f":"ClassementGenéral!H423","v":0},{"$f":"ClassementGenéral!I423","v":0}]
[{"$f":"ClassementGenéral!A424","v":0},{"$f":"ClassementGenéral!B424","v":0},{"$f":"ClassementGenéral!C424","v":0},{"$f":"ClassementGenéral!D424","v":0},{"$f":"ClassementGenéral!E424","v":0},{"$f":"ClassementGenéral!F424","v":0},{"$f":"ClassementGenéral!G424","v":0},{"$f":"ClassementGenéral!H424","v":0},{"$f":"ClassementGenéral!I424","v":0}]
[{"$f":"ClassementGenéral!A425","v":0},{"$f":"ClassementGenéral!B425","v":0},{"$f":"ClassementGenéral!C425","v":0},{"$f":"ClassementGenéral!D425","v":0},{"$f":"ClassementGenéral!E425","v":0},{"$f":"ClassementGenéral!F425","v":0},{"$f":"ClassementGenéral!G425","v":0},{"$f":"ClassementGenéral!H425","v":0},{"$f":"ClassementGenéral!I425","v":0}]
[{"$f":"ClassementGenéral!A426","v":0},{"$f":"ClassementGenéral!B426","v":0},{"$f":"ClassementGenéral!C426","v":0},{"$f":"ClassementGenéral!D426","v":0},{"$f":"ClassementGenéral!E426","v":0},{"$f":"ClassementGenéral!F426","v":0},{"$f":"ClassementGenéral!G426","v":0},{"$f":"ClassementGenéral!H426","v":0},{"$f":"ClassementGenéral!I426","v":0}]
[{"$f":"ClassementGenéral!A427","v":0},{"$f":"ClassementGenéral!B427","v":0},{"$f":"ClassementGenéral!C427","v":0},{"$f":"ClassementGenéral!D427","v":0},{"$f":"ClassementGenéral!E427","v":0},{"$f":"ClassementGenéral!F427","v":0},{"$f":"ClassementGenéral!G427","v":0},{"$f":"ClassementGenéral!H427","v":0},{"$f":"ClassementGenéral!I427","v":0}]
[{"$f":"ClassementGenéral!A428","v":0},{"$f":"ClassementGenéral!B428","v":0},{"$f":"ClassementGenéral!C428","v":0},{"$f":"ClassementGenéral!D428","v":0},{"$f":"ClassementGenéral!E428","v":0},{"$f":"ClassementGenéral!F428","v":0},{"$f":"ClassementGenéral!G428","v":0},{"$f":"ClassementGenéral!H428","v":0},{"$f":"ClassementGenéral!I428","v":0}]
[{"$f":"ClassementGenéral!A429","v":0},{"$f":"ClassementGenéral!B429","v":0},{"$f":"ClassementGenéral!C429","v":0},{"$f":"ClassementGenéral!D429","v":0},{"$f":"ClassementGenéral!E429","v":0},{"$f":"ClassementGenéral!F429","v":0},{"$f":"ClassementGenéral!G429","v":0},{"$f":"ClassementGenéral!H429","v":0},{"$f":"ClassementGenéral!I429","v":0}]
[{"$f":"ClassementGenéral!A432","v":0},{"$f":"ClassementGenéral!B432","v":0},{"$f":"ClassementGenéral!C432","v":0},{"$f":"ClassementGenéral!D432","v":0},{"$f":"ClassementGenéral!E432","v":0},{"$f":"ClassementGenéral!F432","v":0},{"$f":"ClassementGenéral!G432","v":0},{"$f":"ClassementGenéral!H432","v":0},{"$f":"ClassementGenéral!I432","v":0}]
[null,"FIN"]
[]
[]
[null,null,{"$f":"ClassementGenéral!C436","v":0},{"$f":"ClassementGenéral!D436","v":""}]
[null,null,{"$f":"ClassementGenéral!C437","v":0},{"$f":"ClassementGenéral!D437","v":0}]
[{"$f":"ClassementGenéral!A438","v":"9 à 10 ans"},null,{"$f":"ClassementGenéral!C438","v":0},{"$f":"ClassementGenéral!D438","v":0}]
[{"$f":"ClassementGenéral!A439","v":"Place"},{"$f":"ClassementGenéral!B439","v":"Doss"},{"$f":"ClassementGenéral!C439","v":"Nom Prenom"},{"$f":"ClassementGenéral!D439","v":"Club"},{"$f":"ClassementGenéral!E439","v":"Sexe"},{"$f":"ClassementGenéral!F439","v":"Cat"},"Cat Âge",{"$f":"ClassementGenéral!H439","v":"Dep"},{"$f":"ClassementGenéral!I439","v":"Fed"}]
[{"$f":"ClassementGenéral!A440","v":0},{"$f":"ClassementGenéral!B440","v":1},{"$f":"ClassementGenéral!C440","v":0},{"$f":"ClassementGenéral!D440","v":0},{"$f":"ClassementGenéral!E440","v":0},{"$f":"ClassementGenéral!F440","v":0},{"$f":"ClassementGenéral!G440","v":0},{"$f":"ClassementGenéral!H440","v":0},{"$f":"ClassementGenéral!I440","v":0}]
[{"$f":"ClassementGenéral!A441","v":0},{"$f":"ClassementGenéral!B441","v":2},{"$f":"ClassementGenéral!C441","v":0},{"$f":"ClassementGenéral!D441","v":0},{"$f":"ClassementGenéral!E441","v":0},{"$f":"ClassementGenéral!F441","v":0},{"$f":"ClassementGenéral!G441","v":0},{"$f":"ClassementGenéral!H441","v":0},{"$f":"ClassementGenéral!I441","v":0}]
[{"$f":"ClassementGenéral!A442","v":0},{"$f":"ClassementGenéral!B442","v":3},{"$f":"ClassementGenéral!C442","v":0},{"$f":"ClassementGenéral!D442","v":0},{"$f":"ClassementGenéral!E442","v":0},{"$f":"ClassementGenéral!F442","v":0},{"$f":"ClassementGenéral!G442","v":0},{"$f":"ClassementGenéral!H442","v":0},{"$f":"ClassementGenéral!I442","v":0}]
[{"$f":"ClassementGenéral!A443","v":0},{"$f":"ClassementGenéral!B443","v":4},{"$f":"ClassementGenéral!C443","v":0},{"$f":"ClassementGenéral!D443","v":0},{"$f":"ClassementGenéral!E443","v":0},{"$f":"ClassementGenéral!F443","v":0},{"$f":"ClassementGenéral!G443","v":0},{"$f":"ClassementGenéral!H443","v":0},{"$f":"ClassementGenéral!I443","v":0}]
[{"$f":"ClassementGenéral!A444","v":0},{"$f":"ClassementGenéral!B444","v":5},{"$f":"ClassementGenéral!C444","v":0},{"$f":"ClassementGenéral!D444","v":0},{"$f":"ClassementGenéral!E444","v":0},{"$f":"ClassementGenéral!F444","v":0},{"$f":"ClassementGenéral!G444","v":0},{"$f":"ClassementGenéral!H444","v":0},{"$f":"ClassementGenéral!I444","v":0}]
[{"$f":"ClassementGenéral!A445","v":0},{"$f":"ClassementGenéral!B445","v":6},{"$f":"ClassementGenéral!C445","v":0},{"$f":"ClassementGenéral!D445","v":0},{"$f":"ClassementGenéral!E445","v":0},{"$f":"ClassementGenéral!F445","v":0},{"$f":"ClassementGenéral!G445","v":0},{"$f":"ClassementGenéral!H445","v":0},{"$f":"ClassementGenéral!I445","v":0}]
[{"$f":"ClassementGenéral!A446","v":0},{"$f":"ClassementGenéral!B446","v":7},{"$f":"ClassementGenéral!C446","v":0},{"$f":"ClassementGenéral!D446","v":0},{"$f":"ClassementGenéral!E446","v":0},{"$f":"ClassementGenéral!F446","v":0},{"$f":"ClassementGenéral!G446","v":0},{"$f":"ClassementGenéral!H446","v":0},{"$f":"ClassementGenéral!I446","v":0}]
[{"$f":"ClassementGenéral!A447","v":0},{"$f":"ClassementGenéral!B447","v":8},{"$f":"ClassementGenéral!C447","v":0},{"$f":"ClassementGenéral!D447","v":0},{"$f":"ClassementGenéral!E447","v":0},{"$f":"ClassementGenéral!F447","v":0},{"$f":"ClassementGenéral!G447","v":0},{"$f":"ClassementGenéral!H447","v":0},{"$f":"ClassementGenéral!I447","v":0}]
[{"$f":"ClassementGenéral!A448","v":0},{"$f":"ClassementGenéral!B448","v":9},{"$f":"ClassementGenéral!C448","v":0},{"$f":"ClassementGenéral!D448","v":0},{"$f":"ClassementGenéral!E448","v":0},{"$f":"ClassementGenéral!F448","v":0},{"$f":"ClassementGenéral!G448","v":0},{"$f":"ClassementGenéral!H448","v":0},{"$f":"ClassementGenéral!I448","v":0}]
[{"$f":"ClassementGenéral!A449","v":0},{"$f":"ClassementGenéral!B449","v":10},{"$f":"ClassementGenéral!C449","v":0},{"$f":"ClassementGenéral!D449","v":0},{"$f":"ClassementGenéral!E449","v":0},{"$f":"ClassementGenéral!F449","v":0},{"$f":"ClassementGenéral!G449","v":0},{"$f":"ClassementGenéral!H449","v":0},{"$f":"ClassementGenéral!I449","v":0}]
[{"$f":"ClassementGenéral!A450","v":0},{"$f":"ClassementGenéral!B450","v":11},{"$f":"ClassementGenéral!C450","v":0},{"$f":"ClassementGenéral!D450","v":0},{"$f":"ClassementGenéral!E450","v":0},{"$f":"ClassementGenéral!F450","v":0},{"$f":"ClassementGenéral!G450","v":0},{"$f":"ClassementGenéral!H450","v":0},{"$f":"ClassementGenéral!I450","v":0}]
[{"$f":"ClassementGenéral!A451","v":0},{"$f":"ClassementGenéral!B451","v":12},{"$f":"ClassementGenéral!C451","v":0},{"$f":"ClassementGenéral!D451","v":0},{"$f":"ClassementGenéral!E451","v":0},{"$f":"ClassementGenéral!F451","v":0},{"$f":"ClassementGenéral!G451","v":0},{"$f":"ClassementGenéral!H451","v":0},{"$f":"ClassementGenéral!I451","v":0}]
[{"$f":"ClassementGenéral!A452","v":0},{"$f":"ClassementGenéral!B452","v":13},{"$f":"ClassementGenéral!C452","v":0},{"$f":"ClassementGenéral!D452","v":0},{"$f":"ClassementGenéral!E452","v":0},{"$f":"ClassementGenéral!F452","v":0},{"$f":"ClassementGenéral!G452","v":0},{"$f":"ClassementGenéral!H452","v":0},{"$f":"ClassementGenéral!I452","v":0}]
[{"$f":"ClassementGenéral!A453","v":0},{"$f":"ClassementGenéral!B453","v":14},{"$f":"ClassementGenéral!C453","v":0},{"$f":"ClassementGenéral!D453","v":0},{"$f":"ClassementGenéral!E453","v":0},{"$f":"ClassementGenéral!F453","v":0},{"$f":"ClassementGenéral!G453","v":0},{"$f":"ClassementGenéral!H453","v":0},{"$f":"ClassementGenéral!I453","v":0}]
[{"$f":"ClassementGenéral!A454","v":0},{"$f":"ClassementGenéral!B454","v":15},{"$f":"ClassementGenéral!C454","v":0},{"$f":"ClassementGenéral!D454","v":0},{"$f":"ClassementGenéral!E454","v":0},{"$f":"ClassementGenéral!F454","v":0},{"$f":"ClassementGenéral!G454","v":0},{"$f":"ClassementGenéral!H454","v":0},{"$f":"ClassementGenéral!I454","v":0}]
[{"$f":"ClassementGenéral!A455","v":0},{"$f":"ClassementGenéral!B455","v":16},{"$f":"ClassementGenéral!C455","v":0},{"$f":"ClassementGenéral!D455","v":0},{"$f":"ClassementGenéral!E455","v":0},{"$f":"ClassementGenéral!F455","v":0},{"$f":"ClassementGenéral!G455","v":0},{"$f":"ClassementGenéral!H455","v":0},{"$f":"ClassementGenéral!I455","v":0}]
[{"$f":"ClassementGenéral!A456","v":0},{"$f":"ClassementGenéral!B456","v":17},{"$f":"ClassementGenéral!C456","v":0},{"$f":"ClassementGenéral!D456","v":0},{"$f":"ClassementGenéral!E456","v":0},{"$f":"ClassementGenéral!F456","v":0},{"$f":"ClassementGenéral!G456","v":0},{"$f":"ClassementGenéral!H456","v":0},{"$f":"ClassementGenéral!I456","v":0}]
[{"$f":"ClassementGenéral!A457","v":0},{"$f":"ClassementGenéral!B457","v":18},{"$f":"ClassementGenéral!C457","v":0},{"$f":"ClassementGenéral!D457","v":0},{"$f":"ClassementGenéral!E457","v":0},{"$f":"ClassementGenéral!F457","v":0},{"$f":"ClassementGenéral!G457","v":0},{"$f":"ClassementGenéral!H457","v":0},{"$f":"ClassementGenéral!I457","v":0}]
[{"$f":"ClassementGenéral!A458","v":0},{"$f":"ClassementGenéral!B458","v":19},{"$f":"ClassementGenéral!C458","v":0},{"$f":"ClassementGenéral!D458","v":0},{"$f":"ClassementGenéral!E458","v":0},{"$f":"ClassementGenéral!F458","v":0},{"$f":"ClassementGenéral!G458","v":0},{"$f":"ClassementGenéral!H458","v":0},{"$f":"ClassementGenéral!I458","v":0}]
[{"$f":"ClassementGenéral!A459","v":0},{"$f":"ClassementGenéral!B459","v":20},{"$f":"ClassementGenéral!C459","v":0},{"$f":"ClassementGenéral!D459","v":0},{"$f":"ClassementGenéral!E459","v":0},{"$f":"ClassementGenéral!F459","v":0},{"$f":"ClassementGenéral!G459","v":0},{"$f":"ClassementGenéral!H459","v":0},{"$f":"ClassementGenéral!I459","v":0}]
[{"$f":"ClassementGenéral!A460","v":0},{"$f":"ClassementGenéral!B460","v":21},{"$f":"ClassementGenéral!C460","v":0},{"$f":"ClassementGenéral!D460","v":0},{"$f":"ClassementGenéral!E460","v":0},{"$f":"ClassementGenéral!F460","v":0},{"$f":"ClassementGenéral!G460","v":0},{"$f":"ClassementGenéral!H460","v":0},{"$f":"ClassementGenéral!I460","v":0}]
[{"$f":"ClassementGenéral!A461","v":0},{"$f":"ClassementGenéral!B461","v":22},{"$f":"ClassementGenéral!C461","v":0},{"$f":"ClassementGenéral!D461","v":0},{"$f":"ClassementGenéral!E461","v":0},{"$f":"ClassementGenéral!F461","v":0},{"$f":"ClassementGenéral!G461","v":0},{"$f":"ClassementGenéral!H461","v":0},{"$f":"ClassementGenéral!I461","v":0}]
[{"$f":"ClassementGenéral!A462","v":0},{"$f":"ClassementGenéral!B462","v":23},{"$f":"ClassementGenéral!C462","v":0},{"$f":"ClassementGenéral!D462","v":0},{"$f":"ClassementGenéral!E462","v":0},{"$f":"ClassementGenéral!F462","v":0},{"$f":"ClassementGenéral!G462","v":0},{"$f":"ClassementGenéral!H462","v":0},{"$f":"ClassementGenéral!I462","v":0}]
[{"$f":"ClassementGenéral!A463","v":0},{"$f":"ClassementGenéral!B463","v":24},{"$f":"ClassementGenéral!C463","v":0},{"$f":"ClassementGenéral!D463","v":0},{"$f":"ClassementGenéral!E463","v":0},{"$f":"ClassementGenéral!F463","v":0},{"$f":"ClassementGenéral!G463","v":0},{"$f":"ClassementGenéral!H463","v":0},{"$f":"ClassementGenéral!I463","v":0}]
[{"$f":"ClassementGenéral!A464","v":0},{"$f":"ClassementGenéral!B464","v":25},{"$f":"ClassementGenéral!C464","v":0},{"$f":"ClassementGenéral!D464","v":0},{"$f":"ClassementGenéral!E464","v":0},{"$f":"ClassementGenéral!F464","v":0},{"$f":"ClassementGenéral!G464","v":0},{"$f":"ClassementGenéral!H464","v":0},{"$f":"ClassementGenéral!I464","v":0}]
[{"$f":"ClassementGenéral!A465","v":0},{"$f":"ClassementGenéral!B465","v":26},{"$f":"ClassementGenéral!C465","v":0},{"$f":"ClassementGenéral!D465","v":0},{"$f":"ClassementGenéral!E465","v":0},{"$f":"ClassementGenéral!F465","v":0},{"$f":"ClassementGenéral!G465","v":0},{"$f":"ClassementGenéral!H465","v":0},{"$f":"ClassementGenéral!I465","v":0}]
[{"$f":"ClassementGenéral!A466","v":0},{"$f":"ClassementGenéral!B466","v":27},{"$f":"ClassementGenéral!C466","v":0},{"$f":"ClassementGenéral!D466","v":0},{"$f":"ClassementGenéral!E466","v":0},{"$f":"ClassementGenéral!F466","v":0},{"$f":"ClassementGenéral!G466","v":0},{"$f":"ClassementGenéral!H466","v":0},{"$f":"ClassementGenéral!I466","v":0}]
[{"$f":"ClassementGenéral!A467","v":0},{"$f":"ClassementGenéral!B467","v":28},{"$f":"ClassementGenéral!C467","v":0},{"$f":"ClassementGenéral!D467","v":0},{"$f":"ClassementGenéral!E467","v":0},{"$f":"ClassementGenéral!F467","v":0},{"$f":"ClassementGenéral!G467","v":0},{"$f":"ClassementGenéral!H467","v":0},{"$f":"ClassementGenéral!I467","v":0}]
[{"$f":"ClassementGenéral!A468","v":0},{"$f":"ClassementGenéral!B468","v":29},{"$f":"ClassementGenéral!C468","v":0},{"$f":"ClassementGenéral!D468","v":0},{"$f":"ClassementGenéral!E468","v":0},{"$f":"ClassementGenéral!F468","v":0},{"$f":"ClassementGenéral!G468","v":0},{"$f":"ClassementGenéral!H468","v":0},{"$f":"ClassementGenéral!I468","v":0}]
[{"$f":"ClassementGenéral!A469","v":0},{"$f":"ClassementGenéral!B469","v":0},{"$f":"ClassementGenéral!C469","v":0},{"$f":"ClassementGenéral!D469","v":0},{"$f":"ClassementGenéral!E469","v":0},{"$f":"ClassementGenéral!F469","v":0},{"$f":"ClassementGenéral!G469","v":0},{"$f":"ClassementGenéral!H469","v":0},{"$f":"ClassementGenéral!I469","v":0}]
[{"$f":"ClassementGenéral!A470","v":0},{"$f":"ClassementGenéral!B470","v":0},{"$f":"ClassementGenéral!C470","v":0},{"$f":"ClassementGenéral!D470","v":0},{"$f":"ClassementGenéral!E470","v":0},{"$f":"ClassementGenéral!F470","v":0},{"$f":"ClassementGenéral!G470","v":0},{"$f":"ClassementGenéral!H470","v":0},{"$f":"ClassementGenéral!I470","v":0}]
[]
[]
[]
[null,null,{"$f":"ClassementGenéral!C474","v":0},{"$f":"ClassementGenéral!D474","v":""}]
[null,null,{"$f":"ClassementGenéral!C475","v":0},{"$f":"ClassementGenéral!D475","v":0}]
[{"$f":"ClassementGenéral!A476","v":"6-8 ans"},null,{"$f":"ClassementGenéral!C476","v":0},{"$f":"ClassementGenéral!D476","v":0}]
[{"$f":"ClassementGenéral!A477","v":"Place"},{"$f":"ClassementGenéral!B477","v":"Doss"},{"$f":"ClassementGenéral!C477","v":"Nom Prenom"},{"$f":"ClassementGenéral!D477","v":"Club"},{"$f":"ClassementGenéral!E477","v":"Sexe"},{"$f":"ClassementGenéral!F477","v":"Cat"},"Cat Âge",{"$f":"ClassementGenéral!H477","v":"Dep"},{"$f":"ClassementGenéral!I477","v":"Fed"}]
[{"$f":"ClassementGenéral!A478","v":0},{"$f":"ClassementGenéral!B478","v":50},{"$f":"ClassementGenéral!C478","v":0},{"$f":"ClassementGenéral!D478","v":0},{"$f":"ClassementGenéral!E478","v":0},{"$f":"ClassementGenéral!F478","v":0},{"$f":"ClassementGenéral!G478","v":0},{"$f":"ClassementGenéral!H478","v":0},{"$f":"ClassementGenéral!I478","v":0}]
[{"$f":"ClassementGenéral!A479","v":0},{"$f":"ClassementGenéral!B479","v":51},{"$f":"ClassementGenéral!C479","v":0},{"$f":"ClassementGenéral!D479","v":0},{"$f":"ClassementGenéral!E479","v":0},{"$f":"ClassementGenéral!F479","v":0},{"$f":"ClassementGenéral!G479","v":0},{"$f":"ClassementGenéral!H479","v":0},{"$f":"ClassementGenéral!I479","v":0}]
[{"$f":"ClassementGenéral!A480","v":0},{"$f":"ClassementGenéral!B480","v":52},{"$f":"ClassementGenéral!C480","v":0},{"$f":"ClassementGenéral!D480","v":0},{"$f":"ClassementGenéral!E480","v":0},{"$f":"ClassementGenéral!F480","v":0},{"$f":"ClassementGenéral!G480","v":0},{"$f":"ClassementGenéral!H480","v":0},{"$f":"ClassementGenéral!I480","v":0}]
[{"$f":"ClassementGenéral!A481","v":0},{"$f":"ClassementGenéral!B481","v":53},{"$f":"ClassementGenéral!C481","v":0},{"$f":"ClassementGenéral!D481","v":0},{"$f":"ClassementGenéral!E481","v":0},{"$f":"ClassementGenéral!F481","v":0},{"$f":"ClassementGenéral!G481","v":0},{"$f":"ClassementGenéral!H481","v":0},{"$f":"ClassementGenéral!I481","v":0}]
[{"$f":"ClassementGenéral!A482","v":0},{"$f":"ClassementGenéral!B482","v":54},{"$f":"ClassementGenéral!C482","v":0},{"$f":"ClassementGenéral!D482","v":0},{"$f":"ClassementGenéral!E482","v":0},{"$f":"ClassementGenéral!F482","v":0},{"$f":"ClassementGenéral!G482","v":0},{"$f":"ClassementGenéral!H482","v":0},{"$f":"ClassementGenéral!I482","v":0}]
[{"$f":"ClassementGenéral!A483","v":0},{"$f":"ClassementGenéral!B483","v":55},{"$f":"ClassementGenéral!C483","v":0},{"$f":"ClassementGenéral!D483","v":0},{"$f":"ClassementGenéral!E483","v":0},{"$f":"ClassementGenéral!F483","v":0},{"$f":"ClassementGenéral!G483","v":0},{"$f":"ClassementGenéral!H483","v":0},{"$f":"ClassementGenéral!I483","v":0}]
[{"$f":"ClassementGenéral!A484","v":0},{"$f":"ClassementGenéral!B484","v":56},{"$f":"ClassementGenéral!C484","v":0},{"$f":"ClassementGenéral!D484","v":0},{"$f":"ClassementGenéral!E484","v":0},{"$f":"ClassementGenéral!F484","v":0},{"$f":"ClassementGenéral!G484","v":0},{"$f":"ClassementGenéral!H484","v":0},{"$f":"ClassementGenéral!I484","v":0}]
[{"$f":"ClassementGenéral!A485","v":0},{"$f":"ClassementGenéral!B485","v":57},{"$f":"ClassementGenéral!C485","v":0},{"$f":"ClassementGenéral!D485","v":0},{"$f":"ClassementGenéral!E485","v":0},{"$f":"ClassementGenéral!F485","v":0},{"$f":"ClassementGenéral!G485","v":0},{"$f":"ClassementGenéral!H485","v":0},{"$f":"ClassementGenéral!I485","v":0}]
[{"$f":"ClassementGenéral!A486","v":0},{"$f":"ClassementGenéral!B486","v":58},{"$f":"ClassementGenéral!C486","v":0},{"$f":"ClassementGenéral!D486","v":0},{"$f":"ClassementGenéral!E486","v":0},{"$f":"ClassementGenéral!F486","v":0},{"$f":"ClassementGenéral!G486","v":0},{"$f":"ClassementGenéral!H486","v":0},{"$f":"ClassementGenéral!I486","v":0}]
[{"$f":"ClassementGenéral!A487","v":0},{"$f":"ClassementGenéral!B487","v":59},{"$f":"ClassementGenéral!C487","v":0},{"$f":"ClassementGenéral!D487","v":0},{"$f":"ClassementGenéral!E487","v":0},{"$f":"ClassementGenéral!F487","v":0},{"$f":"ClassementGenéral!G487","v":0},{"$f":"ClassementGenéral!H487","v":0},{"$f":"ClassementGenéral!I487","v":0}]
[{"$f":"ClassementGenéral!A488","v":0},{"$f":"ClassementGenéral!B488","v":60},{"$f":"ClassementGenéral!C488","v":0},{"$f":"ClassementGenéral!D488","v":0},{"$f":"ClassementGenéral!E488","v":0},{"$f":"ClassementGenéral!F488","v":0},{"$f":"ClassementGenéral!G488","v":0},{"$f":"ClassementGenéral!H488","v":0},{"$f":"ClassementGenéral!I488","v":0}]
[{"$f":"ClassementGenéral!A489","v":0},{"$f":"ClassementGenéral!B489","v":61},{"$f":"ClassementGenéral!C489","v":0},{"$f":"ClassementGenéral!D489","v":0},{"$f":"ClassementGenéral!E489","v":0},{"$f":"ClassementGenéral!F489","v":0},{"$f":"ClassementGenéral!G489","v":0},{"$f":"ClassementGenéral!H489","v":0},{"$f":"ClassementGenéral!I489","v":0}]
[{"$f":"ClassementGenéral!A490","v":0},{"$f":"ClassementGenéral!B490","v":62},{"$f":"ClassementGenéral!C490","v":0},{"$f":"ClassementGenéral!D490","v":0},{"$f":"ClassementGenéral!E490","v":0},{"$f":"ClassementGenéral!F490","v":0},{"$f":"ClassementGenéral!G490","v":0},{"$f":"ClassementGenéral!H490","v":0},{"$f":"ClassementGenéral!I490","v":0}]
[{"$f":"ClassementGenéral!A491","v":0},{"$f":"ClassementGenéral!B491","v":63},{"$f":"ClassementGenéral!C491","v":0},{"$f":"ClassementGenéral!D491","v":0},{"$f":"ClassementGenéral!E491","v":0},{"$f":"ClassementGenéral!F491","v":0},{"$f":"ClassementGenéral!G491","v":0},{"$f":"ClassementGenéral!H491","v":0},{"$f":"ClassementGenéral!I491","v":0}]
[{"$f":"ClassementGenéral!A492","v":0},{"$f":"ClassementGenéral!B492","v":64},{"$f":"ClassementGenéral!C492","v":0},{"$f":"ClassementGenéral!D492","v":0},{"$f":"ClassementGenéral!E492","v":0},{"$f":"ClassementGenéral!F492","v":0},{"$f":"ClassementGenéral!G492","v":0},{"$f":"ClassementGenéral!H492","v":0},{"$f":"ClassementGenéral!I492","v":0}]
[{"$f":"ClassementGenéral!A493","v":0},{"$f":"ClassementGenéral!B493","v":65},{"$f":"ClassementGenéral!C493","v":0},{"$f":"ClassementGenéral!D493","v":0},{"$f":"ClassementGenéral!E493","v":0},{"$f":"ClassementGenéral!F493","v":0},{"$f":"ClassementGenéral!G493","v":0},{"$f":"ClassementGenéral!H493","v":0},{"$f":"ClassementGenéral!I493","v":0}]
[{"$f":"ClassementGenéral!A494","v":0},{"$f":"ClassementGenéral!B494","v":66},{"$f":"ClassementGenéral!C494","v":0},{"$f":"ClassementGenéral!D494","v":0},{"$f":"ClassementGenéral!E494","v":0},{"$f":"ClassementGenéral!F494","v":0},{"$f":"ClassementGenéral!G494","v":0},{"$f":"ClassementGenéral!H494","v":0},{"$f":"ClassementGenéral!I494","v":0}]
[{"$f":"ClassementGenéral!A495","v":0},{"$f":"ClassementGenéral!B495","v":67},{"$f":"ClassementGenéral!C495","v":0},{"$f":"ClassementGenéral!D495","v":0},{"$f":"ClassementGenéral!E495","v":0},{"$f":"ClassementGenéral!F495","v":0},{"$f":"ClassementGenéral!G495","v":0},{"$f":"ClassementGenéral!H495","v":0},{"$f":"ClassementGenéral!I495","v":0}]
[{"$f":"ClassementGenéral!A496","v":0},{"$f":"ClassementGenéral!B496","v":68},{"$f":"ClassementGenéral!C496","v":0},{"$f":"ClassementGenéral!D496","v":0},{"$f":"ClassementGenéral!E496","v":0},{"$f":"ClassementGenéral!F496","v":0},{"$f":"ClassementGenéral!G496","v":0},{"$f":"ClassementGenéral!H496","v":0},{"$f":"ClassementGenéral!I496","v":0}]
[{"$f":"ClassementGenéral!A497","v":0},{"$f":"ClassementGenéral!B497","v":69},{"$f":"ClassementGenéral!C497","v":0},{"$f":"ClassementGenéral!D497","v":0},{"$f":"ClassementGenéral!E497","v":0},{"$f":"ClassementGenéral!F497","v":0},{"$f":"ClassementGenéral!G497","v":0},{"$f":"ClassementGenéral!H497","v":0},{"$f":"ClassementGenéral!I497","v":0}]
[null,{"$f":"ClassementGenéral!B498","v":70},{"$f":"ClassementGenéral!C498","v":0},{"$f":"ClassementGenéral!D498","v":0},{"$f":"ClassementGenéral!E498","v":0},{"$f":"ClassementGenéral!F498","v":0},{"$f":"ClassementGenéral!G498","v":0},{"$f":"ClassementGenéral!H498","v":0},{"$f":"ClassementGenéral!I498","v":0}]
[null,{"$f":"ClassementGenéral!B499","v":71},{"$f":"ClassementGenéral!C499","v":0},{"$f":"ClassementGenéral!D499","v":0},{"$f":"ClassementGenéral!E499","v":0},{"$f":"ClassementGenéral!F499","v":0},{"$f":"ClassementGenéral!G499","v":0},{"$f":"ClassementGenéral!H499","v":0},{"$f":"ClassementGenéral!I499","v":0}]
[null,{"$f":"ClassementGenéral!B500","v":72},{"$f":"ClassementGenéral!C500","v":0},{"$f":"ClassementGenéral!D500","v":0},{"$f":"ClassementGenéral!E500","v":0},{"$f":"ClassementGenéral!F500","v":0},{"$f":"ClassementGenéral!G500","v":0},{"$f":"ClassementGenéral!H500","v":0},{"$f":"ClassementGenéral!I500","v":0}]
[null,{"$f":"ClassementGenéral!B501","v":73},{"$f":"ClassementGenéral!C501","v":0},{"$f":"ClassementGenéral!D501","v":0},{"$f":"ClassementGenéral!E501","v":0},{"$f":"ClassementGenéral!F501","v":0},{"$f":"ClassementGenéral!G501","v":0},{"$f":"ClassementGenéral!H501","v":0},{"$f":"ClassementGenéral!I501","v":0}]
[null,{"$f":"ClassementGenéral!B502","v":74},{"$f":"ClassementGenéral!C502","v":0},{"$f":"ClassementGenéral!D502","v":0},{"$f":"ClassementGenéral!E502","v":0},{"$f":"ClassementGenéral!F502","v":0},{"$f":"ClassementGenéral!G502","v":0},{"$f":"ClassementGenéral!H502","v":0},{"$f":"ClassementGenéral!I502","v":0}]
[null,{"$f":"ClassementGenéral!B503","v":75},{"$f":"ClassementGenéral!C503","v":0},{"$f":"ClassementGenéral!D503","v":0},{"$f":"ClassementGenéral!E503","v":0},{"$f":"ClassementGenéral!F503","v":0},{"$f":"ClassementGenéral!G503","v":0},{"$f":"ClassementGenéral!H503","v":0},{"$f":"ClassementGenéral!I503","v":0}]
[null,{"$f":"ClassementGenéral!B504","v":76},{"$f":"ClassementGenéral!C504","v":0},{"$f":"ClassementGenéral!D504","v":0},{"$f":"ClassementGenéral!E504","v":0},{"$f":"ClassementGenéral!F504","v":0},{"$f":"ClassementGenéral!G504","v":0},{"$f":"ClassementGenéral!H504","v":0},{"$f":"ClassementGenéral!I504","v":0}]
[null,{"$f":"ClassementGenéral!B505","v":77},{"$f":"ClassementGenéral!C505","v":0},{"$f":"ClassementGenéral!D505","v":0},{"$f":"ClassementGenéral!E505","v":0},{"$f":"ClassementGenéral!F505","v":0},{"$f":"ClassementGenéral!G505","v":0},{"$f":"ClassementGenéral!H505","v":0},{"$f":"ClassementGenéral!I505","v":0}]
[null,{"$f":"ClassementGenéral!B506","v":78},{"$f":"ClassementGenéral!C506","v":0},{"$f":"ClassementGenéral!D506","v":0},{"$f":"ClassementGenéral!E506","v":0},{"$f":"ClassementGenéral!F506","v":0},{"$f":"ClassementGenéral!G506","v":0},{"$f":"ClassementGenéral!H506","v":0},{"$f":"ClassementGenéral!I506","v":0}]
[null,{"$f":"ClassementGenéral!B507","v":79},{"$f":"ClassementGenéral!C507","v":0},{"$f":"ClassementGenéral!D507","v":0},{"$f":"ClassementGenéral!E507","v":0},{"$f":"ClassementGenéral!F507","v":0},{"$f":"ClassementGenéral!G507","v":0},{"$f":"ClassementGenéral!H507","v":0},{"$f":"ClassementGenéral!I507","v":0}]
[null,{"$f":"ClassementGenéral!B508","v":80},{"$f":"ClassementGenéral!C508","v":0},{"$f":"ClassementGenéral!D508","v":0},{"$f":"ClassementGenéral!E508","v":0},{"$f":"ClassementGenéral!F508","v":0},{"$f":"ClassementGenéral!G508","v":0},{"$f":"ClassementGenéral!H508","v":0},{"$f":"ClassementGenéral!I508","v":0}]
[null,{"$f":"ClassementGenéral!B509","v":81},{"$f":"ClassementGenéral!C509","v":0},{"$f":"ClassementGenéral!D509","v":0},{"$f":"ClassementGenéral!E509","v":0},{"$f":"ClassementGenéral!F509","v":0},{"$f":"ClassementGenéral!G509","v":0},{"$f":"ClassementGenéral!H509","v":0},{"$f":"ClassementGenéral!I509","v":0}]
[null,{"$f":"ClassementGenéral!B510","v":82},{"$f":"ClassementGenéral!C510","v":0},{"$f":"ClassementGenéral!D510","v":0},{"$f":"ClassementGenéral!E510","v":0},{"$f":"ClassementGenéral!F510","v":0},{"$f":"ClassementGenéral!G510","v":0},{"$f":"ClassementGenéral!H510","v":0},{"$f":"ClassementGenéral!I510","v":0}]
[null,{"$f":"ClassementGenéral!B511","v":83},{"$f":"ClassementGenéral!C511","v":0},{"$f":"ClassementGenéral!D511","v":0},{"$f":"ClassementGenéral!E511","v":0},{"$f":"ClassementGenéral!F511","v":0},{"$f":"ClassementGenéral!G511","v":0},{"$f":"ClassementGenéral!H511","v":0},{"$f":"ClassementGenéral!I511","v":0}]
[null,{"$f":"ClassementGenéral!B512","v":84},{"$f":"ClassementGenéral!C512","v":0},{"$f":"ClassementGenéral!D512","v":0},{"$f":"ClassementGenéral!E512","v":0},{"$f":"ClassementGenéral!F512","v":0},{"$f":"ClassementGenéral!G512","v":0},{"$f":"ClassementGenéral!H512","v":0},{"$f":"ClassementGenéral!I512","v":0}]
[null,{"$f":"ClassementGenéral!B513","v":85},{"$f":"ClassementGenéral!C513","v":0},{"$f":"ClassementGenéral!D513","v":0},{"$f":"ClassementGenéral!E513","v":0},{"$f":"ClassementGenéral!F513","v":0},{"$f":"ClassementGenéral!G513","v":0},{"$f":"ClassementGenéral!H513","v":0},{"$f":"ClassementGenéral!I513","v":0}]
[null,{"$f":"ClassementGenéral!B514","v":86},{"$f":"ClassementGenéral!C514","v":0},{"$f":"ClassementGenéral!D514","v":0},{"$f":"ClassementGenéral!E514","v":0},{"$f":"ClassementGenéral!F514","v":0},{"$f":"ClassementGenéral!G514","v":0},{"$f":"ClassementGenéral!H514","v":0},{"$f":"ClassementGenéral!I514","v":0}]
[null,{"$f":"ClassementGenéral!B515","v":87},{"$f":"ClassementGenéral!C515","v":0},{"$f":"ClassementGenéral!D515","v":0},{"$f":"ClassementGenéral!E515","v":0},{"$f":"ClassementGenéral!F515","v":0},{"$f":"ClassementGenéral!G515","v":0},{"$f":"ClassementGenéral!H515","v":0},{"$f":"ClassementGenéral!I515","v":0}]
[null,{"$f":"ClassementGenéral!B516","v":88},{"$f":"ClassementGenéral!C516","v":0},{"$f":"ClassementGenéral!D516","v":0},{"$f":"ClassementGenéral!E516","v":0},{"$f":"ClassementGenéral!F516","v":0},{"$f":"ClassementGenéral!G516","v":0},{"$f":"ClassementGenéral!H516","v":0},{"$f":"ClassementGenéral!I516","v":0}]
[null,{"$f":"ClassementGenéral!B517","v":89},{"$f":"ClassementGenéral!C517","v":0},{"$f":"ClassementGenéral!D517","v":0},{"$f":"ClassementGenéral!E517","v":0},{"$f":"ClassementGenéral!F517","v":0},{"$f":"ClassementGenéral!G517","v":0},{"$f":"ClassementGenéral!H517","v":0},{"$f":"ClassementGenéral!I517","v":0}]
[null,{"$f":"ClassementGenéral!B518","v":90},{"$f":"ClassementGenéral!C518","v":0},{"$f":"ClassementGenéral!D518","v":0},{"$f":"ClassementGenéral!E518","v":0},{"$f":"ClassementGenéral!F518","v":0},{"$f":"ClassementGenéral!G518","v":0},{"$f":"ClassementGenéral!H518","v":0},{"$f":"ClassementGenéral!I518","v":0}]
[null,{"$f":"ClassementGenéral!B519","v":91},{"$f":"ClassementGenéral!C519","v":0},{"$f":"ClassementGenéral!D519","v":0},{"$f":"ClassementGenéral!E519","v":0},{"$f":"ClassementGenéral!F519","v":0},{"$f":"ClassementGenéral!G519","v":0},{"$f":"ClassementGenéral!H519","v":0},{"$f":"ClassementGenéral!I519","v":0}]
[null,{"$f":"ClassementGenéral!B520","v":92},{"$f":"ClassementGenéral!C520","v":0},{"$f":"ClassementGenéral!D520","v":0},{"$f":"ClassementGenéral!E520","v":0},{"$f":"ClassementGenéral!F520","v":0},{"$f":"ClassementGenéral!G520","v":0},{"$f":"ClassementGenéral!H520","v":0},{"$f":"ClassementGenéral!I520","v":0}]
[null,{"$f":"ClassementGenéral!B521","v":93},{"$f":"ClassementGenéral!C521","v":0},{"$f":"ClassementGenéral!D521","v":0},{"$f":"ClassementGenéral!E521","v":0},{"$f":"ClassementGenéral!F521","v":0},{"$f":"ClassementGenéral!G521","v":0},{"$f":"ClassementGenéral!H521","v":0},{"$f":"ClassementGenéral!I521","v":0}]
[null,{"$f":"ClassementGenéral!B522","v":94},{"$f":"ClassementGenéral!C522","v":0},{"$f":"ClassementGenéral!D522","v":0},{"$f":"ClassementGenéral!E522","v":0},{"$f":"ClassementGenéral!F522","v":0},{"$f":"ClassementGenéral!G522","v":0},{"$f":"ClassementGenéral!H522","v":0},{"$f":"ClassementGenéral!I522","v":0}]
[null,{"$f":"ClassementGenéral!B523","v":95},{"$f":"ClassementGenéral!C523","v":0},{"$f":"ClassementGenéral!D523","v":0},{"$f":"ClassementGenéral!E523","v":0},{"$f":"ClassementGenéral!F523","v":0},{"$f":"ClassementGenéral!G523","v":0},{"$f":"ClassementGenéral!H523","v":0},{"$f":"ClassementGenéral!I523","v":0}]
[null,{"$f":"ClassementGenéral!B524","v":96},{"$f":"ClassementGenéral!C524","v":0},{"$f":"ClassementGenéral!D524","v":0},{"$f":"ClassementGenéral!E524","v":0},{"$f":"ClassementGenéral!F524","v":0},{"$f":"ClassementGenéral!G524","v":0},{"$f":"ClassementGenéral!H524","v":0},{"$f":"ClassementGenéral!I524","v":0}]
[null,{"$f":"ClassementGenéral!B525","v":97},{"$f":"ClassementGenéral!C525","v":0},{"$f":"ClassementGenéral!D525","v":0},{"$f":"ClassementGenéral!E525","v":0},{"$f":"ClassementGenéral!F525","v":0},{"$f":"ClassementGenéral!G525","v":0},{"$f":"ClassementGenéral!H525","v":0},{"$f":"ClassementGenéral!I525","v":0}]
[null,{"$f":"ClassementGenéral!B526","v":98},{"$f":"ClassementGenéral!C526","v":0},{"$f":"ClassementGenéral!D526","v":0},{"$f":"ClassementGenéral!E526","v":0},{"$f":"ClassementGenéral!F526","v":0},{"$f":"ClassementGenéral!G526","v":0},{"$f":"ClassementGenéral!H526","v":0},{"$f":"ClassementGenéral!I526","v":0}]
[null,{"$f":"ClassementGenéral!B527","v":99},{"$f":"ClassementGenéral!C527","v":0},{"$f":"ClassementGenéral!D527","v":0},{"$f":"ClassementGenéral!E527","v":0},{"$f":"ClassementGenéral!F527","v":0},{"$f":"ClassementGenéral!G527","v":0},{"$f":"ClassementGenéral!H527","v":0},{"$f":"ClassementGenéral!I527","v":0}]
[null,{"$f":"ClassementGenéral!B528","v":100},{"$f":"ClassementGenéral!C528","v":0},{"$f":"ClassementGenéral!D528","v":0},{"$f":"ClassementGenéral!E528","v":0},{"$f":"ClassementGenéral!F528","v":0},{"$f":"ClassementGenéral!G528","v":0},{"$f":"ClassementGenéral!H528","v":0},{"$f":"ClassementGenéral!I528","v":0}]
[null,{"$f":"ClassementGenéral!B529","v":0},{"$f":"ClassementGenéral!C529","v":0},{"$f":"ClassementGenéral!D529","v":0},{"$f":"ClassementGenéral!E529","v":0},{"$f":"ClassementGenéral!F529","v":0},{"$f":"ClassementGenéral!G529","v":0},{"$f":"ClassementGenéral!H529","v":0},{"$f":"ClassementGenéral!I529","v":0}]
[null,{"$f":"ClassementGenéral!B530","v":0},{"$f":"ClassementGenéral!C530","v":0},{"$f":"ClassementGenéral!D530","v":0},{"$f":"ClassementGenéral!E530","v":0},{"$f":"ClassementGenéral!F530","v":0},{"$f":"ClassementGenéral!G530","v":0},{"$f":"ClassementGenéral!H530","v":0},{"$f":"ClassementGenéral!I530","v":0}]
[null,"FIN"]

{"sheet":"1Cat","index":2,"n_rows":59,"n_cols":11,"rows_kept":59,"cut":false,"hidden":false,"merged":[[0,9,4,14],[6,0,6,2],[5,0,5,2],[5,4,5,5],[8,4,8,8],[6,4,6,5],[7,4,7,5],[6,10,6,13],[0,0,0,8],[1,0,1,8],[2,0,2,8],[3,0,3,8],[4,4,4,8],[5,7,5,8],[6,7,6,8]]}
[{"$f":"ClassementGenéral!A1","v":"UFOLEP"},null,null,null,null,null,null,null,null,"QUAND LE CLASSEMENT  EST TERMINE \nEffectuer le tri dans la colonne place pour que le Classement Général et le Podium soient réalisés. Utiliser les critères définis ds le menu déroulant. \nVous pouvez imprimer chaque onglet indépendemment pour les commisaires du podium. \n Pour le classement à diffuser, faites Impression,vérifier la mise en page puis Imprimer le au format pdf, faites  de même pour le podium. \nEnvoyer les deux fichiers au Webmaster et à la CTD pour diffusion plus large"]
[{"$f":"ClassementGenéral!A2","v":"Prix de la municipalité de MIGENNES"}]
[{"$f":"ClassementGenéral!A3","v":"2025-06-29"}]
[{"$f":"ClassementGenéral!A4","v":"ASUCM "}]
["Distance parcourue et vitesse moyenne",null,null,"Km du circuit et nb de tour ","A documenter par les commissaires"]
[{"$f":"G8","v":0},null,null,1.7,"Heure de départ",null,null,"ex 13:32:30"]
[{"$f":"IF(G7=\"\",\"\",(G8/(G7-G6)/24))","v":""},null,null,0,"heure d'arrivée",null,null,"ex 15:00:30",null,null,"Bouton à n'utilser que ds cas particulier"]
["Cat",{"$f":"COUNTA(C11:C95)","v":0},{"$f":"(COUNTIF(A11:A95,\"NP\"))","v":0},{"$f":"(COUNTIF(A11:A95,\"D\"))","v":0},"Distance",null,{"$f":"D6*D7","v":0}]
["1e",{"$f":"COUNTIF(A11:A95,\">=1\")+ COUNTIF(A11:A95,\"ab\")","v":0},{"$f":"(COUNTIF(A11:A95,\"ab\"))","v":0},"Couleur dossard          =>","ROUGE"]
["Place","Doss","Nom Prenom","Club","Sexe","Cat","Cat âge","Dep","Fed","N° Licence"]
[null,1]
[null,2]
[null,3]
[null,4]
[null,5]
[null,6]
[null,7]
[null,8]
[null,9]
[null,10]
[null,11]
[null,12]
[null,13]
[null,14]
[null,15]
[null,16]
[null,17]
[null,18]
[null,19]
[null,20]
[null,21]
[null,22]
[null,23]
[null,24]
[null,25]
[null,26]
[null,27]
[null,28]
[null,29]
[null,30]
[null,31]
[null,32]
[null,33]
[null,34]
[null,35]
[null,36]
[null,37]
[null,38]
[null,39]
[null,40]
[null,41]
[null,42]
[null,43]
[null,44]
[null,45]
[null,46]
[null,47]
[null,48]
[null,49]

{"sheet":"2Cat","index":3,"n_rows":60,"n_cols":11,"rows_kept":60,"cut":false,"hidden":false,"merged":[[6,10,6,13],[0,0,0,8],[1,0,1,8],[2,0,2,8],[3,0,3,8],[4,4,4,8],[5,7,5,8],[6,7,6,8],[0,9,4,14],[8,4,8,8],[5,0,5,2],[6,0,6,2],[7,4,7,5],[5,4,5,5],[6,4,6,5]]}
[{"$f":"ClassementGenéral!A1","v":"UFOLEP"},null,null,null,null,null,null,null,null,"QUAND LE CLASSEMENT  EST TERMINE \nEffectuer le tri dans la colonne place pour que le Classement Général et le Podium soient réalisés. Utiliser les critères définis ds le menu déroulant. \nVous pouvez imprimer chaque onglet indépendemment pour les commisaires du podium. \n Pour le classement à diffuser, faites Impression,vérifier la mise en page puis Imprimer le au format pdf, faites  de même pour le podium. \nEnvoyer les deux fichiers au Webmaster et à la CTD pour diffusion plus large"]
[{"$f":"ClassementGenéral!A2","v":"Prix de la municipalité de MIGENNES"}]
[{"$f":"ClassementGenéral!A3","v":"2025-06-29"}]
[{"$f":"ClassementGenéral!A4","v":"ASUCM "}]
["Distance parcourue et vitesse moyenne",null,null,"Km du circuit et nb de tour ","A documenter par les commissaires"]
[{"$f":"G8","v":0},null,null,1.7,"Heure de départ",null,null,"ex 13:32:30"]
[{"$f":"IF(G7=\"\",\"\",(G8/(G7-G6)/24))","v":""},null,null,0,"heure d'arrivée",null,null,"ex 15:00:30",null,null,"Bouton à n'utilser que ds cas particulier"]
["Cat",{"$f":"COUNTA(C11:C100)","v":0},{"$f":"(COUNTIF(A11:A100,\"NP\"))","v":0},{"$f":"(COUNTIF(A11:A100,\"D\"))","v":0},"Distance",null,{"$f":"D6*D7","v":0}]
["2e",{"$f":"COUNTIF(A11:A100,\">=1\")+ COUNTIF(A11:A100,\"ab\")","v":0},{"$f":"(COUNTIF(A11:A100,\"ab\"))","v":0},"Couleur dossard          =>","NOIR"]
["Place","Doss","Nom Prenom","Club","Sexe","Cat","Cat âge","Dep","Fed","N° Licence"]
[null,50]
[null,51]
[null,52]
[null,53]
[null,54]
[null,55]
[null,56]
[null,57]
[null,58]
[null,59]
[null,60]
[null,61]
[null,62]
[null,63]
[null,64]
[null,65]
[null,66]
[null,67]
[null,68]
[null,69]
[null,70]
[null,71]
[null,72]
[null,73]
[null,74]
[null,75]
[null,76]
[null,77]
[null,78]
[null,79]
[null,80]
[null,81]
[null,82]
[null,83]
[null,84]
[null,85]
[null,86]
[null,87]
[null,88]
[null,89]
[null,90]
[null,91]
[null,92]
[null,93]
[null,94]
[null,95]
[null,96]
[null,97]
[null,98]
[null,99]

{"sheet":"3Cat","index":4,"n_rows":60,"n_cols":11,"rows_kept":60,"cut":false,"hidden":false,"merged":[[0,9,4,14],[5,0,5,2],[6,0,6,2],[0,0,0,8],[1,0,1,8],[2,0,2,8],[3,0,3,8],[4,4,4,8],[8,4,8,8],[7,4,7,5],[5,4,5,5],[6,4,6,5],[6,10,6,13],[5,7,5,8],[6,7,6,8]]}
[{"$f":"ClassementGenéral!A1","v":"UFOLEP"},null,null,null,null,null,null,null,null,"QUAND LE CLASSEMENT  EST TERMINE \nEffectuer le tri dans la colonne place pour que le Classement Général et le Podium soient réalisés. Utiliser les critères définis ds le menu déroulant. \nVous pouvez imprimer chaque onglet indépendemment pour les commisaires du podium. \n Pour le classement à diffuser, faites Impression,vérifier la mise en page puis Imprimer le au format pdf, faites  de même pour le podium. \nEnvoyer les deux fichiers au Webmaster et à la CTD pour diffusion plus large"]
[{"$f":"ClassementGenéral!A2","v":"Prix de la municipalité de MIGENNES"}]
[{"$f":"ClassementGenéral!A3","v":"2025-06-29"}]
[{"$f":"ClassementGenéral!A4","v":"ASUCM "}]
["Distance parcourue et vitesse moyenne",null,null,"Km du circuit et nb de tour ","A documenter par les commissaires"]
[{"$f":"G8","v":0},null,null,1.7,"Heure de départ",null,null,"ex 13:32:30"]
[{"$f":"IF(G7=\"\",\"\",(G8/(G7-G6)/24))","v":""},null,null,0,"heure d'arrivée",null,null,"ex 15:00:30",null,null,"Bouton à n'utilser que ds cas particulier"]
["Cat",{"$f":"COUNTA(C11:C100)","v":0},{"$f":"(COUNTIF(A11:A100,\"NP\"))","v":0},{"$f":"(COUNTIF(A11:A100,\"D\"))","v":0},"Distance",null,{"$f":"D6*D7","v":0}]
["3e",{"$f":"COUNTIF(A11:A100,\">=1\")+ COUNTIF(A11:A100,\"ab\")","v":0},{"$f":"(COUNTIF(A11:A100,\"ab\"))","v":0},"Couleur dossard          =>","ROUGE"]
["Place","Doss","Nom Prenom","Club","Sexe","Cat","Cat âge","Dep","Fed","N° Licence"]
[null,50]
[null,51]
[null,52]
[null,53]
[null,54]
[null,55]
[null,56]
[null,57]
[null,58]
[null,59]
[null,60]
[null,61]
[null,62]
[null,63]
[null,64]
[null,65]
[null,66]
[null,67]
[null,68]
[null,69]
[null,70]
[null,71]
[null,72]
[null,73]
[null,74]
[null,75]
[null,76]
[null,77]
[null,78]
[null,79]
[null,80]
[null,81]
[null,82]
[null,83]
[null,84]
[null,85]
[null,86]
[null,87]
[null,88]
[null,89]
[null,90]
[null,91]
[null,92]
[null,93]
[null,94]
[null,95]
[null,96]
[null,97]
[null,98]
[null,99]

{"sheet":"15_16ans","index":5,"n_rows":30,"n_cols":11,"rows_kept":30,"cut":false,"hidden":false,"merged":[[6,10,6,13],[0,0,0,8],[1,0,1,8],[2,0,2,8],[3,0,3,8],[4,4,4,8],[5,7,5,8],[6,7,6,8],[0,9,4,14],[8,4,8,8],[7,4,7,5],[5,0,5,2],[5,4,5,5],[6,0,6,2],[6,4,6,5]]}
[{"$f":"ClassementGenéral!A1","v":"UFOLEP"},null,null,null,null,null,null,null,null,"QUAND LE CLASSEMENT  EST TERMINE \nEffectuer le tri dans la colonne place pour que le Classement Général et le Podium soient réalisés. Utiliser les critères définis ds le menu déroulant. \nVous pouvez imprimer chaque onglet indépendemment pour les commisaires du podium. \n Pour le classement à diffuser, faites Impression,vérifier la mise en page puis Imprimer le au format pdf, faites  de même pour le podium. \nEnvoyer les deux fichiers au Webmaster et à la CTD pour diffusion plus large"]
[{"$f":"ClassementGenéral!A2","v":"Prix de la municipalité de MIGENNES"}]
[{"$f":"ClassementGenéral!A3","v":"2025-06-29"}]
[{"$f":"ClassementGenéral!A4","v":"ASUCM "}]
["Distance parcourue et vitesse moyenne",null,null,"Km du circuit et nb de tour ","A documenter par les commissaires"]
[{"$f":"G8","v":0},null,null,1.7,"Heure de départ",null,null,"ex 13:32:30"]
[{"$f":"IF(G7=\"\",\"\",(G8/(G7-G6)/24))","v":""},null,null,0,"heure d'arrivée",null,null,"ex 15:00:30",null,null,"Bouton à n'utilser que ds cas particulier"]
["Cat",{"$f":"COUNTA(C11:C100)","v":0},{"$f":"(COUNTIF(A11:A100,\"NP\"))","v":0},{"$f":"(COUNTIF(A11:A100,\"D\"))","v":0},"Distance",null,{"$f":"D6*D7","v":0}]
["15 à 16 ans",{"$f":"COUNTIF(A11:A100,\">=1\")+ COUNTIF(A11:A100,\"ab\")","v":0},{"$f":"(COUNTIF(A11:A100,\"ab\"))","v":0},"Couleur dossard          =>","NOIR"]
["Place","Doss","Nom Prenom","Club","Sexe","Cat","Cat âge","Dep","Fed","N° Licence"]
[null,120]
[null,121]
[null,122]
[null,123]
[null,124]
[null,125]
[null,126]
[null,127]
[null,128]
[null,129]
[null,130]
[null,131]
[null,132]
[null,133]
[null,134]
[null,135]
[null,136]
[null,137]
[null,138]
[null,139]

{"sheet":"4Cat","index":6,"n_rows":59,"n_cols":11,"rows_kept":59,"cut":false,"hidden":false,"merged":[[6,10,6,13],[0,0,0,8],[1,0,1,8],[2,0,2,8],[3,0,3,8],[4,4,4,8],[5,7,5,8],[6,7,6,8],[0,9,4,14],[8,4,8,8],[7,4,7,5],[5,0,5,2],[5,4,5,5],[6,0,6,2],[6,4,6,5]]}
[{"$f":"ClassementGenéral!A1","v":"UFOLEP"},null,null,null,null,null,null,null,null,"QUAND LE CLASSEMENT  EST TERMINE \nEffectuer le tri dans la colonne place pour que le Classement Général et le Podium soient réalisés. Utiliser les critères définis ds le menu déroulant. \nVous pouvez imprimer chaque onglet indépendemment pour les commisaires du podium. \n Pour le classement à diffuser, faites Impression,vérifier la mise en page puis Imprimer le au format pdf, faites  de même pour le podium. \nEnvoyer les deux fichiers au Webmaster et à la CTD pour diffusion plus large"]
[{"$f":"ClassementGenéral!A2","v":"Prix de la municipalité de MIGENNES"}]
[{"$f":"ClassementGenéral!A3","v":"2025-06-29"}]
[{"$f":"ClassementGenéral!A4","v":"ASUCM "}]
["Distance parcourue et vitesse moyenne",null,null,"Km du circuit et nb de tour ","A documenter par les commissaires"]
[{"$f":"G8","v":0},null,null,1.7,"Heure de départ",null,null,"ex 13:32:30"]
[{"$f":"IF(G7=\"\",\"\",(G8/(G7-G6)/24))","v":""},null,null,0,"heure d'arrivée",null,null,"ex 15:00:30",null,null,"Bouton à n'utilser que ds cas particulier"]
["Cat",{"$f":"COUNTA(C11:C97)","v":0},{"$f":"(COUNTIF(A11:A97,\"NP\"))","v":0},{"$f":"(COUNTIF(A11:A97,\"D\"))","v":0},"Distance",null,{"$f":"D6*D7","v":0}]
["4e",{"$f":"COUNTIF(A10:A97,\">=1\")+ COUNTIF(A10:A97,\"ab\")","v":0},{"$f":"(COUNTIF(A11:A97,\"ab\"))","v":0},"Couleur dossard          =>","NOIR"]
["Place","Doss","Nom Prenom","Club","Sexe","Cat","Cat âge","Dep","Fed","N° Licence"]
[null,1]
[null,2]
[null,3]
[null,4]
[null,5]
[null,6]
[null,7]
[null,8]
[null,9]
[null,10]
[null,11]
[null,12]
[null,13]
[null,14]
[null,15]
[null,16]
[null,17]
[null,18]
[null,19]
[null,20]
[null,21]
[null,22]
[null,23]
[null,24]
[null,25]
[null,26]
[null,27]
[null,28]
[null,29]
[null,30]
[null,31]
[null,32]
[null,33]
[null,34]
[null,35]
[null,36]
[null,37]
[null,38]
[null,39]
[null,40]
[null,41]
[null,42]
[null,43]
[null,44]
[null,45]
[null,46]
[null,47]
[null,48]
[null,49]

{"sheet":"FEM","index":7,"n_rows":30,"n_cols":11,"rows_kept":30,"cut":false,"hidden":false,"merged":[[6,10,6,13],[0,0,0,8],[1,0,1,8],[2,0,2,8],[3,0,3,8],[4,4,4,8],[5,7,5,8],[6,7,6,8],[0,9,4,14],[8,4,8,8],[7,4,7,5],[5,0,5,2],[5,4,5,5],[6,0,6,2],[6,4,6,5]]}
[{"$f":"ClassementGenéral!A1","v":"UFOLEP"},null,null,null,null,null,null,null,null,"QUAND LE CLASSEMENT  EST TERMINE \nEffectuer le tri dans la colonne place pour que le Classement Général et le Podium soient réalisés. Utiliser les critères définis ds le menu déroulant. \nVous pouvez imprimer chaque onglet indépendemment pour les commisaires du podium. \n Pour le classement à diffuser, faites Impression,vérifier la mise en page puis Imprimer le au format pdf, faites  de même pour le podium. \nEnvoyer les deux fichiers au Webmaster et à la CTD pour diffusion plus large"]
[{"$f":"ClassementGenéral!A2","v":"Prix de la municipalité de MIGENNES"}]
[{"$f":"ClassementGenéral!A3","v":"2025-06-29"}]
[{"$f":"ClassementGenéral!A4","v":"ASUCM "}]
["Distance parcourue et vitesse moyenne",null,null,"Km du circuit et nb de tour ","A documenter par les commissaires"]
[{"$f":"G8","v":0},null,null,1.7,"Heure de départ",null,null,"ex 13:32:30"]
[{"$f":"IF(G7=\"\",\"\",(G8/(G7-G6)/24))","v":""},null,null,0,"heure d'arrivée",null,null,"v",null,null,"Bouton à n'utilser que ds cas particulier"]
["Cat",{"$f":"COUNTA(C11:C100)","v":0},{"$f":"(COUNTIF(A11:A100,\"NP\"))","v":0},{"$f":"(COUNTIF(A11:A100,\"D\"))","v":0},"Distance",null,{"$f":"D6*D7","v":0}]
["FEM",{"$f":"COUNTIF(A11:A100,\">=1\")+ COUNTIF(A11:A100,\"ab\")","v":0},{"$f":"(COUNTIF(A11:A100,\"ab\"))","v":0},"Couleur dossard          =>","ROUGE"]
["Place","Doss","Nom Prenom","Club","Sexe","Cat","Cat âge","Dep","Fed","N° Licence"]
[null,120]
[null,121]
[null,122]
[null,123]
[null,124]
[null,125]
[null,126]
[null,127]
[null,128]
[null,129]
[null,130]
[null,131]
[null,132]
[null,133]
[null,134]
[null,135]
[null,136]
[null,137]
[null,138]
[null,139]

{"sheet":"13_14ans","index":8,"n_rows":21,"n_cols":11,"rows_kept":21,"cut":false,"hidden":false,"merged":[[6,10,6,13],[0,0,0,8],[1,0,1,8],[2,0,2,8],[3,0,3,8],[4,4,4,8],[5,7,5,8],[6,7,6,8],[0,9,4,14],[8,4,8,8],[7,4,7,5],[5,0,5,2],[5,4,5,5],[6,0,6,2],[6,4,6,5]]}
[{"$f":"ClassementGenéral!A1","v":"UFOLEP"},null,null,null,null,null,null,null,null,"QUAND LE CLASSEMENT  EST TERMINE \nEffectuer le tri dans la colonne place pour que le Classement Général et le Podium soient réalisés. Utiliser les critères définis ds le menu déroulant. \nVous pouvez imprimer chaque onglet indépendemment pour les commisaires du podium. \n Pour le classement à diffuser, faites Impression,vérifier la mise en page puis Imprimer le au format pdf, faites  de même pour le podium. \nEnvoyer les deux fichiers au Webmaster et à la CTD pour diffusion plus large"]
[{"$f":"ClassementGenéral!A2","v":"Prix de la municipalité de MIGENNES"}]
[{"$f":"ClassementGenéral!A3","v":"2025-06-29"}]
[{"$f":"ClassementGenéral!A4","v":"ASUCM "}]
["Distance parcourue et vitesse moyenne",null,null,"Km du circuit et nb de tour ","A documenter par les commissaires"]
[{"$f":"G8","v":0},null,null,1.7,"Heure de départ",null,null,"ex 13:32:30"]
[{"$f":"IF(G7=\"\",\"\",(G8/(G7-G6)/24))","v":""},null,null,0,"heure d'arrivée",null,null,"ex 15:00:30",null,null,"Bouton à n'utilser que ds cas particulier"]
["Cat",{"$f":"COUNTA(C11:C100)","v":0},{"$f":"(COUNTIF(A11:A100,\"NP\"))","v":0},{"$f":"(COUNTIF(A11:A100,\"D\"))","v":0},"Distance",null,{"$f":"D6*D7","v":0}]
["13  à 14 ans",{"$f":"COUNTIF(A11:A100,\">=1\")+ COUNTIF(A11:A100,\"ab\")","v":0},{"$f":"(COUNTIF(A11:A100,\"ab\"))","v":0},"Couleur dossard          =>","ROUGE"]
["Place","Doss","Nom Prenom","Club","Sexe","Cat","Cat âge","Dep","Fed","N° Licence"]
[null,140]
[null,141]
[null,142]
[null,143]
[null,144]
[null,145]
[null,146]
[null,147]
[null,148]
[null,149]
[null,150]

{"sheet":"11_12ans","index":9,"n_rows":21,"n_cols":11,"rows_kept":21,"cut":false,"hidden":false,"merged":[[6,10,6,13],[0,0,0,8],[1,0,1,8],[2,0,2,8],[3,0,3,8],[4,4,4,8],[5,7,5,8],[6,7,6,8],[0,9,4,14],[8,4,8,8],[7,4,7,5],[5,0,5,2],[5,4,5,5],[6,0,6,2],[6,4,6,5]]}
[{"$f":"ClassementGenéral!A1","v":"UFOLEP"},null,null,null,null,null,null,null,null,"QUAND LE CLASSEMENT  EST TERMINE \nEffectuer le tri dans la colonne place pour que le Classement Général et le Podium soient réalisés. Utiliser les critères définis ds le menu déroulant. \nVous pouvez imprimer chaque onglet indépendemment pour les commisaires du podium. \n Pour le classement à diffuser, faites Impression,vérifier la mise en page puis Imprimer le au format pdf, faites  de même pour le podium. \nEnvoyer les deux fichiers au Webmaster et à la CTD pour diffusion plus large"]
[{"$f":"ClassementGenéral!A2","v":"Prix de la municipalité de MIGENNES"}]
[{"$f":"ClassementGenéral!A3","v":"2025-06-29"}]
[{"$f":"ClassementGenéral!A4","v":"ASUCM "}]
["Distance parcourue et vitesse moyenne",null,null,"Km du circuit et nb de tour ","A documenter par les commissaires"]
[{"$f":"G8","v":0},null,null,1.7,"Heure de départ",null,null,"ex 13:32:30"]
[{"$f":"IF(G7=\"\",\"\",(G8/(G7-G6)/24))","v":""},null,null,0,"heure d'arrivée",null,null,"ex 15:00:30",null,null,"Bouton à n'utilser que ds cas particulier"]
["Cat",{"$f":"COUNTA(C11:C101)","v":0},{"$f":"(COUNTIF(A11:A101,\"NP\"))","v":0},{"$f":"(COUNTIF(A11:A101,\"D\"))","v":0},"Distance",null,{"$f":"D6*D7","v":0}]
["11-12ans",{"$f":"COUNTIF(A10:A101,\">=1\")+ COUNTIF(A10:A101,\"ab\")","v":0},{"$f":"(COUNTIF(A11:A101,\"ab\"))","v":0},"Couleur dossard          =>","NOIR"]
["Place","Doss","Nom Prenom","Club","Sexe","Cat","Cat âge","Dep","Fed","N° Licence"]
[null,100]
[null,101]
[null,102]
[null,103]
[null,104]
[null,105]
[null,106]
[null,107]
[null,108]
[null,109]
[null,110]

{"sheet":"9_10ans","index":10,"n_rows":39,"n_cols":11,"rows_kept":39,"cut":false,"hidden":false,"merged":[[6,10,6,13],[0,0,0,8],[1,0,1,8],[2,0,2,8],[3,0,3,8],[4,4,4,8],[5,7,5,8],[6,7,6,8],[0,9,4,14],[8,4,8,8],[7,4,7,5],[5,0,5,2],[5,4,5,5],[6,0,6,2],[6,4,6,5]]}
[{"$f":"ClassementGenéral!A1","v":"UFOLEP"},null,null,null,null,null,null,null,null,"QUAND LE CLASSEMENT  EST TERMINE \nEffectuer le tri dans la colonne place pour que le Classement Général et le Podium soient réalisés. Utiliser les critères définis ds le menu déroulant. \nVous pouvez imprimer chaque onglet indépendemment pour les commisaires du podium. \n Pour le classement à diffuser, faites Impression,vérifier la mise en page puis Imprimer le au format pdf, faites  de même pour le podium. \nEnvoyer les deux fichiers au Webmaster et à la CTD pour diffusion plus large"]
[{"$f":"ClassementGenéral!A2","v":"Prix de la municipalité de MIGENNES"}]
[{"$f":"ClassementGenéral!A3","v":"2025-06-29"}]
[{"$f":"ClassementGenéral!A4","v":"ASUCM "}]
["Distance parcourue et vitesse moyenne",null,null,"Km du circuit et nb de tour ","A documenter par les commissaires"]
[{"$f":"G8","v":0},null,null,1.7,"Heure de départ",null,null,"ex 13:32:30"]
[{"$f":"IF(G7=\"\",\"\",(G8/(G7-G6)/24))","v":""},null,null,0,"heure d'arrivée",null,null,"ex 15:00:30",null,null,"Bouton à n'utilser que ds cas particulier"]
["Cat",{"$f":"COUNTA(C11:C100)","v":0},{"$f":"(COUNTIF(A11:A100,\"NP\"))","v":0},{"$f":"(COUNTIF(A11:A100,\"D\"))","v":0},"Distance",null,{"$f":"D6*D7","v":0}]
["9 à 10 ans",{"$f":"COUNTIF(A11:A100,\">=1\")+ COUNTIF(A11:A100,\"ab\")","v":0},{"$f":"(COUNTIF(A11:A100,\"ab\"))","v":0},"Couleur dossard          =>","NOIR"]
["Place","Doss","Nom Prenom","Club","Sexe","Cat","Cat âge","Dep","Fed","N° Licence"]
[null,1]
[null,2]
[null,3]
[null,4]
[null,5]
[null,6]
[null,7]
[null,8]
[null,9]
[null,10]
[null,11]
[null,12]
[null,13]
[null,14]
[null,15]
[null,16]
[null,17]
[null,18]
[null,19]
[null,20]
[null,21]
[null,22]
[null,23]
[null,24]
[null,25]
[null,26]
[null,27]
[null,28]
[null,29]

{"sheet":"6_8ans","index":11,"n_rows":61,"n_cols":11,"rows_kept":61,"cut":false,"hidden":false,"merged":[[6,10,6,13],[0,0,0,8],[1,0,1,8],[2,0,2,8],[3,0,3,8],[5,7,5,8],[6,7,6,8],[4,4,4,8],[0,9,4,14],[7,4,7,5],[8,4,8,8],[5,0,5,2],[5,4,5,5],[6,0,6,2],[6,4,6,5]]}
[{"$f":"ClassementGenéral!A1","v":"UFOLEP"},null,null,null,null,null,null,null,null,"QUAND LE CLASSEMENT  EST TERMINE \nEffectuer le tri dans la colonne place pour que le Classement Général et le Podium soient réalisés. Utiliser les critères définis ds le menu déroulant. \nVous pouvez imprimer chaque onglet indépendemment pour les commisaires du podium. \n Pour le classement à diffuser, faites Impression,vérifier la mise en page puis Imprimer le au format pdf, faites  de même pour le podium. \nEnvoyer les deux fichiers au Webmaster et à la CTD pour diffusion plus large"]
[{"$f":"ClassementGenéral!A2","v":"Prix de la municipalité de MIGENNES"}]
[{"$f":"ClassementGenéral!A3","v":"2025-06-29"}]
[{"$f":"ClassementGenéral!A4","v":"ASUCM "}]
["Distance parcourue et vitesse moyenne",null,null,"Km du circuit et nb de tour ","A documenter par les commissaires"]
[{"$f":"G8","v":0},null,null,1.7,"Heure de départ",null,null,"ex 13:32:30"]
[{"$f":"IF(G7=\"\",\"\",(G8/(G7-G6)/24))","v":""},null,null,0,"heure d'arrivée",null,null,"ex 15:00:30",null,null,"Bouton à n'utilser que ds cas particulier"]
["Cat",{"$f":"COUNTA(C11:C100)","v":0},{"$f":"(COUNTIF(A11:A100,\"NP\"))","v":0},{"$f":"(COUNTIF(A11:A100,\"D\"))","v":0},"Distance",null,{"$f":"D6*D7","v":0}]
["6-8 ans",{"$f":"COUNTIF(A11:A100,\">=1\")+ COUNTIF(A11:A100,\"ab\")","v":0},{"$f":"(COUNTIF(A11:A100,\"ab\"))","v":0},"Couleur dossard          =>","ROUGE"]
["Place","Doss","Nom Prenom","Club","Sexe","Cat","Cat âge","Dep","Fed","N° Licence"]
[null,50]
[null,51]
[null,52]
[null,53]
[null,54]
[null,55]
[null,56]
[null,57]
[null,58]
[null,59]
[null,60]
[null,61]
[null,62]
[null,63]
[null,64]
[null,65]
[null,66]
[null,67]
[null,68]
[null,69]
[null,70]
[null,71]
[null,72]
[null,73]
[null,74]
[null,75]
[null,76]
[null,77]
[null,78]
[null,79]
[null,80]
[null,81]
[null,82]
[null,83]
[null,84]
[null,85]
[null,86]
[null,87]
[null,88]
[null,89]
[null,90]
[null,91]
[null,92]
[null,93]
[null,94]
[null,95]
[null,96]
[null,97]
[null,98]
[null,99]
[null,100]

{"sheet":"ClassementGenéral","index":12,"n_rows":530,"n_cols":11,"rows_kept":530,"cut":false,"hidden":false,"merged":[[6,0,6,1],[7,0,7,1],[12,0,12,1],[10,0,10,1],[11,0,11,1],[8,0,8,1],[0,10,4,13],[6,10,7,13],[11,5,11,7],[12,5,12,7],[5,5,5,7],[6,5,6,7],[7,5,7,7],[8,5,8,7],[9,5,9,7],[10,5,10,7],[0,0,0,8],[1,0,1,8],[2,0,2,8],[3,0,3,8],[5,0,5,1],[9,0,9,1]]}
["UFOLEP",null,null,null,null,null,null,null,null,null,"ATTENTION:  \nNE PAS TOUCHER À CETTE FEUILLE \nToujours faire une sauvegarde après avoir rentré des données\nSi anomalie, vérifier les tableaux de catégories et corriger si nécessaire\n\n "]
["Prix de la municipalité de MIGENNES"]
["2025-06-29"]
["ASUCM "]
["Analyse épreuve",null,null,"Compétiteurs inscrits ",null,"Licenciés Participants à l'épreuve"]
[{"$f":"'1Cat'!B8+'2Cat'!B8+'3Cat'!B8+'4Cat'!B8+FEM!B8+'15_16ans'!B8+'13_14ans'!B8+'11_12ans'!B8+'9_10ans'!B8+'6_8ans'!B8","v":0},null,{"$f":"IF(D15=\"\",\"Vitesse moyenne\",D15)","v":"Vitesse moyenne"},"Licenciés UFOLEP ",{"$f":"COUNTIF(I19:I564,\"ufo\")","v":0},"Icaunais toutes Fédérations",null,null,{"$f":"(COUNTIFS(H19:H564,\"89\",A19:A564,\">=1\"))+(COUNTIFS(H19:H564,\"89\",A19:A564,\"ab\")+(COUNTIFS(H19:H564,\"89\",A19:A564,\"D\")+(COUNTIFS(H19:H564,\"89\",A19:A564,\"Peloton\"))))","v":0}]
[{"$f":"'1Cat'!B9+'2Cat'!B9+'3Cat'!B9+'4Cat'!B9+FEM!B9+'15_16ans'!B9+'13_14ans'!B9+'11_12ans'!B9+'9_10ans'!B9+'6_8ans'!B9","v":0},null,{"$f":"IF(D78=\"\",\"\",D78)","v":""},"Licenciés Autres Fédérations",{"$f":"COUNTIF(I19:I564,\"FFC\")+COUNTIF(I19:I564,\"FSGT\")+COUNTIF(I19:I564,\"INI\")+COUNTIF(I19:I564,\"TRI\")+COUNTIF(I19:I564,\"NL\")+COUNTIF(I19:I564,\"FFCT\")","v":0},"FFC 89",null,null,{"$f":"COUNTIFS(H19:H564,\"89\",I19:I564,\"ffc\",A19:A564,\">=1\")+COUNTIFS(H19:H564,\"89\",I19:I564,\"ffc\",A19:A564,\"ab\")+COUNTIFS(H19:H564,\"89\",I19:I564,\"ffc\",A19:A564,\"d\")+COUNTIFS(H19:H564,\"89\",I19:I564,\"ffc\",A19:A564,\"Peloton\")","v":0},null,"Sur cette feuille vous pouvez modifier si nécessaire, les informations contenues dans les cellules vertes"]
[{"$f":"'1Cat'!C9+'2Cat'!C9+'3Cat'!C9+'4Cat'!C9+FEM!C9+'15_16ans'!C9+'13_14ans'!C9+'11_12ans'!C9+'9_10ans'!C9+'6_8ans'!C9","v":0},null,{"$f":"IF(D147=\"\",\" \",D147)","v":" "},"FEMININES Ttes catégories confondues",{"$f":"COUNTIF(E19:E564,\"F\")","v":0},"FSGT",null,null,{"$f":"COUNTIF(I19:I564,\"FSGT\")","v":0}]
[{"$f":"'1Cat'!C8+'2Cat'!C8+'3Cat'!C8+'4Cat'!C8+FEM!C8+'15_16ans'!C8+'13_14ans'!C8+'11_12ans'!C8+'9_10ans'!C8+'6_8ans'!C8","v":0},null,{"$f":"IF(D216=\"\",\" \",D216)","v":" "},"Jeunes 15/16 ans",{"$f":"C330","v":0},"Ufolep 89",null,null,{"$f":"COUNTIFS(H19:H564,\"89\",I19:I564,\"ufo\",A19:A564,\">=1\")+COUNTIFS(H19:H564,\"89\",I19:I564,\"Ufo\",A19:A564,\"ab\")+COUNTIFS(H19:H564,\"89\",I19:I564,\"Ufo\",A19:A564,\"D\")+COUNTIFS(H19:H564,\"89\",I19:I564,\"Ufo\",A19:A564,\"Peloton\")","v":0}]
[{"$f":"SUM(E9:E13)","v":0},{"$f":"SUM(F9:F13)","v":0},{"$f":"IF(D290=\"\",\" \",D290)","v":" "},"Jeunes 13/14 ans",{"$f":"C359","v":0},"Ufolep autres dep",null,null,{"$f":"(COUNTIFS(H19:H564,\"<89\",I19:I564,\"ufo\",A19:A564,\">=1\"))+(COUNTIFS(H19:H564,\">89\",I19:I564,\"ufo\",A19:A564,\">=1\"))+(COUNTIFS(H19:H564,\"<89\",I19:I564,\"ufo\",A19:A564,\"ab\"))+(COUNTIFS(H19:H564,\">89\",I19:I564,\"ufo\",A19:A564,\"ab\"))+(COUNTIFS(H19:H564,\"<89\",I19:I564,\"ufo\",A19:A564,\"d\"))+(COUNTIFS(H19:H564,\">89\",I19:I564,\"ufo\",A19:A564,\"d\"))+(COUNTIFS(H19:H564,\"<89\",I19:I564,\"ufo\",A19:A564,\"Peloton\"))+(COUNTIFS(H19:H564,\">89\",I19:I564,\"ufo\",A19:A564,\"Peloton\"))","v":0}]
[{"$f":"COUNTIF(I19:I564,\"NL\")","v":0},null,{"$f":"IF(D329=\"\",\" \",D329)","v":" "},"INITIATION 11/12 ans",{"$f":"C399","v":0},"Global UFOLEP",null,null,{"$f":"I9+I10","v":0}]
[{"$f":" COUNTIF(I19:I564,\"INI\")","v":0},null,{"$f":"IF(D358=\"\",\" \",D358)","v":" "},"INITIATION  9/10 ans",{"$f":"C437","v":0},"Global Autres Fédérations",null,null,{"$f":"COUNTIFS(I19:I564,\"FFC\",A19:A564,\">=1\")+COUNTIFS(I19:I564,\"FFC\",A19:A564,\"ab\")+COUNTIFS(I19:I564,\"FSGT\",A19:A564,\">=1\")+COUNTIFS(I19:I564,\"FSGT\",A19:A564,\"ab\")+COUNTIFS(I19:I564,\"FFCT\",A19:A564,\">=1\")+COUNTIFS(I19:I564,\"FFCT\",A19:A564,\"ab\")+COUNTIFS(I19:I564,\"NL\",A19:A564,\">=1\")+COUNTIFS(I19:I564,\"NL\",A19:A564,\"ab\")","v":0}]
[{"$f":"'1Cat'!D8+'2Cat'!D8+'3Cat'!D8+'4Cat'!D8+FEM!D8+'15_16ans'!D8+'13_14ans'!D8+'11_12ans'!D8+'9_10ans'!D8","v":0},null,{"$f":"IF(D398=\"\",\" \",D398)","v":" "},"INITIATION  6/8ans",{"$f":"C475","v":0},"Autres départements",null,null,{"$f":"A7-I6","v":0}]
[]
[null,null,{"$f":"'1Cat'!A6","v":0},{"$f":"'1Cat'!A7","v":""}]
[null,null,{"$f":"'1Cat'!B8","v":0},{"$f":"'1Cat'!C8","v":0}]
[{"$f":"'1Cat'!A9","v":"1e"},"Catégorie",{"$f":"'1Cat'!B9","v":0},{"$f":"'1Cat'!C9","v":0}]
["Place","Doss","Nom Prenom","Club","Sexe","Cat","Ecart","Dep","Fed"]
[{"$f":"'1Cat'!A11","v":0},{"$f":"'1Cat'!B11","v":1},{"$f":"'1Cat'!C11","v":0},{"$f":"'1Cat'!D11","v":0},{"$f":"'1Cat'!E11","v":0},{"$f":"'1Cat'!F11","v":0},{"$f":"'1Cat'!G11","v":0},{"$f":"'1Cat'!H11","v":0},{"$f":"'1Cat'!I11","v":0}]
[{"$f":"'1Cat'!A12","v":0},{"$f":"'1Cat'!B12","v":2},{"$f":"'1Cat'!C12","v":0},{"$f":"'1Cat'!D12","v":0},{"$f":"'1Cat'!E12","v":0},{"$f":"'1Cat'!F12","v":0},{"$f":"'1Cat'!G12","v":0},{"$f":"'1Cat'!H12","v":0},{"$f":"'1Cat'!I12","v":0}]
[{"$f":"'1Cat'!A13","v":0},{"$f":"'1Cat'!B13","v":3},{"$f":"'1Cat'!C13","v":0},{"$f":"'1Cat'!D13","v":0},{"$f":"'1Cat'!E13","v":0},{"$f":"'1Cat'!F13","v":0},{"$f":"'1Cat'!G13","v":0},{"$f":"'1Cat'!H13","v":0},{"$f":"'1Cat'!I13","v":0}]
[{"$f":"'1Cat'!A14","v":0},{"$f":"'1Cat'!B14","v":4},{"$f":"'1Cat'!C14","v":0},{"$f":"'1Cat'!D14","v":0},{"$f":"'1Cat'!E14","v":0},{"$f":"'1Cat'!F14","v":0},{"$f":"'1Cat'!G14","v":0},{"$f":"'1Cat'!H14","v":0},{"$f":"'1Cat'!I14","v":0}]
[{"$f":"'1Cat'!A15","v":0},{"$f":"'1Cat'!B15","v":5},{"$f":"'1Cat'!C15","v":0},{"$f":"'1Cat'!D15","v":0},{"$f":"'1Cat'!E15","v":0},{"$f":"'1Cat'!F15","v":0},{"$f":"'1Cat'!G15","v":0},{"$f":"'1Cat'!H15","v":0},{"$f":"'1Cat'!I15","v":0}]
[{"$f":"'1Cat'!A16","v":0},{"$f":"'1Cat'!B16","v":6},{"$f":"'1Cat'!C16","v":0},{"$f":"'1Cat'!D16","v":0},{"$f":"'1Cat'!E16","v":0},{"$f":"'1Cat'!F16","v":0},{"$f":"'1Cat'!G16","v":0},{"$f":"'1Cat'!H16","v":0},{"$f":"'1Cat'!I16","v":0}]
[{"$f":"'1Cat'!A17","v":0},{"$f":"'1Cat'!B17","v":7},{"$f":"'1Cat'!C17","v":0},{"$f":"'1Cat'!D17","v":0},{"$f":"'1Cat'!E17","v":0},{"$f":"'1Cat'!F17","v":0},{"$f":"'1Cat'!G17","v":0},{"$f":"'1Cat'!H17","v":0},{"$f":"'1Cat'!I17","v":0}]
[{"$f":"'1Cat'!A18","v":0},{"$f":"'1Cat'!B18","v":8},{"$f":"'1Cat'!C18","v":0},{"$f":"'1Cat'!D18","v":0},{"$f":"'1Cat'!E18","v":0},{"$f":"'1Cat'!F18","v":0},{"$f":"'1Cat'!G18","v":0},{"$f":"'1Cat'!H18","v":0},{"$f":"'1Cat'!I18","v":0}]
[{"$f":"'1Cat'!A19","v":0},{"$f":"'1Cat'!B19","v":9},{"$f":"'1Cat'!C19","v":0},{"$f":"'1Cat'!D19","v":0},{"$f":"'1Cat'!E19","v":0},{"$f":"'1Cat'!F19","v":0},{"$f":"'1Cat'!G19","v":0},{"$f":"'1Cat'!H19","v":0},{"$f":"'1Cat'!I19","v":0}]
[{"$f":"'1Cat'!A20","v":0},{"$f":"'1Cat'!B20","v":10},{"$f":"'1Cat'!C20","v":0},{"$f":"'1Cat'!D20","v":0},{"$f":"'1Cat'!E20","v":0},{"$f":"'1Cat'!F20","v":0},{"$f":"'1Cat'!G20","v":0},{"$f":"'1Cat'!H20","v":0},{"$f":"'1Cat'!I20","v":0}]
[{"$f":"'1Cat'!A21","v":0},{"$f":"'1Cat'!B21","v":11},{"$f":"'1Cat'!C21","v":0},{"$f":"'1Cat'!D21","v":0},{"$f":"'1Cat'!E21","v":0},{"$f":"'1Cat'!F21","v":0},{"$f":"'1Cat'!G21","v":0},{"$f":"'1Cat'!H21","v":0},{"$f":"'1Cat'!I21","v":0}]
[{"$f":"'1Cat'!A22","v":0},{"$f":"'1Cat'!B22","v":12},{"$f":"'1Cat'!C22","v":0},{"$f":"'1Cat'!D22","v":0},{"$f":"'1Cat'!E22","v":0},{"$f":"'1Cat'!F22","v":0},{"$f":"'1Cat'!G22","v":0},{"$f":"'1Cat'!H22","v":0},{"$f":"'1Cat'!I22","v":0}]
[{"$f":"'1Cat'!A23","v":0},{"$f":"'1Cat'!B23","v":13},{"$f":"'1Cat'!C23","v":0},{"$f":"'1Cat'!D23","v":0},{"$f":"'1Cat'!E23","v":0},{"$f":"'1Cat'!F23","v":0},{"$f":"'1Cat'!G23","v":0},{"$f":"'1Cat'!H23","v":0},{"$f":"'1Cat'!I23","v":0}]
[{"$f":"'1Cat'!A24","v":0},{"$f":"'1Cat'!B24","v":14},{"$f":"'1Cat'!C24","v":0},{"$f":"'1Cat'!D24","v":0},{"$f":"'1Cat'!E24","v":0},{"$f":"'1Cat'!F24","v":0},{"$f":"'1Cat'!G24","v":0},{"$f":"'1Cat'!H24","v":0},{"$f":"'1Cat'!I24","v":0}]
[{"$f":"'1Cat'!A25","v":0},{"$f":"'1Cat'!B25","v":15},{"$f":"'1Cat'!C25","v":0},{"$f":"'1Cat'!D25","v":0},{"$f":"'1Cat'!E25","v":0},{"$f":"'1Cat'!F25","v":0},{"$f":"'1Cat'!G25","v":0},{"$f":"'1Cat'!H25","v":0},{"$f":"'1Cat'!I25","v":0}]
[{"$f":"'1Cat'!A26","v":0},{"$f":"'1Cat'!B26","v":16},{"$f":"'1Cat'!C26","v":0},{"$f":"'1Cat'!D26","v":0},{"$f":"'1Cat'!E26","v":0},{"$f":"'1Cat'!F26","v":0},{"$f":"'1Cat'!G26","v":0},{"$f":"'1Cat'!H26","v":0},{"$f":"'1Cat'!I26","v":0}]
[{"$f":"'1Cat'!A27","v":0},{"$f":"'1Cat'!B27","v":17},{"$f":"'1Cat'!C27","v":0},{"$f":"'1Cat'!D27","v":0},{"$f":"'1Cat'!E27","v":0},{"$f":"'1Cat'!F27","v":0},{"$f":"'1Cat'!G27","v":0},{"$f":"'1Cat'!H27","v":0},{"$f":"'1Cat'!I27","v":0}]
[{"$f":"'1Cat'!A28","v":0},{"$f":"'1Cat'!B28","v":18},{"$f":"'1Cat'!C28","v":0},{"$f":"'1Cat'!D28","v":0},{"$f":"'1Cat'!E28","v":0},{"$f":"'1Cat'!F28","v":0},{"$f":"'1Cat'!G28","v":0},{"$f":"'1Cat'!H28","v":0},{"$f":"'1Cat'!I28","v":0}]
[{"$f":"'1Cat'!A29","v":0},{"$f":"'1Cat'!B29","v":19},{"$f":"'1Cat'!C29","v":0},{"$f":"'1Cat'!D29","v":0},{"$f":"'1Cat'!E29","v":0},{"$f":"'1Cat'!F29","v":0},{"$f":"'1Cat'!G29","v":0},{"$f":"'1Cat'!H29","v":0},{"$f":"'1Cat'!I29","v":0}]
[{"$f":"'1Cat'!A30","v":0},{"$f":"'1Cat'!B30","v":20},{"$f":"'1Cat'!C30","v":0},{"$f":"'1Cat'!D30","v":0},{"$f":"'1Cat'!E30","v":0},{"$f":"'1Cat'!F30","v":0},{"$f":"'1Cat'!G30","v":0},{"$f":"'1Cat'!H30","v":0},{"$f":"'1Cat'!I30","v":0}]
[{"$f":"'1Cat'!A31","v":0},{"$f":"'1Cat'!B31","v":21},{"$f":"'1Cat'!C31","v":0},{"$f":"'1Cat'!D31","v":0},{"$f":"'1Cat'!E31","v":0},{"$f":"'1Cat'!F31","v":0},{"$f":"'1Cat'!G31","v":0},{"$f":"'1Cat'!H31","v":0},{"$f":"'1Cat'!I31","v":0}]
[{"$f":"'1Cat'!A32","v":0},{"$f":"'1Cat'!B32","v":22},{"$f":"'1Cat'!C32","v":0},{"$f":"'1Cat'!D32","v":0},{"$f":"'1Cat'!E32","v":0},{"$f":"'1Cat'!F32","v":0},{"$f":"'1Cat'!G32","v":0},{"$f":"'1Cat'!H32","v":0},{"$f":"'1Cat'!I32","v":0}]
[{"$f":"'1Cat'!A33","v":0},{"$f":"'1Cat'!B33","v":23},{"$f":"'1Cat'!C33","v":0},{"$f":"'1Cat'!D33","v":0},{"$f":"'1Cat'!E33","v":0},{"$f":"'1Cat'!F33","v":0},{"$f":"'1Cat'!G33","v":0},{"$f":"'1Cat'!H33","v":0},{"$f":"'1Cat'!I33","v":0}]
[{"$f":"'1Cat'!A34","v":0},{"$f":"'1Cat'!B34","v":24},{"$f":"'1Cat'!C34","v":0},{"$f":"'1Cat'!D34","v":0},{"$f":"'1Cat'!E34","v":0},{"$f":"'1Cat'!F34","v":0},{"$f":"'1Cat'!G34","v":0},{"$f":"'1Cat'!H34","v":0},{"$f":"'1Cat'!I34","v":0}]
[{"$f":"'1Cat'!A35","v":0},{"$f":"'1Cat'!B35","v":25},{"$f":"'1Cat'!C35","v":0},{"$f":"'1Cat'!D35","v":0},{"$f":"'1Cat'!E35","v":0},{"$f":"'1Cat'!F35","v":0},{"$f":"'1Cat'!G35","v":0},{"$f":"'1Cat'!H35","v":0},{"$f":"'1Cat'!I35","v":0}]
[{"$f":"'1Cat'!A36","v":0},{"$f":"'1Cat'!B36","v":26},{"$f":"'1Cat'!C36","v":0},{"$f":"'1Cat'!D36","v":0},{"$f":"'1Cat'!E36","v":0},{"$f":"'1Cat'!F36","v":0},{"$f":"'1Cat'!G36","v":0},{"$f":"'1Cat'!H36","v":0},{"$f":"'1Cat'!I36","v":0}]
[{"$f":"'1Cat'!A37","v":0},{"$f":"'1Cat'!B37","v":27},{"$f":"'1Cat'!C37","v":0},{"$f":"'1Cat'!D37","v":0},{"$f":"'1Cat'!E37","v":0},{"$f":"'1Cat'!F37","v":0},{"$f":"'1Cat'!G37","v":0},{"$f":"'1Cat'!H37","v":0},{"$f":"'1Cat'!I37","v":0}]
[{"$f":"'1Cat'!A38","v":0},{"$f":"'1Cat'!B38","v":28},{"$f":"'1Cat'!C38","v":0},{"$f":"'1Cat'!D38","v":0},{"$f":"'1Cat'!E38","v":0},{"$f":"'1Cat'!F38","v":0},{"$f":"'1Cat'!G38","v":0},{"$f":"'1Cat'!H38","v":0},{"$f":"'1Cat'!I38","v":0}]
[{"$f":"'1Cat'!A39","v":0},{"$f":"'1Cat'!B39","v":29},{"$f":"'1Cat'!C39","v":0},{"$f":"'1Cat'!D39","v":0},{"$f":"'1Cat'!E39","v":0},{"$f":"'1Cat'!F39","v":0},{"$f":"'1Cat'!G39","v":0},{"$f":"'1Cat'!H39","v":0},{"$f":"'1Cat'!I39","v":0}]
[{"$f":"'1Cat'!A40","v":0},{"$f":"'1Cat'!B40","v":30},{"$f":"'1Cat'!C40","v":0},{"$f":"'1Cat'!D40","v":0},{"$f":"'1Cat'!E40","v":0},{"$f":"'1Cat'!F40","v":0},{"$f":"'1Cat'!G40","v":0},{"$f":"'1Cat'!H40","v":0},{"$f":"'1Cat'!I40","v":0}]
[{"$f":"'1Cat'!A41","v":0},{"$f":"'1Cat'!B41","v":31},{"$f":"'1Cat'!C41","v":0},{"$f":"'1Cat'!D41","v":0},{"$f":"'1Cat'!E41","v":0},{"$f":"'1Cat'!F41","v":0},{"$f":"'1Cat'!G41","v":0},{"$f":"'1Cat'!H41","v":0},{"$f":"'1Cat'!I41","v":0}]
[{"$f":"'1Cat'!A42","v":0},{"$f":"'1Cat'!B42","v":32},{"$f":"'1Cat'!C42","v":0},{"$f":"'1Cat'!D42","v":0},{"$f":"'1Cat'!E42","v":0},{"$f":"'1Cat'!F42","v":0},{"$f":"'1Cat'!G42","v":0},{"$f":"'1Cat'!H42","v":0},{"$f":"'1Cat'!I42","v":0}]
[{"$f":"'1Cat'!A43","v":0},{"$f":"'1Cat'!B43","v":33},{"$f":"'1Cat'!C43","v":0},{"$f":"'1Cat'!D43","v":0},{"$f":"'1Cat'!E43","v":0},{"$f":"'1Cat'!F43","v":0},{"$f":"'1Cat'!G43","v":0},{"$f":"'1Cat'!H43","v":0},{"$f":"'1Cat'!I43","v":0}]
[{"$f":"'1Cat'!A44","v":0},{"$f":"'1Cat'!B44","v":34},{"$f":"'1Cat'!C44","v":0},{"$f":"'1Cat'!D44","v":0},{"$f":"'1Cat'!E44","v":0},{"$f":"'1Cat'!F44","v":0},{"$f":"'1Cat'!G44","v":0},{"$f":"'1Cat'!H44","v":0},{"$f":"'1Cat'!I44","v":0}]
[{"$f":"'1Cat'!A45","v":0},{"$f":"'1Cat'!B45","v":35},{"$f":"'1Cat'!C45","v":0},{"$f":"'1Cat'!D45","v":0},{"$f":"'1Cat'!E45","v":0},{"$f":"'1Cat'!F45","v":0},{"$f":"'1Cat'!G45","v":0},{"$f":"'1Cat'!H45","v":0},{"$f":"'1Cat'!I45","v":0}]
[{"$f":"'1Cat'!A46","v":0},{"$f":"'1Cat'!B46","v":36},{"$f":"'1Cat'!C46","v":0},{"$f":"'1Cat'!D46","v":0},{"$f":"'1Cat'!E46","v":0},{"$f":"'1Cat'!F46","v":0},{"$f":"'1Cat'!G46","v":0},{"$f":"'1Cat'!H46","v":0},{"$f":"'1Cat'!I46","v":0}]
[{"$f":"'1Cat'!A47","v":0},{"$f":"'1Cat'!B47","v":37},{"$f":"'1Cat'!C47","v":0},{"$f":"'1Cat'!D47","v":0},{"$f":"'1Cat'!E47","v":0},{"$f":"'1Cat'!F47","v":0},{"$f":"'1Cat'!G47","v":0},{"$f":"'1Cat'!H47","v":0},{"$f":"'1Cat'!I47","v":0}]
[{"$f":"'1Cat'!A48","v":0},{"$f":"'1Cat'!B48","v":38},{"$f":"'1Cat'!C48","v":0},{"$f":"'1Cat'!D48","v":0},{"$f":"'1Cat'!E48","v":0},{"$f":"'1Cat'!F48","v":0},{"$f":"'1Cat'!G48","v":0},{"$f":"'1Cat'!H48","v":0},{"$f":"'1Cat'!I48","v":0}]
[{"$f":"'1Cat'!A49","v":0},{"$f":"'1Cat'!B49","v":39},{"$f":"'1Cat'!C49","v":0},{"$f":"'1Cat'!D49","v":0},{"$f":"'1Cat'!E49","v":0},{"$f":"'1Cat'!F49","v":0},{"$f":"'1Cat'!G49","v":0},{"$f":"'1Cat'!H49","v":0},{"$f":"'1Cat'!I49","v":0}]
[{"$f":"'1Cat'!A50","v":0},{"$f":"'1Cat'!B50","v":40},{"$f":"'1Cat'!C50","v":0},{"$f":"'1Cat'!D50","v":0},{"$f":"'1Cat'!E50","v":0},{"$f":"'1Cat'!F50","v":0},{"$f":"'1Cat'!G50","v":0},{"$f":"'1Cat'!H50","v":0},{"$f":"'1Cat'!I50","v":0}]
[{"$f":"'1Cat'!A51","v":0},{"$f":"'1Cat'!B51","v":41},{"$f":"'1Cat'!C51","v":0},{"$f":"'1Cat'!D51","v":0},{"$f":"'1Cat'!E51","v":0},{"$f":"'1Cat'!F51","v":0},{"$f":"'1Cat'!G51","v":0},{"$f":"'1Cat'!H51","v":0},{"$f":"'1Cat'!I51","v":0}]
[{"$f":"'1Cat'!A52","v":0},{"$f":"'1Cat'!B52","v":42},{"$f":"'1Cat'!C52","v":0},{"$f":"'1Cat'!D52","v":0},{"$f":"'1Cat'!E52","v":0},{"$f":"'1Cat'!F52","v":0},{"$f":"'1Cat'!G52","v":0},{"$f":"'1Cat'!H52","v":0},{"$f":"'1Cat'!I52","v":0}]
[{"$f":"'1Cat'!A53","v":0},{"$f":"'1Cat'!B53","v":43},{"$f":"'1Cat'!C53","v":0},{"$f":"'1Cat'!D53","v":0},{"$f":"'1Cat'!E53","v":0},{"$f":"'1Cat'!F53","v":0},{"$f":"'1Cat'!G53","v":0},{"$f":"'1Cat'!H53","v":0},{"$f":"'1Cat'!I53","v":0}]
[{"$f":"'1Cat'!A54","v":0},{"$f":"'1Cat'!B54","v":44},{"$f":"'1Cat'!C54","v":0},{"$f":"'1Cat'!D54","v":0},{"$f":"'1Cat'!E54","v":0},{"$f":"'1Cat'!F54","v":0},{"$f":"'1Cat'!G54","v":0},{"$f":"'1Cat'!H54","v":0},{"$f":"'1Cat'!I54","v":0}]
[{"$f":"'1Cat'!A55","v":0},{"$f":"'1Cat'!B55","v":45},{"$f":"'1Cat'!C55","v":0},{"$f":"'1Cat'!D55","v":0},{"$f":"'1Cat'!E55","v":0},{"$f":"'1Cat'!F55","v":0},{"$f":"'1Cat'!G55","v":0},{"$f":"'1Cat'!H55","v":0},{"$f":"'1Cat'!I55","v":0}]
[{"$f":"'1Cat'!A56","v":0},{"$f":"'1Cat'!B56","v":46},{"$f":"'1Cat'!C56","v":0},{"$f":"'1Cat'!D56","v":0},{"$f":"'1Cat'!E56","v":0},{"$f":"'1Cat'!F56","v":0},{"$f":"'1Cat'!G56","v":0},{"$f":"'1Cat'!H56","v":0},{"$f":"'1Cat'!I56","v":0}]
[{"$f":"'1Cat'!A57","v":0},{"$f":"'1Cat'!B57","v":47},{"$f":"'1Cat'!C57","v":0},{"$f":"'1Cat'!D57","v":0},{"$f":"'1Cat'!E57","v":0},{"$f":"'1Cat'!F57","v":0},{"$f":"'1Cat'!G57","v":0},{"$f":"'1Cat'!H57","v":0},{"$f":"'1Cat'!I57","v":0}]
[{"$f":"'1Cat'!A58","v":0},{"$f":"'1Cat'!B58","v":48},{"$f":"'1Cat'!C58","v":0},{"$f":"'1Cat'!D58","v":0},{"$f":"'1Cat'!E58","v":0},{"$f":"'1Cat'!F58","v":0},{"$f":"'1Cat'!G58","v":0},{"$f":"'1Cat'!H58","v":0},{"$f":"'1Cat'!I58","v":0}]
[{"$f":"'1Cat'!A59","v":0},{"$f":"'1Cat'!B59","v":49},{"$f":"'1Cat'!C59","v":0},{"$f":"'1Cat'!D59","v":0},{"$f":"'1Cat'!E59","v":0},{"$f":"'1Cat'!F59","v":0},{"$f":"'1Cat'!G59","v":0},{"$f":"'1Cat'!H59","v":0},{"$f":"'1Cat'!I59","v":0}]
[{"$f":"'1Cat'!A60","v":0},{"$f":"'1Cat'!B60","v":0},{"$f":"'1Cat'!C60","v":0},{"$f":"'1Cat'!D60","v":0},{"$f":"'1Cat'!E60","v":0},{"$f":"'1Cat'!F60","v":0},{"$f":"'1Cat'!G60","v":0},{"$f":"'1Cat'!H60","v":0},{"$f":"'1Cat'!I60","v":0}]
[{"$f":"'1Cat'!A61","v":0},{"$f":"'1Cat'!B61","v":0},{"$f":"'1Cat'!C61","v":0},{"$f":"'1Cat'!D61","v":0},{"$f":"'1Cat'!E61","v":0},{"$f":"'1Cat'!F61","v":0},{"$f":"'1Cat'!G61","v":0},{"$f":"'1Cat'!H61","v":0},{"$f":"'1Cat'!I61","v":0}]
[{"$f":"'1Cat'!A62","v":0},{"$f":"'1Cat'!B62","v":0},{"$f":"'1Cat'!C62","v":0},{"$f":"'1Cat'!D62","v":0},{"$f":"'1Cat'!E62","v":0},{"$f":"'1Cat'!F62","v":0},{"$f":"'1Cat'!G62","v":0},{"$f":"'1Cat'!H62","v":0},{"$f":"'1Cat'!I62","v":0}]
[{"$f":"'1Cat'!A63","v":0},{"$f":"'1Cat'!B63","v":0},{"$f":"'1Cat'!C63","v":0},{"$f":"'1Cat'!D63","v":0},{"$f":"'1Cat'!E63","v":0},{"$f":"'1Cat'!F63","v":0},{"$f":"'1Cat'!G63","v":0},{"$f":"'1Cat'!H63","v":0},{"$f":"'1Cat'!I63","v":0}]
[{"$f":"'1Cat'!A64","v":0},{"$f":"'1Cat'!B64","v":0},{"$f":"'1Cat'!C64","v":0},{"$f":"'1Cat'!D64","v":0},{"$f":"'1Cat'!E64","v":0},{"$f":"'1Cat'!F64","v":0},{"$f":"'1Cat'!G64","v":0},{"$f":"'1Cat'!H64","v":0},{"$f":"'1Cat'!I64","v":0}]
[{"$f":"'1Cat'!A65","v":0},{"$f":"'1Cat'!B65","v":0},{"$f":"'1Cat'!C65","v":0},{"$f":"'1Cat'!D65","v":0},{"$f":"'1Cat'!E65","v":0},{"$f":"'1Cat'!F65","v":0},{"$f":"'1Cat'!G65","v":0},{"$f":"'1Cat'!H65","v":0},{"$f":"'1Cat'!I65","v":0}]
[{"$f":"'1Cat'!A66","v":0},{"$f":"'1Cat'!B66","v":0},{"$f":"'1Cat'!C66","v":0},{"$f":"'1Cat'!D66","v":0},{"$f":"'1Cat'!E66","v":0},{"$f":"'1Cat'!F66","v":0},{"$f":"'1Cat'!G66","v":0},{"$f":"'1Cat'!H66","v":0},{"$f":"'1Cat'!I66","v":0}]
[{"$f":"'1Cat'!A67","v":0},{"$f":"'1Cat'!B67","v":0},{"$f":"'1Cat'!C67","v":0},{"$f":"'1Cat'!D67","v":0},{"$f":"'1Cat'!E67","v":0},{"$f":"'1Cat'!F67","v":0},{"$f":"'1Cat'!G67","v":0},{"$f":"'1Cat'!H67","v":0},{"$f":"'1Cat'!I67","v":0}]
[{"$f":"'1Cat'!A50","v":0},null,{"$f":"'1Cat'!C50","v":0},{"$f":"'1Cat'!D50","v":0},{"$f":"'1Cat'!E50","v":0},{"$f":"'1Cat'!F50","v":0},{"$f":"'1Cat'!G50","v":0},{"$f":"'1Cat'!H50","v":0},{"$f":"'1Cat'!I51","v":0}]
[]
[null,null,{"$f":"'2Cat'!A6","v":0},{"$f":"'2Cat'!A7","v":""}]
[null,null,{"$f":"'2Cat'!B8","v":0},{"$f":"'2Cat'!C8","v":0}]
[{"$f":"'2Cat'!A9","v":"2e"},"Catégorie",{"$f":"'2Cat'!B9","v":0},{"$f":"'2Cat'!C9","v":0}]
["Place","Doss","Nom Prenom","Club","Sexe","Cat","Ecart","Dep","Fed"]
[{"$f":"'2Cat'!A11","v":0},{"$f":"'2Cat'!B11","v":50},{"$f":"'2Cat'!C11","v":0},{"$f":"'2Cat'!D11","v":0},{"$f":"'2Cat'!E11","v":0},{"$f":"'2Cat'!F11","v":0},{"$f":"'2Cat'!G11","v":0},{"$f":"'2Cat'!H11","v":0},{"$f":"'2Cat'!I11","v":0}]
[{"$f":"'2Cat'!A12","v":0},{"$f":"'2Cat'!B12","v":51},{"$f":"'2Cat'!C12","v":0},{"$f":"'2Cat'!D12","v":0},{"$f":"'2Cat'!E12","v":0},{"$f":"'2Cat'!F12","v":0},{"$f":"'2Cat'!G12","v":0},{"$f":"'2Cat'!H12","v":0},{"$f":"'2Cat'!I12","v":0}]
[{"$f":"'2Cat'!A13","v":0},{"$f":"'2Cat'!B13","v":52},{"$f":"'2Cat'!C13","v":0},{"$f":"'2Cat'!D13","v":0},{"$f":"'2Cat'!E13","v":0},{"$f":"'2Cat'!F13","v":0},{"$f":"'2Cat'!G13","v":0},{"$f":"'2Cat'!H13","v":0},{"$f":"'2Cat'!I13","v":0}]
[{"$f":"'2Cat'!A14","v":0},{"$f":"'2Cat'!B14","v":53},{"$f":"'2Cat'!C14","v":0},{"$f":"'2Cat'!D14","v":0},{"$f":"'2Cat'!E14","v":0},{"$f":"'2Cat'!F14","v":0},{"$f":"'2Cat'!G14","v":0},{"$f":"'2Cat'!H14","v":0},{"$f":"'2Cat'!I14","v":0}]
[{"$f":"'2Cat'!A15","v":0},{"$f":"'2Cat'!B15","v":54},{"$f":"'2Cat'!C15","v":0},{"$f":"'2Cat'!D15","v":0},{"$f":"'2Cat'!E15","v":0},{"$f":"'2Cat'!F15","v":0},{"$f":"'2Cat'!G15","v":0},{"$f":"'2Cat'!H15","v":0},{"$f":"'2Cat'!I15","v":0}]
[{"$f":"'2Cat'!A16","v":0},{"$f":"'2Cat'!B16","v":55},{"$f":"'2Cat'!C16","v":0},{"$f":"'2Cat'!D16","v":0},{"$f":"'2Cat'!E16","v":0},{"$f":"'2Cat'!F16","v":0},{"$f":"'2Cat'!G16","v":0},{"$f":"'2Cat'!H16","v":0},{"$f":"'2Cat'!I16","v":0}]
[{"$f":"'2Cat'!A17","v":0},{"$f":"'2Cat'!B17","v":56},{"$f":"'2Cat'!C17","v":0},{"$f":"'2Cat'!D17","v":0},{"$f":"'2Cat'!E17","v":0},{"$f":"'2Cat'!F17","v":0},{"$f":"'2Cat'!G17","v":0},{"$f":"'2Cat'!H17","v":0},{"$f":"'2Cat'!I17","v":0}]
[{"$f":"'2Cat'!A18","v":0},{"$f":"'2Cat'!B18","v":57},{"$f":"'2Cat'!C18","v":0},{"$f":"'2Cat'!D18","v":0},{"$f":"'2Cat'!E18","v":0},{"$f":"'2Cat'!F18","v":0},{"$f":"'2Cat'!G18","v":0},{"$f":"'2Cat'!H18","v":0},{"$f":"'2Cat'!I18","v":0}]
[{"$f":"'2Cat'!A19","v":0},{"$f":"'2Cat'!B19","v":58},{"$f":"'2Cat'!C19","v":0},{"$f":"'2Cat'!D19","v":0},{"$f":"'2Cat'!E19","v":0},{"$f":"'2Cat'!F19","v":0},{"$f":"'2Cat'!G19","v":0},{"$f":"'2Cat'!H19","v":0},{"$f":"'2Cat'!I19","v":0}]
[{"$f":"'2Cat'!A20","v":0},{"$f":"'2Cat'!B20","v":59},{"$f":"'2Cat'!C20","v":0},{"$f":"'2Cat'!D20","v":0},{"$f":"'2Cat'!E20","v":0},{"$f":"'2Cat'!F20","v":0},{"$f":"'2Cat'!G20","v":0},{"$f":"'2Cat'!H20","v":0},{"$f":"'2Cat'!I20","v":0}]
[{"$f":"'2Cat'!A21","v":0},{"$f":"'2Cat'!B21","v":60},{"$f":"'2Cat'!C21","v":0},{"$f":"'2Cat'!D21","v":0},{"$f":"'2Cat'!E21","v":0},{"$f":"'2Cat'!F21","v":0},{"$f":"'2Cat'!G21","v":0},{"$f":"'2Cat'!H21","v":0},{"$f":"'2Cat'!I21","v":0}]
[{"$f":"'2Cat'!A22","v":0},{"$f":"'2Cat'!B22","v":61},{"$f":"'2Cat'!C22","v":0},{"$f":"'2Cat'!D22","v":0},{"$f":"'2Cat'!E22","v":0},{"$f":"'2Cat'!F22","v":0},{"$f":"'2Cat'!G22","v":0},{"$f":"'2Cat'!H22","v":0},{"$f":"'2Cat'!I22","v":0}]
[{"$f":"'2Cat'!A23","v":0},{"$f":"'2Cat'!B23","v":62},{"$f":"'2Cat'!C23","v":0},{"$f":"'2Cat'!D23","v":0},{"$f":"'2Cat'!E23","v":0},{"$f":"'2Cat'!F23","v":0},{"$f":"'2Cat'!G23","v":0},{"$f":"'2Cat'!H23","v":0},{"$f":"'2Cat'!I23","v":0}]
[{"$f":"'2Cat'!A24","v":0},{"$f":"'2Cat'!B24","v":63},{"$f":"'2Cat'!C24","v":0},{"$f":"'2Cat'!D24","v":0},{"$f":"'2Cat'!E24","v":0},{"$f":"'2Cat'!F24","v":0},{"$f":"'2Cat'!G24","v":0},{"$f":"'2Cat'!H24","v":0},{"$f":"'2Cat'!I24","v":0}]
[{"$f":"'2Cat'!A25","v":0},{"$f":"'2Cat'!B25","v":64},{"$f":"'2Cat'!C25","v":0},{"$f":"'2Cat'!D25","v":0},{"$f":"'2Cat'!E25","v":0},{"$f":"'2Cat'!F25","v":0},{"$f":"'2Cat'!G25","v":0},{"$f":"'2Cat'!H25","v":0},{"$f":"'2Cat'!I25","v":0}]
[{"$f":"'2Cat'!A26","v":0},{"$f":"'2Cat'!B26","v":65},{"$f":"'2Cat'!C26","v":0},{"$f":"'2Cat'!D26","v":0},{"$f":"'2Cat'!E26","v":0},{"$f":"'2Cat'!F26","v":0},{"$f":"'2Cat'!G26","v":0},{"$f":"'2Cat'!H26","v":0},{"$f":"'2Cat'!I26","v":0}]
[{"$f":"'2Cat'!A27","v":0},{"$f":"'2Cat'!B27","v":66},{"$f":"'2Cat'!C27","v":0},{"$f":"'2Cat'!D27","v":0},{"$f":"'2Cat'!E27","v":0},{"$f":"'2Cat'!F27","v":0},{"$f":"'2Cat'!G27","v":0},{"$f":"'2Cat'!H27","v":0},{"$f":"'2Cat'!I27","v":0}]
[{"$f":"'2Cat'!A28","v":0},{"$f":"'2Cat'!B28","v":67},{"$f":"'2Cat'!C28","v":0},{"$f":"'2Cat'!D28","v":0},{"$f":"'2Cat'!E28","v":0},{"$f":"'2Cat'!F28","v":0},{"$f":"'2Cat'!G28","v":0},{"$f":"'2Cat'!H28","v":0},{"$f":"'2Cat'!I28","v":0}]
[{"$f":"'2Cat'!A29","v":0},{"$f":"'2Cat'!B29","v":68},{"$f":"'2Cat'!C29","v":0},{"$f":"'2Cat'!D29","v":0},{"$f":"'2Cat'!E29","v":0},{"$f":"'2Cat'!F29","v":0},{"$f":"'2Cat'!G29","v":0},{"$f":"'2Cat'!H29","v":0},{"$f":"'2Cat'!I29","v":0}]
[{"$f":"'2Cat'!A30","v":0},{"$f":"'2Cat'!B30","v":69},{"$f":"'2Cat'!C30","v":0},{"$f":"'2Cat'!D30","v":0},{"$f":"'2Cat'!E30","v":0},{"$f":"'2Cat'!F30","v":0},{"$f":"'2Cat'!G30","v":0},{"$f":"'2Cat'!H30","v":0},{"$f":"'2Cat'!I30","v":0}]
[{"$f":"'2Cat'!A31","v":0},{"$f":"'2Cat'!B31","v":70},{"$f":"'2Cat'!C31","v":0},{"$f":"'2Cat'!D31","v":0},{"$f":"'2Cat'!E31","v":0},{"$f":"'2Cat'!F31","v":0},{"$f":"'2Cat'!G31","v":0},{"$f":"'2Cat'!H31","v":0},{"$f":"'2Cat'!I31","v":0}]
[{"$f":"'2Cat'!A32","v":0},{"$f":"'2Cat'!B32","v":71},{"$f":"'2Cat'!C32","v":0},{"$f":"'2Cat'!D32","v":0},{"$f":"'2Cat'!E32","v":0},{"$f":"'2Cat'!F32","v":0},{"$f":"'2Cat'!G32","v":0},{"$f":"'2Cat'!H32","v":0},{"$f":"'2Cat'!I32","v":0}]
[{"$f":"'2Cat'!A33","v":0},{"$f":"'2Cat'!B33","v":72},{"$f":"'2Cat'!C33","v":0},{"$f":"'2Cat'!D33","v":0},{"$f":"'2Cat'!E33","v":0},{"$f":"'2Cat'!F33","v":0},{"$f":"'2Cat'!G33","v":0},{"$f":"'2Cat'!H33","v":0},{"$f":"'2Cat'!I33","v":0}]
[{"$f":"'2Cat'!A34","v":0},{"$f":"'2Cat'!B34","v":73},{"$f":"'2Cat'!C34","v":0},{"$f":"'2Cat'!D34","v":0},{"$f":"'2Cat'!E34","v":0},{"$f":"'2Cat'!F34","v":0},{"$f":"'2Cat'!G34","v":0},{"$f":"'2Cat'!H34","v":0},{"$f":"'2Cat'!I34","v":0}]
[{"$f":"'2Cat'!A35","v":0},{"$f":"'2Cat'!B35","v":74},{"$f":"'2Cat'!C35","v":0},{"$f":"'2Cat'!D35","v":0},{"$f":"'2Cat'!E35","v":0},{"$f":"'2Cat'!F35","v":0},{"$f":"'2Cat'!G35","v":0},{"$f":"'2Cat'!H35","v":0},{"$f":"'2Cat'!I35","v":0}]
[{"$f":"'2Cat'!A36","v":0},{"$f":"'2Cat'!B36","v":75},{"$f":"'2Cat'!C36","v":0},{"$f":"'2Cat'!D36","v":0},{"$f":"'2Cat'!E36","v":0},{"$f":"'2Cat'!F36","v":0},{"$f":"'2Cat'!G36","v":0},{"$f":"'2Cat'!H36","v":0},{"$f":"'2Cat'!I36","v":0}]
[{"$f":"'2Cat'!A37","v":0},{"$f":"'2Cat'!B37","v":76},{"$f":"'2Cat'!C37","v":0},{"$f":"'2Cat'!D37","v":0},{"$f":"'2Cat'!E37","v":0},{"$f":"'2Cat'!F37","v":0},{"$f":"'2Cat'!G37","v":0},{"$f":"'2Cat'!H37","v":0},{"$f":"'2Cat'!I37","v":0}]
[{"$f":"'2Cat'!A38","v":0},{"$f":"'2Cat'!B38","v":77},{"$f":"'2Cat'!C38","v":0},{"$f":"'2Cat'!D38","v":0},{"$f":"'2Cat'!E38","v":0},{"$f":"'2Cat'!F38","v":0},{"$f":"'2Cat'!G38","v":0},{"$f":"'2Cat'!H38","v":0},{"$f":"'2Cat'!I38","v":0}]
[{"$f":"'2Cat'!A39","v":0},{"$f":"'2Cat'!B39","v":78},{"$f":"'2Cat'!C39","v":0},{"$f":"'2Cat'!D39","v":0},{"$f":"'2Cat'!E39","v":0},{"$f":"'2Cat'!F39","v":0},{"$f":"'2Cat'!G39","v":0},{"$f":"'2Cat'!H39","v":0},{"$f":"'2Cat'!I39","v":0}]
[{"$f":"'2Cat'!A40","v":0},{"$f":"'2Cat'!B40","v":79},{"$f":"'2Cat'!C40","v":0},{"$f":"'2Cat'!D40","v":0},{"$f":"'2Cat'!E40","v":0},{"$f":"'2Cat'!F40","v":0},{"$f":"'2Cat'!G40","v":0},{"$f":"'2Cat'!H40","v":0},{"$f":"'2Cat'!I40","v":0}]
[{"$f":"'2Cat'!A41","v":0},{"$f":"'2Cat'!B41","v":80},{"$f":"'2Cat'!C41","v":0},{"$f":"'2Cat'!D41","v":0},{"$f":"'2Cat'!E41","v":0},{"$f":"'2Cat'!F41","v":0},{"$f":"'2Cat'!G41","v":0},{"$f":"'2Cat'!H41","v":0},{"$f":"'2Cat'!I41","v":0}]
[{"$f":"'2Cat'!A42","v":0},{"$f":"'2Cat'!B42","v":81},{"$f":"'2Cat'!C42","v":0},{"$f":"'2Cat'!D42","v":0},{"$f":"'2Cat'!E42","v":0},{"$f":"'2Cat'!F42","v":0},{"$f":"'2Cat'!G42","v":0},{"$f":"'2Cat'!H42","v":0},{"$f":"'2Cat'!I42","v":0}]
[{"$f":"'2Cat'!A43","v":0},{"$f":"'2Cat'!B43","v":82},{"$f":"'2Cat'!C43","v":0},{"$f":"'2Cat'!D43","v":0},{"$f":"'2Cat'!E43","v":0},{"$f":"'2Cat'!F43","v":0},{"$f":"'2Cat'!G43","v":0},{"$f":"'2Cat'!H43","v":0},{"$f":"'2Cat'!I43","v":0}]
[{"$f":"'2Cat'!A44","v":0},{"$f":"'2Cat'!B44","v":83},{"$f":"'2Cat'!C44","v":0},{"$f":"'2Cat'!D44","v":0},{"$f":"'2Cat'!E44","v":0},{"$f":"'2Cat'!F44","v":0},{"$f":"'2Cat'!G44","v":0},{"$f":"'2Cat'!H44","v":0},{"$f":"'2Cat'!I44","v":0}]
[{"$f":"'2Cat'!A45","v":0},{"$f":"'2Cat'!B45","v":84},{"$f":"'2Cat'!C45","v":0},{"$f":"'2Cat'!D45","v":0},{"$f":"'2Cat'!E45","v":0},{"$f":"'2Cat'!F45","v":0},{"$f":"'2Cat'!G45","v":0},{"$f":"'2Cat'!H45","v":0},{"$f":"'2Cat'!I45","v":0}]
[{"$f":"'2Cat'!A46","v":0},{"$f":"'2Cat'!B46","v":85},{"$f":"'2Cat'!C46","v":0},{"$f":"'2Cat'!D46","v":0},{"$f":"'2Cat'!E46","v":0},{"$f":"'2Cat'!F46","v":0},{"$f":"'2Cat'!G46","v":0},{"$f":"'2Cat'!H46","v":0},{"$f":"'2Cat'!I46","v":0}]
[{"$f":"'2Cat'!A47","v":0},{"$f":"'2Cat'!B47","v":86},{"$f":"'2Cat'!C47","v":0},{"$f":"'2Cat'!D47","v":0},{"$f":"'2Cat'!E47","v":0},{"$f":"'2Cat'!F47","v":0},{"$f":"'2Cat'!G47","v":0},{"$f":"'2Cat'!H47","v":0},{"$f":"'2Cat'!I47","v":0}]
[{"$f":"'2Cat'!A48","v":0},{"$f":"'2Cat'!B48","v":87},{"$f":"'2Cat'!C48","v":0},{"$f":"'2Cat'!D48","v":0},{"$f":"'2Cat'!E48","v":0},{"$f":"'2Cat'!F48","v":0},{"$f":"'2Cat'!G48","v":0},{"$f":"'2Cat'!H48","v":0},{"$f":"'2Cat'!I48","v":0}]
[{"$f":"'2Cat'!A49","v":0},{"$f":"'2Cat'!B49","v":88},{"$f":"'2Cat'!C49","v":0},{"$f":"'2Cat'!D49","v":0},{"$f":"'2Cat'!E49","v":0},{"$f":"'2Cat'!F49","v":0},{"$f":"'2Cat'!G49","v":0},{"$f":"'2Cat'!H49","v":0},{"$f":"'2Cat'!I49","v":0}]
[{"$f":"'2Cat'!A50","v":0},{"$f":"'2Cat'!B50","v":89},{"$f":"'2Cat'!C50","v":0},{"$f":"'2Cat'!D50","v":0},{"$f":"'2Cat'!E50","v":0},{"$f":"'2Cat'!F50","v":0},{"$f":"'2Cat'!G50","v":0},{"$f":"'2Cat'!H50","v":0},{"$f":"'2Cat'!I50","v":0}]
[{"$f":"'2Cat'!A51","v":0},{"$f":"'2Cat'!B51","v":90},{"$f":"'2Cat'!C51","v":0},{"$f":"'2Cat'!D51","v":0},{"$f":"'2Cat'!E51","v":0},{"$f":"'2Cat'!F51","v":0},{"$f":"'2Cat'!G51","v":0},{"$f":"'2Cat'!H51","v":0},{"$f":"'2Cat'!I51","v":0}]
[{"$f":"'2Cat'!A52","v":0},{"$f":"'2Cat'!B52","v":91},{"$f":"'2Cat'!C52","v":0},{"$f":"'2Cat'!D52","v":0},{"$f":"'2Cat'!E52","v":0},{"$f":"'2Cat'!F52","v":0},{"$f":"'2Cat'!G52","v":0},{"$f":"'2Cat'!H52","v":0},{"$f":"'2Cat'!I52","v":0}]
[{"$f":"'2Cat'!A53","v":0},{"$f":"'2Cat'!B53","v":92},{"$f":"'2Cat'!C53","v":0},{"$f":"'2Cat'!D53","v":0},{"$f":"'2Cat'!E53","v":0},{"$f":"'2Cat'!F53","v":0},{"$f":"'2Cat'!G53","v":0},{"$f":"'2Cat'!H53","v":0},{"$f":"'2Cat'!I53","v":0}]
[{"$f":"'2Cat'!A54","v":0},{"$f":"'2Cat'!B54","v":93},{"$f":"'2Cat'!C54","v":0},{"$f":"'2Cat'!D54","v":0},{"$f":"'2Cat'!E54","v":0},{"$f":"'2Cat'!F54","v":0},{"$f":"'2Cat'!G54","v":0},{"$f":"'2Cat'!H54","v":0},{"$f":"'2Cat'!I54","v":0}]
[{"$f":"'2Cat'!A55","v":0},{"$f":"'2Cat'!B55","v":94},{"$f":"'2Cat'!C55","v":0},{"$f":"'2Cat'!D55","v":0},{"$f":"'2Cat'!E55","v":0},{"$f":"'2Cat'!F55","v":0},{"$f":"'2Cat'!G55","v":0},{"$f":"'2Cat'!H55","v":0},{"$f":"'2Cat'!I55","v":0}]
[{"$f":"'2Cat'!A56","v":0},{"$f":"'2Cat'!B56","v":95},{"$f":"'2Cat'!C56","v":0},{"$f":"'2Cat'!D56","v":0},{"$f":"'2Cat'!E56","v":0},{"$f":"'2Cat'!F56","v":0},{"$f":"'2Cat'!G56","v":0},{"$f":"'2Cat'!H56","v":0},{"$f":"'2Cat'!I56","v":0}]
[{"$f":"'2Cat'!A57","v":0},{"$f":"'2Cat'!B57","v":96},{"$f":"'2Cat'!C57","v":0},{"$f":"'2Cat'!D57","v":0},{"$f":"'2Cat'!E57","v":0},{"$f":"'2Cat'!F57","v":0},{"$f":"'2Cat'!G57","v":0},{"$f":"'2Cat'!H57","v":0},{"$f":"'2Cat'!I57","v":0}]
[{"$f":"'2Cat'!A58","v":0},{"$f":"'2Cat'!B58","v":97},{"$f":"'2Cat'!C58","v":0},{"$f":"'2Cat'!D58","v":0},{"$f":"'2Cat'!E58","v":0},{"$f":"'2Cat'!F58","v":0},{"$f":"'2Cat'!G58","v":0},{"$f":"'2Cat'!H58","v":0},{"$f":"'2Cat'!I58","v":0}]
[{"$f":"'2Cat'!A59","v":0},{"$f":"'2Cat'!B59","v":98},{"$f":"'2Cat'!C59","v":0},{"$f":"'2Cat'!D59","v":0},{"$f":"'2Cat'!E59","v":0},{"$f":"'2Cat'!F59","v":0},{"$f":"'2Cat'!G59","v":0},{"$f":"'2Cat'!H59","v":0},{"$f":"'2Cat'!I59","v":0}]
[{"$f":"'2Cat'!A60","v":0},{"$f":"'2Cat'!B60","v":99},{"$f":"'2Cat'!C60","v":0},{"$f":"'2Cat'!D60","v":0},{"$f":"'2Cat'!E60","v":0},{"$f":"'2Cat'!F60","v":0},{"$f":"'2Cat'!G60","v":0},{"$f":"'2Cat'!H60","v":0},{"$f":"'2Cat'!I60","v":0}]
[{"$f":"'2Cat'!A61","v":0},{"$f":"'2Cat'!B61","v":0},{"$f":"'2Cat'!C61","v":0},{"$f":"'2Cat'!D61","v":0},{"$f":"'2Cat'!E61","v":0},{"$f":"'2Cat'!F61","v":0},{"$f":"'2Cat'!G61","v":0},{"$f":"'2Cat'!H61","v":0},{"$f":"'2Cat'!I61","v":0}]
[{"$f":"'2Cat'!A62","v":0},{"$f":"'2Cat'!B62","v":0},{"$f":"'2Cat'!C62","v":0},{"$f":"'2Cat'!D62","v":0},{"$f":"'2Cat'!E62","v":0},{"$f":"'2Cat'!F62","v":0},{"$f":"'2Cat'!G62","v":0},{"$f":"'2Cat'!H62","v":0},{"$f":"'2Cat'!I62","v":0}]
[{"$f":"'2Cat'!A63","v":0},{"$f":"'2Cat'!B63","v":0},{"$f":"'2Cat'!C63","v":0},{"$f":"'2Cat'!D63","v":0},{"$f":"'2Cat'!E63","v":0},{"$f":"'2Cat'!F63","v":0},{"$f":"'2Cat'!G63","v":0},{"$f":"'2Cat'!H63","v":0},{"$f":"'2Cat'!I63","v":0}]
[{"$f":"'2Cat'!A64","v":0},{"$f":"'2Cat'!B64","v":0},{"$f":"'2Cat'!C64","v":0},{"$f":"'2Cat'!D64","v":0},{"$f":"'2Cat'!E64","v":0},{"$f":"'2Cat'!F64","v":0},{"$f":"'2Cat'!G64","v":0},{"$f":"'2Cat'!H64","v":0},{"$f":"'2Cat'!I64","v":0}]
[{"$f":"'2Cat'!A65","v":0},{"$f":"'2Cat'!B65","v":0},{"$f":"'2Cat'!C65","v":0},{"$f":"'2Cat'!D65","v":0},{"$f":"'2Cat'!E65","v":0},{"$f":"'2Cat'!F65","v":0},{"$f":"'2Cat'!G65","v":0},{"$f":"'2Cat'!H65","v":0},{"$f":"'2Cat'!I65","v":0}]
[{"$f":"'2Cat'!A66","v":0},{"$f":"'2Cat'!B66","v":0},{"$f":"'2Cat'!C66","v":0},{"$f":"'2Cat'!D66","v":0},{"$f":"'2Cat'!E66","v":0},{"$f":"'2Cat'!F66","v":0},{"$f":"'2Cat'!G66","v":0},{"$f":"'2Cat'!H66","v":0},{"$f":"'2Cat'!I66","v":0}]
[{"$f":"'2Cat'!A67","v":0},{"$f":"'2Cat'!B67","v":0},{"$f":"'2Cat'!C67","v":0},{"$f":"'2Cat'!D67","v":0},{"$f":"'2Cat'!E67","v":0},{"$f":"'2Cat'!F67","v":0},{"$f":"'2Cat'!G67","v":0},{"$f":"'2Cat'!H67","v":0},{"$f":"'2Cat'!I67","v":0}]
[{"$f":"'2Cat'!A68","v":0},{"$f":"'2Cat'!B68","v":0},{"$f":"'2Cat'!C68","v":0},{"$f":"'2Cat'!D68","v":0},{"$f":"'2Cat'!E68","v":0},{"$f":"'2Cat'!F68","v":0},{"$f":"'2Cat'!G68","v":0},{"$f":"'2Cat'!H68","v":0},{"$f":"'2Cat'!I68","v":0}]
[{"$f":"'2Cat'!A69","v":0},{"$f":"'2Cat'!B69","v":0},{"$f":"'2Cat'!C69","v":0},{"$f":"'2Cat'!D69","v":0},{"$f":"'2Cat'!E69","v":0},{"$f":"'2Cat'!F69","v":0},{"$f":"'2Cat'!G69","v":0},{"$f":"'2Cat'!H69","v":0},{"$f":"'2Cat'!I69","v":0}]
[{"$f":"'2Cat'!A70","v":0},{"$f":"'2Cat'!B70","v":0},{"$f":"'2Cat'!C70","v":0},{"$f":"'2Cat'!D70","v":0},{"$f":"'2Cat'!E70","v":0},{"$f":"'2Cat'!F70","v":0},{"$f":"'2Cat'!G70","v":0},{"$f":"'2Cat'!H70","v":0},{"$f":"'2Cat'!I70","v":0}]
[{"$f":"'2Cat'!A71","v":0},{"$f":"'2Cat'!B71","v":0},{"$f":"'2Cat'!C71","v":0},{"$f":"'2Cat'!D71","v":0},{"$f":"'2Cat'!E71","v":0},{"$f":"'2Cat'!F71","v":0},{"$f":"'2Cat'!G71","v":0},{"$f":"'2Cat'!H71","v":0},{"$f":"'2Cat'!I71","v":0}]
[{"$f":"'2Cat'!A72","v":0},{"$f":"'2Cat'!B72","v":0},{"$f":"'2Cat'!C72","v":0},{"$f":"'2Cat'!D72","v":0},{"$f":"'2Cat'!E72","v":0},{"$f":"'2Cat'!F72","v":0},{"$f":"'2Cat'!G72","v":0},{"$f":"'2Cat'!H72","v":0},{"$f":"'2Cat'!I72","v":0}]
[]
[]
[]
[null,null,{"$f":"'3Cat'!A6","v":0},{"$f":"'3Cat'!A7","v":""}]
[null,null,{"$f":"'3Cat'!B8","v":0},{"$f":"'3Cat'!C8","v":0}]
[{"$f":"'3Cat'!A9","v":"3e"},"Catégorie",{"$f":"'3Cat'!B9","v":0},{"$f":"'3Cat'!C9","v":0}]
["Place","Doss","Nom Prenom","Club","Sexe","Cat","Ecart","Dep","Fed"]
[{"$f":"'3Cat'!A11","v":0},{"$f":"'3Cat'!B11","v":50},{"$f":"'3Cat'!C11","v":0},{"$f":"'3Cat'!D11","v":0},{"$f":"'3Cat'!E11","v":0},{"$f":"'3Cat'!F11","v":0},{"$f":"'3Cat'!G11","v":0},{"$f":"'3Cat'!H11","v":0},{"$f":"'3Cat'!I11","v":0}]
[{"$f":"'3Cat'!A12","v":0},{"$f":"'3Cat'!B12","v":51},{"$f":"'3Cat'!C12","v":0},{"$f":"'3Cat'!D12","v":0},{"$f":"'3Cat'!E12","v":0},{"$f":"'3Cat'!F12","v":0},{"$f":"'3Cat'!G12","v":0},{"$f":"'3Cat'!H12","v":0},{"$f":"'3Cat'!I12","v":0}]
[{"$f":"'3Cat'!A13","v":0},{"$f":"'3Cat'!B13","v":52},{"$f":"'3Cat'!C13","v":0},{"$f":"'3Cat'!D13","v":0},{"$f":"'3Cat'!E13","v":0},{"$f":"'3Cat'!F13","v":0},{"$f":"'3Cat'!G13","v":0},{"$f":"'3Cat'!H13","v":0},{"$f":"'3Cat'!I13","v":0}]
[{"$f":"'3Cat'!A14","v":0},{"$f":"'3Cat'!B14","v":53},{"$f":"'3Cat'!C14","v":0},{"$f":"'3Cat'!D14","v":0},{"$f":"'3Cat'!E14","v":0},{"$f":"'3Cat'!F14","v":0},{"$f":"'3Cat'!G14","v":0},{"$f":"'3Cat'!H14","v":0},{"$f":"'3Cat'!I14","v":0}]
[{"$f":"'3Cat'!A15","v":0},{"$f":"'3Cat'!B15","v":54},{"$f":"'3Cat'!C15","v":0},{"$f":"'3Cat'!D15","v":0},{"$f":"'3Cat'!E15","v":0},{"$f":"'3Cat'!F15","v":0},{"$f":"'3Cat'!G15","v":0},{"$f":"'3Cat'!H15","v":0},{"$f":"'3Cat'!I15","v":0}]
[{"$f":"'3Cat'!A16","v":0},{"$f":"'3Cat'!B16","v":55},{"$f":"'3Cat'!C16","v":0},{"$f":"'3Cat'!D16","v":0},{"$f":"'3Cat'!E16","v":0},{"$f":"'3Cat'!F16","v":0},{"$f":"'3Cat'!G16","v":0},{"$f":"'3Cat'!H16","v":0},{"$f":"'3Cat'!I16","v":0}]
[{"$f":"'3Cat'!A17","v":0},{"$f":"'3Cat'!B17","v":56},{"$f":"'3Cat'!C17","v":0},{"$f":"'3Cat'!D17","v":0},{"$f":"'3Cat'!E17","v":0},{"$f":"'3Cat'!F17","v":0},{"$f":"'3Cat'!G17","v":0},{"$f":"'3Cat'!H17","v":0},{"$f":"'3Cat'!I17","v":0}]
[{"$f":"'3Cat'!A18","v":0},{"$f":"'3Cat'!B18","v":57},{"$f":"'3Cat'!C18","v":0},{"$f":"'3Cat'!D18","v":0},{"$f":"'3Cat'!E18","v":0},{"$f":"'3Cat'!F18","v":0},{"$f":"'3Cat'!G18","v":0},{"$f":"'3Cat'!H18","v":0},{"$f":"'3Cat'!I18","v":0}]
[{"$f":"'3Cat'!A19","v":0},{"$f":"'3Cat'!B19","v":58},{"$f":"'3Cat'!C19","v":0},{"$f":"'3Cat'!D19","v":0},{"$f":"'3Cat'!E19","v":0},{"$f":"'3Cat'!F19","v":0},{"$f":"'3Cat'!G19","v":0},{"$f":"'3Cat'!H19","v":0},{"$f":"'3Cat'!I19","v":0}]
[{"$f":"'3Cat'!A20","v":0},{"$f":"'3Cat'!B20","v":59},{"$f":"'3Cat'!C20","v":0},{"$f":"'3Cat'!D20","v":0},{"$f":"'3Cat'!E20","v":0},{"$f":"'3Cat'!F20","v":0},{"$f":"'3Cat'!G20","v":0},{"$f":"'3Cat'!H20","v":0},{"$f":"'3Cat'!I20","v":0}]
[{"$f":"'3Cat'!A21","v":0},{"$f":"'3Cat'!B21","v":60},{"$f":"'3Cat'!C21","v":0},{"$f":"'3Cat'!D21","v":0},{"$f":"'3Cat'!E21","v":0},{"$f":"'3Cat'!F21","v":0},{"$f":"'3Cat'!G21","v":0},{"$f":"'3Cat'!H21","v":0},{"$f":"'3Cat'!I21","v":0}]
[{"$f":"'3Cat'!A22","v":0},{"$f":"'3Cat'!B22","v":61},{"$f":"'3Cat'!C22","v":0},{"$f":"'3Cat'!D22","v":0},{"$f":"'3Cat'!E22","v":0},{"$f":"'3Cat'!F22","v":0},{"$f":"'3Cat'!G22","v":0},{"$f":"'3Cat'!H22","v":0},{"$f":"'3Cat'!I22","v":0}]
[{"$f":"'3Cat'!A23","v":0},{"$f":"'3Cat'!B23","v":62},{"$f":"'3Cat'!C23","v":0},{"$f":"'3Cat'!D23","v":0},{"$f":"'3Cat'!E23","v":0},{"$f":"'3Cat'!F23","v":0},{"$f":"'3Cat'!G23","v":0},{"$f":"'3Cat'!H23","v":0},{"$f":"'3Cat'!I23","v":0}]
[{"$f":"'3Cat'!A24","v":0},{"$f":"'3Cat'!B24","v":63},{"$f":"'3Cat'!C24","v":0},{"$f":"'3Cat'!D24","v":0},{"$f":"'3Cat'!E24","v":0},{"$f":"'3Cat'!F24","v":0},{"$f":"'3Cat'!G24","v":0},{"$f":"'3Cat'!H24","v":0},{"$f":"'3Cat'!I24","v":0}]
[{"$f":"'3Cat'!A25","v":0},{"$f":"'3Cat'!B25","v":64},{"$f":"'3Cat'!C25","v":0},{"$f":"'3Cat'!D25","v":0},{"$f":"'3Cat'!E25","v":0},{"$f":"'3Cat'!F25","v":0},{"$f":"'3Cat'!G25","v":0},{"$f":"'3Cat'!H25","v":0},{"$f":"'3Cat'!I25","v":0}]
[{"$f":"'3Cat'!A26","v":0},{"$f":"'3Cat'!B26","v":65},{"$f":"'3Cat'!C26","v":0},{"$f":"'3Cat'!D26","v":0},{"$f":"'3Cat'!E26","v":0},{"$f":"'3Cat'!F26","v":0},{"$f":"'3Cat'!G26","v":0},{"$f":"'3Cat'!H26","v":0},{"$f":"'3Cat'!I26","v":0}]
[{"$f":"'3Cat'!A27","v":0},{"$f":"'3Cat'!B27","v":66},{"$f":"'3Cat'!C27","v":0},{"$f":"'3Cat'!D27","v":0},{"$f":"'3Cat'!E27","v":0},{"$f":"'3Cat'!F27","v":0},{"$f":"'3Cat'!G27","v":0},{"$f":"'3Cat'!H27","v":0},{"$f":"'3Cat'!I27","v":0}]
[{"$f":"'3Cat'!A28","v":0},{"$f":"'3Cat'!B28","v":67},{"$f":"'3Cat'!C28","v":0},{"$f":"'3Cat'!D28","v":0},{"$f":"'3Cat'!E28","v":0},{"$f":"'3Cat'!F28","v":0},{"$f":"'3Cat'!G28","v":0},{"$f":"'3Cat'!H28","v":0},{"$f":"'3Cat'!I28","v":0}]
[{"$f":"'3Cat'!A29","v":0},{"$f":"'3Cat'!B29","v":68},{"$f":"'3Cat'!C29","v":0},{"$f":"'3Cat'!D29","v":0},{"$f":"'3Cat'!E29","v":0},{"$f":"'3Cat'!F29","v":0},{"$f":"'3Cat'!G29","v":0},{"$f":"'3Cat'!H29","v":0},{"$f":"'3Cat'!I29","v":0}]
[{"$f":"'3Cat'!A30","v":0},{"$f":"'3Cat'!B30","v":69},{"$f":"'3Cat'!C30","v":0},{"$f":"'3Cat'!D30","v":0},{"$f":"'3Cat'!E30","v":0},{"$f":"'3Cat'!F30","v":0},{"$f":"'3Cat'!G30","v":0},{"$f":"'3Cat'!H30","v":0},{"$f":"'3Cat'!I30","v":0}]
[{"$f":"'3Cat'!A31","v":0},{"$f":"'3Cat'!B31","v":70},{"$f":"'3Cat'!C31","v":0},{"$f":"'3Cat'!D31","v":0},{"$f":"'3Cat'!E31","v":0},{"$f":"'3Cat'!F31","v":0},{"$f":"'3Cat'!G31","v":0},{"$f":"'3Cat'!H31","v":0},{"$f":"'3Cat'!I31","v":0}]
[{"$f":"'3Cat'!A32","v":0},{"$f":"'3Cat'!B32","v":71},{"$f":"'3Cat'!C32","v":0},{"$f":"'3Cat'!D32","v":0},{"$f":"'3Cat'!E32","v":0},{"$f":"'3Cat'!F32","v":0},{"$f":"'3Cat'!G32","v":0},{"$f":"'3Cat'!H32","v":0},{"$f":"'3Cat'!I32","v":0}]
[{"$f":"'3Cat'!A33","v":0},{"$f":"'3Cat'!B33","v":72},{"$f":"'3Cat'!C33","v":0},{"$f":"'3Cat'!D33","v":0},{"$f":"'3Cat'!E33","v":0},{"$f":"'3Cat'!F33","v":0},{"$f":"'3Cat'!G33","v":0},{"$f":"'3Cat'!H33","v":0},{"$f":"'3Cat'!I33","v":0}]
[{"$f":"'3Cat'!A34","v":0},{"$f":"'3Cat'!B34","v":73},{"$f":"'3Cat'!C34","v":0},{"$f":"'3Cat'!D34","v":0},{"$f":"'3Cat'!E34","v":0},{"$f":"'3Cat'!F34","v":0},{"$f":"'3Cat'!G34","v":0},{"$f":"'3Cat'!H34","v":0},{"$f":"'3Cat'!I34","v":0}]
[{"$f":"'3Cat'!A35","v":0},{"$f":"'3Cat'!B35","v":74},{"$f":"'3Cat'!C35","v":0},{"$f":"'3Cat'!D35","v":0},{"$f":"'3Cat'!E35","v":0},{"$f":"'3Cat'!F35","v":0},{"$f":"'3Cat'!G35","v":0},{"$f":"'3Cat'!H35","v":0},{"$f":"'3Cat'!I35","v":0}]
[{"$f":"'3Cat'!A36","v":0},{"$f":"'3Cat'!B36","v":75},{"$f":"'3Cat'!C36","v":0},{"$f":"'3Cat'!D36","v":0},{"$f":"'3Cat'!E36","v":0},{"$f":"'3Cat'!F36","v":0},{"$f":"'3Cat'!G36","v":0},{"$f":"'3Cat'!H36","v":0},{"$f":"'3Cat'!I36","v":0}]
[{"$f":"'3Cat'!A37","v":0},{"$f":"'3Cat'!B37","v":76},{"$f":"'3Cat'!C37","v":0},{"$f":"'3Cat'!D37","v":0},{"$f":"'3Cat'!E37","v":0},{"$f":"'3Cat'!F37","v":0},{"$f":"'3Cat'!G37","v":0},{"$f":"'3Cat'!H37","v":0},{"$f":"'3Cat'!I37","v":0}]
[{"$f":"'3Cat'!A38","v":0},{"$f":"'3Cat'!B38","v":77},{"$f":"'3Cat'!C38","v":0},{"$f":"'3Cat'!D38","v":0},{"$f":"'3Cat'!E38","v":0},{"$f":"'3Cat'!F38","v":0},{"$f":"'3Cat'!G38","v":0},{"$f":"'3Cat'!H38","v":0},{"$f":"'3Cat'!I38","v":0}]
[{"$f":"'3Cat'!A39","v":0},{"$f":"'3Cat'!B39","v":78},{"$f":"'3Cat'!C39","v":0},{"$f":"'3Cat'!D39","v":0},{"$f":"'3Cat'!E39","v":0},{"$f":"'3Cat'!F39","v":0},{"$f":"'3Cat'!G39","v":0},{"$f":"'3Cat'!H39","v":0},{"$f":"'3Cat'!I39","v":0}]
[{"$f":"'3Cat'!A40","v":0},{"$f":"'3Cat'!B40","v":79},{"$f":"'3Cat'!C40","v":0},{"$f":"'3Cat'!D40","v":0},{"$f":"'3Cat'!E40","v":0},{"$f":"'3Cat'!F40","v":0},{"$f":"'3Cat'!G40","v":0},{"$f":"'3Cat'!H40","v":0},{"$f":"'3Cat'!I40","v":0}]
[{"$f":"'3Cat'!A41","v":0},{"$f":"'3Cat'!B41","v":80},{"$f":"'3Cat'!C41","v":0},{"$f":"'3Cat'!D41","v":0},{"$f":"'3Cat'!E41","v":0},{"$f":"'3Cat'!F41","v":0},{"$f":"'3Cat'!G41","v":0},{"$f":"'3Cat'!H41","v":0},{"$f":"'3Cat'!I41","v":0}]
[{"$f":"'3Cat'!A42","v":0},{"$f":"'3Cat'!B42","v":81},{"$f":"'3Cat'!C42","v":0},{"$f":"'3Cat'!D42","v":0},{"$f":"'3Cat'!E42","v":0},{"$f":"'3Cat'!F42","v":0},{"$f":"'3Cat'!G42","v":0},{"$f":"'3Cat'!H42","v":0},{"$f":"'3Cat'!I42","v":0}]
[{"$f":"'3Cat'!A43","v":0},{"$f":"'3Cat'!B43","v":82},{"$f":"'3Cat'!C43","v":0},{"$f":"'3Cat'!D43","v":0},{"$f":"'3Cat'!E43","v":0},{"$f":"'3Cat'!F43","v":0},{"$f":"'3Cat'!G43","v":0},{"$f":"'3Cat'!H43","v":0},{"$f":"'3Cat'!I43","v":0}]
[{"$f":"'3Cat'!A44","v":0},{"$f":"'3Cat'!B44","v":83},{"$f":"'3Cat'!C44","v":0},{"$f":"'3Cat'!D44","v":0},{"$f":"'3Cat'!E44","v":0},{"$f":"'3Cat'!F44","v":0},{"$f":"'3Cat'!G44","v":0},{"$f":"'3Cat'!H44","v":0},{"$f":"'3Cat'!I44","v":0}]
[{"$f":"'3Cat'!A45","v":0},{"$f":"'3Cat'!B45","v":84},{"$f":"'3Cat'!C45","v":0},{"$f":"'3Cat'!D45","v":0},{"$f":"'3Cat'!E45","v":0},{"$f":"'3Cat'!F45","v":0},{"$f":"'3Cat'!G45","v":0},{"$f":"'3Cat'!H45","v":0},{"$f":"'3Cat'!I45","v":0}]
[{"$f":"'3Cat'!A46","v":0},{"$f":"'3Cat'!B46","v":85},{"$f":"'3Cat'!C46","v":0},{"$f":"'3Cat'!D46","v":0},{"$f":"'3Cat'!E46","v":0},{"$f":"'3Cat'!F46","v":0},{"$f":"'3Cat'!G46","v":0},{"$f":"'3Cat'!H46","v":0},{"$f":"'3Cat'!I46","v":0}]
[{"$f":"'3Cat'!A47","v":0},{"$f":"'3Cat'!B47","v":86},{"$f":"'3Cat'!C47","v":0},{"$f":"'3Cat'!D47","v":0},{"$f":"'3Cat'!E47","v":0},{"$f":"'3Cat'!F47","v":0},{"$f":"'3Cat'!G47","v":0},{"$f":"'3Cat'!H47","v":0},{"$f":"'3Cat'!I47","v":0}]
[{"$f":"'3Cat'!A48","v":0},{"$f":"'3Cat'!B48","v":87},{"$f":"'3Cat'!C48","v":0},{"$f":"'3Cat'!D48","v":0},{"$f":"'3Cat'!E48","v":0},{"$f":"'3Cat'!F48","v":0},{"$f":"'3Cat'!G48","v":0},{"$f":"'3Cat'!H48","v":0},{"$f":"'3Cat'!I48","v":0}]
[{"$f":"'3Cat'!A49","v":0},{"$f":"'3Cat'!B49","v":88},{"$f":"'3Cat'!C49","v":0},{"$f":"'3Cat'!D49","v":0},{"$f":"'3Cat'!E49","v":0},{"$f":"'3Cat'!F49","v":0},{"$f":"'3Cat'!G49","v":0},{"$f":"'3Cat'!H49","v":0},{"$f":"'3Cat'!I49","v":0}]
[{"$f":"'3Cat'!A50","v":0},{"$f":"'3Cat'!B50","v":89},{"$f":"'3Cat'!C50","v":0},{"$f":"'3Cat'!D50","v":0},{"$f":"'3Cat'!E50","v":0},{"$f":"'3Cat'!F50","v":0},{"$f":"'3Cat'!G50","v":0},{"$f":"'3Cat'!H50","v":0},{"$f":"'3Cat'!I50","v":0}]
[{"$f":"'3Cat'!A51","v":0},{"$f":"'3Cat'!B51","v":90},{"$f":"'3Cat'!C51","v":0},{"$f":"'3Cat'!D51","v":0},{"$f":"'3Cat'!E51","v":0},{"$f":"'3Cat'!F51","v":0},{"$f":"'3Cat'!G51","v":0},{"$f":"'3Cat'!H51","v":0},{"$f":"'3Cat'!I51","v":0}]
[{"$f":"'3Cat'!A52","v":0},{"$f":"'3Cat'!B52","v":91},{"$f":"'3Cat'!C52","v":0},{"$f":"'3Cat'!D52","v":0},{"$f":"'3Cat'!E52","v":0},{"$f":"'3Cat'!F52","v":0},{"$f":"'3Cat'!G52","v":0},{"$f":"'3Cat'!H52","v":0},{"$f":"'3Cat'!I52","v":0}]
[{"$f":"'3Cat'!A53","v":0},{"$f":"'3Cat'!B53","v":92},{"$f":"'3Cat'!C53","v":0},{"$f":"'3Cat'!D53","v":0},{"$f":"'3Cat'!E53","v":0},{"$f":"'3Cat'!F53","v":0},{"$f":"'3Cat'!G53","v":0},{"$f":"'3Cat'!H53","v":0},{"$f":"'3Cat'!I53","v":0}]
[{"$f":"'3Cat'!A54","v":0},{"$f":"'3Cat'!B54","v":93},{"$f":"'3Cat'!C54","v":0},{"$f":"'3Cat'!D54","v":0},{"$f":"'3Cat'!E54","v":0},{"$f":"'3Cat'!F54","v":0},{"$f":"'3Cat'!G54","v":0},{"$f":"'3Cat'!H54","v":0},{"$f":"'3Cat'!I54","v":0}]
[{"$f":"'3Cat'!A55","v":0},{"$f":"'3Cat'!B55","v":94},{"$f":"'3Cat'!C55","v":0},{"$f":"'3Cat'!D55","v":0},{"$f":"'3Cat'!E55","v":0},{"$f":"'3Cat'!F55","v":0},{"$f":"'3Cat'!G55","v":0},{"$f":"'3Cat'!H55","v":0},{"$f":"'3Cat'!I55","v":0}]
[{"$f":"'3Cat'!A56","v":0},{"$f":"'3Cat'!B56","v":95},{"$f":"'3Cat'!C56","v":0},{"$f":"'3Cat'!D56","v":0},{"$f":"'3Cat'!E56","v":0},{"$f":"'3Cat'!F56","v":0},{"$f":"'3Cat'!G56","v":0},{"$f":"'3Cat'!H56","v":0},{"$f":"'3Cat'!I56","v":0}]
[{"$f":"'3Cat'!A57","v":0},{"$f":"'3Cat'!B57","v":96},{"$f":"'3Cat'!C57","v":0},{"$f":"'3Cat'!D57","v":0},{"$f":"'3Cat'!E57","v":0},{"$f":"'3Cat'!F57","v":0},{"$f":"'3Cat'!G57","v":0},{"$f":"'3Cat'!H57","v":0},{"$f":"'3Cat'!I57","v":0}]
[{"$f":"'3Cat'!A58","v":0},{"$f":"'3Cat'!B58","v":97},{"$f":"'3Cat'!C58","v":0},{"$f":"'3Cat'!D58","v":0},{"$f":"'3Cat'!E58","v":0},{"$f":"'3Cat'!F58","v":0},{"$f":"'3Cat'!G58","v":0},{"$f":"'3Cat'!H58","v":0},{"$f":"'3Cat'!I58","v":0}]
[{"$f":"'3Cat'!A59","v":0},{"$f":"'3Cat'!B59","v":98},{"$f":"'3Cat'!C59","v":0},{"$f":"'3Cat'!D59","v":0},{"$f":"'3Cat'!E59","v":0},{"$f":"'3Cat'!F59","v":0},{"$f":"'3Cat'!G59","v":0},{"$f":"'3Cat'!H59","v":0},{"$f":"'3Cat'!I59","v":0}]
[{"$f":"'3Cat'!A60","v":0},{"$f":"'3Cat'!B60","v":99},{"$f":"'3Cat'!C60","v":0},{"$f":"'3Cat'!D60","v":0},{"$f":"'3Cat'!E60","v":0},{"$f":"'3Cat'!F60","v":0},{"$f":"'3Cat'!G60","v":0},{"$f":"'3Cat'!H60","v":0},{"$f":"'3Cat'!I60","v":0}]
[{"$f":"'3Cat'!A61","v":0},{"$f":"'3Cat'!B61","v":0},{"$f":"'3Cat'!C61","v":0},{"$f":"'3Cat'!D61","v":0},{"$f":"'3Cat'!E61","v":0},{"$f":"'3Cat'!F61","v":0},{"$f":"'3Cat'!G61","v":0},{"$f":"'3Cat'!H61","v":0},{"$f":"'3Cat'!I61","v":0}]
[{"$f":"'3Cat'!A62","v":0},{"$f":"'3Cat'!B62","v":0},{"$f":"'3Cat'!C62","v":0},{"$f":"'3Cat'!D62","v":0},{"$f":"'3Cat'!E62","v":0},{"$f":"'3Cat'!F62","v":0},{"$f":"'3Cat'!G62","v":0},{"$f":"'3Cat'!H62","v":0},{"$f":"'3Cat'!I62","v":0}]
[{"$f":"'3Cat'!A63","v":0},{"$f":"'3Cat'!B63","v":0},{"$f":"'3Cat'!C63","v":0},{"$f":"'3Cat'!D63","v":0},{"$f":"'3Cat'!E63","v":0},{"$f":"'3Cat'!F63","v":0},{"$f":"'3Cat'!G63","v":0},{"$f":"'3Cat'!H63","v":0},{"$f":"'3Cat'!I63","v":0}]
[{"$f":"'3Cat'!A64","v":0},{"$f":"'3Cat'!B64","v":0},{"$f":"'3Cat'!C64","v":0},{"$f":"'3Cat'!D64","v":0},{"$f":"'3Cat'!E64","v":0},{"$f":"'3Cat'!F64","v":0},{"$f":"'3Cat'!G64","v":0},{"$f":"'3Cat'!H64","v":0},{"$f":"'3Cat'!I64","v":0}]
[{"$f":"'3Cat'!A65","v":0},{"$f":"'3Cat'!B65","v":0},{"$f":"'3Cat'!C65","v":0},{"$f":"'3Cat'!D65","v":0},{"$f":"'3Cat'!E65","v":0},{"$f":"'3Cat'!F65","v":0},{"$f":"'3Cat'!G65","v":0},{"$f":"'3Cat'!H65","v":0},{"$f":"'3Cat'!I65","v":0}]
[{"$f":"'3Cat'!A66","v":0},{"$f":"'3Cat'!B66","v":0},{"$f":"'3Cat'!C66","v":0},{"$f":"'3Cat'!D66","v":0},{"$f":"'3Cat'!E66","v":0},{"$f":"'3Cat'!F66","v":0},{"$f":"'3Cat'!G66","v":0},{"$f":"'3Cat'!H66","v":0},{"$f":"'3Cat'!I66","v":0}]
[{"$f":"'3Cat'!A67","v":0},{"$f":"'3Cat'!B67","v":0},{"$f":"'3Cat'!C67","v":0},{"$f":"'3Cat'!D67","v":0},{"$f":"'3Cat'!E67","v":0},{"$f":"'3Cat'!F67","v":0},{"$f":"'3Cat'!G67","v":0},{"$f":"'3Cat'!H67","v":0},{"$f":"'3Cat'!I67","v":0}]
[{"$f":"'3Cat'!A68","v":0},{"$f":"'3Cat'!B68","v":0},{"$f":"'3Cat'!C68","v":0},{"$f":"'3Cat'!D68","v":0},{"$f":"'3Cat'!E68","v":0},{"$f":"'3Cat'!F68","v":0},{"$f":"'3Cat'!G68","v":0},{"$f":"'3Cat'!H68","v":0},{"$f":"'3Cat'!I68","v":0}]
[{"$f":"'3Cat'!A69","v":0},{"$f":"'3Cat'!B69","v":0},{"$f":"'3Cat'!C69","v":0},{"$f":"'3Cat'!D69","v":0},{"$f":"'3Cat'!E69","v":0},{"$f":"'3Cat'!F69","v":0},{"$f":"'3Cat'!G69","v":0},{"$f":"'3Cat'!H69","v":0},{"$f":"'3Cat'!I69","v":0}]
[{"$f":"'3Cat'!A70","v":0},{"$f":"'3Cat'!B70","v":0},{"$f":"'3Cat'!C70","v":0},{"$f":"'3Cat'!D70","v":0},{"$f":"'3Cat'!E70","v":0},{"$f":"'3Cat'!F70","v":0},{"$f":"'3Cat'!G70","v":0},{"$f":"'3Cat'!H70","v":0},{"$f":"'3Cat'!I70","v":0}]
[{"$f":"'3Cat'!A71","v":0},{"$f":"'3Cat'!B71","v":0},{"$f":"'3Cat'!C71","v":0},{"$f":"'3Cat'!D71","v":0},{"$f":"'3Cat'!E71","v":0},{"$f":"'3Cat'!F71","v":0},{"$f":"'3Cat'!G71","v":0},{"$f":"'3Cat'!H71","v":0},{"$f":"'3Cat'!I71","v":0}]
[{"$f":"'3Cat'!A72","v":0},{"$f":"'3Cat'!B72","v":0},{"$f":"'3Cat'!C72","v":0},{"$f":"'3Cat'!D72","v":0},{"$f":"'3Cat'!E72","v":0},{"$f":"'3Cat'!F72","v":0},{"$f":"'3Cat'!G72","v":0},{"$f":"'3Cat'!H72","v":0},{"$f":"'3Cat'!I72","v":0}]
[]
[]
[]
[null,null,{"$f":"'4Cat'!A6","v":0},{"$f":"'4Cat'!A7","v":""}]
[null,null,{"$f":"'4Cat'!B8","v":0},{"$f":"'4Cat'!C8","v":0}]
[{"$f":"'4Cat'!A9","v":"4e"},"Catégorie",{"$f":"'4Cat'!B9","v":0},{"$f":"'4Cat'!C9","v":0}]
["Place","Doss","Nom Prénom","Club","Sexe","Cat","Ecart","Dep","Fed"]
[{"$f":"'4Cat'!A11","v":0},{"$f":"'4Cat'!B11","v":1},{"$f":"'4Cat'!C11","v":0},{"$f":"'4Cat'!D11","v":0},{"$f":"'4Cat'!E11","v":0},{"$f":"'4Cat'!F11","v":0},{"$f":"'4Cat'!G11","v":0},{"$f":"'4Cat'!H11","v":0},{"$f":"'4Cat'!I11","v":0}]
[{"$f":"'4Cat'!A12","v":0},{"$f":"'4Cat'!B12","v":2},{"$f":"'4Cat'!C12","v":0},{"$f":"'4Cat'!D12","v":0},{"$f":"'4Cat'!E12","v":0},{"$f":"'4Cat'!F12","v":0},{"$f":"'4Cat'!G12","v":0},{"$f":"'4Cat'!H12","v":0},{"$f":"'4Cat'!I12","v":0}]
[{"$f":"'4Cat'!A13","v":0},{"$f":"'4Cat'!B13","v":3},{"$f":"'4Cat'!C13","v":0},{"$f":"'4Cat'!D13","v":0},{"$f":"'4Cat'!E13","v":0},{"$f":"'4Cat'!F13","v":0},{"$f":"'4Cat'!G13","v":0},{"$f":"'4Cat'!H13","v":0},{"$f":"'4Cat'!I13","v":0}]
[{"$f":"'4Cat'!A14","v":0},{"$f":"'4Cat'!B14","v":4},{"$f":"'4Cat'!C14","v":0},{"$f":"'4Cat'!D14","v":0},{"$f":"'4Cat'!E14","v":0},{"$f":"'4Cat'!F14","v":0},{"$f":"'4Cat'!G14","v":0},{"$f":"'4Cat'!H14","v":0},{"$f":"'4Cat'!I14","v":0}]
[{"$f":"'4Cat'!A15","v":0},{"$f":"'4Cat'!B15","v":5},{"$f":"'4Cat'!C15","v":0},{"$f":"'4Cat'!D15","v":0},{"$f":"'4Cat'!E15","v":0},{"$f":"'4Cat'!F15","v":0},{"$f":"'4Cat'!G15","v":0},{"$f":"'4Cat'!H15","v":0},{"$f":"'4Cat'!I15","v":0}]
[{"$f":"'4Cat'!A16","v":0},{"$f":"'4Cat'!B16","v":6},{"$f":"'4Cat'!C16","v":0},{"$f":"'4Cat'!D16","v":0},{"$f":"'4Cat'!E16","v":0},{"$f":"'4Cat'!F16","v":0},{"$f":"'4Cat'!G16","v":0},{"$f":"'4Cat'!H16","v":0},{"$f":"'4Cat'!I16","v":0}]
[{"$f":"'4Cat'!A17","v":0},{"$f":"'4Cat'!B17","v":7},{"$f":"'4Cat'!C17","v":0},{"$f":"'4Cat'!D17","v":0},{"$f":"'4Cat'!E17","v":0},{"$f":"'4Cat'!F17","v":0},{"$f":"'4Cat'!G17","v":0},{"$f":"'4Cat'!H17","v":0},{"$f":"'4Cat'!I17","v":0}]
[{"$f":"'4Cat'!A18","v":0},{"$f":"'4Cat'!B18","v":8},{"$f":"'4Cat'!C18","v":0},{"$f":"'4Cat'!D18","v":0},{"$f":"'4Cat'!E18","v":0},{"$f":"'4Cat'!F18","v":0},{"$f":"'4Cat'!G18","v":0},{"$f":"'4Cat'!H18","v":0},{"$f":"'4Cat'!I18","v":0}]
[{"$f":"'4Cat'!A19","v":0},{"$f":"'4Cat'!B19","v":9},{"$f":"'4Cat'!C19","v":0},{"$f":"'4Cat'!D19","v":0},{"$f":"'4Cat'!E19","v":0},{"$f":"'4Cat'!F19","v":0},{"$f":"'4Cat'!G19","v":0},{"$f":"'4Cat'!H19","v":0},{"$f":"'4Cat'!I19","v":0}]
[{"$f":"'4Cat'!A20","v":0},{"$f":"'4Cat'!B20","v":10},{"$f":"'4Cat'!C20","v":0},{"$f":"'4Cat'!D20","v":0},{"$f":"'4Cat'!E20","v":0},{"$f":"'4Cat'!F20","v":0},{"$f":"'4Cat'!G20","v":0},{"$f":"'4Cat'!H20","v":0},{"$f":"'4Cat'!I20","v":0}]
[{"$f":"'4Cat'!A21","v":0},{"$f":"'4Cat'!B21","v":11},{"$f":"'4Cat'!C21","v":0},{"$f":"'4Cat'!D21","v":0},{"$f":"'4Cat'!E21","v":0},{"$f":"'4Cat'!F21","v":0},{"$f":"'4Cat'!G21","v":0},{"$f":"'4Cat'!H21","v":0},{"$f":"'4Cat'!I21","v":0}]
[{"$f":"'4Cat'!A22","v":0},{"$f":"'4Cat'!B22","v":12},{"$f":"'4Cat'!C22","v":0},{"$f":"'4Cat'!D22","v":0},{"$f":"'4Cat'!E22","v":0},{"$f":"'4Cat'!F22","v":0},{"$f":"'4Cat'!G22","v":0},{"$f":"'4Cat'!H22","v":0},{"$f":"'4Cat'!I22","v":0}]
[{"$f":"'4Cat'!A23","v":0},{"$f":"'4Cat'!B23","v":13},{"$f":"'4Cat'!C23","v":0},{"$f":"'4Cat'!D23","v":0},{"$f":"'4Cat'!E23","v":0},{"$f":"'4Cat'!F23","v":0},{"$f":"'4Cat'!G23","v":0},{"$f":"'4Cat'!H23","v":0},{"$f":"'4Cat'!I23","v":0}]
[{"$f":"'4Cat'!A24","v":0},{"$f":"'4Cat'!B24","v":14},{"$f":"'4Cat'!C24","v":0},{"$f":"'4Cat'!D24","v":0},{"$f":"'4Cat'!E24","v":0},{"$f":"'4Cat'!F24","v":0},{"$f":"'4Cat'!G24","v":0},{"$f":"'4Cat'!H24","v":0},{"$f":"'4Cat'!I24","v":0}]
[{"$f":"'4Cat'!A25","v":0},{"$f":"'4Cat'!B25","v":15},{"$f":"'4Cat'!C25","v":0},{"$f":"'4Cat'!D25","v":0},{"$f":"'4Cat'!E25","v":0},{"$f":"'4Cat'!F25","v":0},{"$f":"'4Cat'!G25","v":0},{"$f":"'4Cat'!H25","v":0},{"$f":"'4Cat'!I25","v":0}]
[{"$f":"'4Cat'!A26","v":0},{"$f":"'4Cat'!B26","v":16},{"$f":"'4Cat'!C26","v":0},{"$f":"'4Cat'!D26","v":0},{"$f":"'4Cat'!E26","v":0},{"$f":"'4Cat'!F26","v":0},{"$f":"'4Cat'!G26","v":0},{"$f":"'4Cat'!H26","v":0},{"$f":"'4Cat'!I26","v":0}]
[{"$f":"'4Cat'!A27","v":0},{"$f":"'4Cat'!B27","v":17},{"$f":"'4Cat'!C27","v":0},{"$f":"'4Cat'!D27","v":0},{"$f":"'4Cat'!E27","v":0},{"$f":"'4Cat'!F27","v":0},{"$f":"'4Cat'!G27","v":0},{"$f":"'4Cat'!H27","v":0},{"$f":"'4Cat'!I27","v":0}]
[{"$f":"'4Cat'!A28","v":0},{"$f":"'4Cat'!B28","v":18},{"$f":"'4Cat'!C28","v":0},{"$f":"'4Cat'!D28","v":0},{"$f":"'4Cat'!E28","v":0},{"$f":"'4Cat'!F28","v":0},{"$f":"'4Cat'!G28","v":0},{"$f":"'4Cat'!H28","v":0},{"$f":"'4Cat'!I28","v":0}]
[{"$f":"'4Cat'!A29","v":0},{"$f":"'4Cat'!B29","v":19},{"$f":"'4Cat'!C29","v":0},{"$f":"'4Cat'!D29","v":0},{"$f":"'4Cat'!E29","v":0},{"$f":"'4Cat'!F29","v":0},{"$f":"'4Cat'!G29","v":0},{"$f":"'4Cat'!H29","v":0},{"$f":"'4Cat'!I29","v":0}]
[{"$f":"'4Cat'!A30","v":0},{"$f":"'4Cat'!B30","v":20},{"$f":"'4Cat'!C30","v":0},{"$f":"'4Cat'!D30","v":0},{"$f":"'4Cat'!E30","v":0},{"$f":"'4Cat'!F30","v":0},{"$f":"'4Cat'!G30","v":0},{"$f":"'4Cat'!H30","v":0},{"$f":"'4Cat'!I30","v":0}]
[{"$f":"'4Cat'!A31","v":0},{"$f":"'4Cat'!B31","v":21},{"$f":"'4Cat'!C31","v":0},{"$f":"'4Cat'!D31","v":0},{"$f":"'4Cat'!E31","v":0},{"$f":"'4Cat'!F31","v":0},{"$f":"'4Cat'!G31","v":0},{"$f":"'4Cat'!H31","v":0},{"$f":"'4Cat'!I31","v":0}]
[{"$f":"'4Cat'!A32","v":0},{"$f":"'4Cat'!B32","v":22},{"$f":"'4Cat'!C32","v":0},{"$f":"'4Cat'!D32","v":0},{"$f":"'4Cat'!E32","v":0},{"$f":"'4Cat'!F32","v":0},{"$f":"'4Cat'!G32","v":0},{"$f":"'4Cat'!H32","v":0},{"$f":"'4Cat'!I32","v":0}]
[{"$f":"'4Cat'!A33","v":0},{"$f":"'4Cat'!B33","v":23},{"$f":"'4Cat'!C33","v":0},{"$f":"'4Cat'!D33","v":0},{"$f":"'4Cat'!E33","v":0},{"$f":"'4Cat'!F33","v":0},{"$f":"'4Cat'!G33","v":0},{"$f":"'4Cat'!H33","v":0},{"$f":"'4Cat'!I33","v":0}]
[{"$f":"'4Cat'!A34","v":0},{"$f":"'4Cat'!B34","v":24},{"$f":"'4Cat'!C34","v":0},{"$f":"'4Cat'!D34","v":0},{"$f":"'4Cat'!E34","v":0},{"$f":"'4Cat'!F34","v":0},{"$f":"'4Cat'!G34","v":0},{"$f":"'4Cat'!H34","v":0},{"$f":"'4Cat'!I34","v":0}]
[{"$f":"'4Cat'!A35","v":0},{"$f":"'4Cat'!B35","v":25},{"$f":"'4Cat'!C35","v":0},{"$f":"'4Cat'!D35","v":0},{"$f":"'4Cat'!E35","v":0},{"$f":"'4Cat'!F35","v":0},{"$f":"'4Cat'!G35","v":0},{"$f":"'4Cat'!H35","v":0},{"$f":"'4Cat'!I35","v":0}]
[{"$f":"'4Cat'!A36","v":0},{"$f":"'4Cat'!B36","v":26},{"$f":"'4Cat'!C36","v":0},{"$f":"'4Cat'!D36","v":0},{"$f":"'4Cat'!E36","v":0},{"$f":"'4Cat'!F36","v":0},{"$f":"'4Cat'!G36","v":0},{"$f":"'4Cat'!H36","v":0},{"$f":"'4Cat'!I36","v":0}]
[{"$f":"'4Cat'!A37","v":0},{"$f":"'4Cat'!B37","v":27},{"$f":"'4Cat'!C37","v":0},{"$f":"'4Cat'!D37","v":0},{"$f":"'4Cat'!E37","v":0},{"$f":"'4Cat'!F37","v":0},{"$f":"'4Cat'!G37","v":0},{"$f":"'4Cat'!H37","v":0},{"$f":"'4Cat'!I37","v":0}]
[{"$f":"'4Cat'!A38","v":0},{"$f":"'4Cat'!B38","v":28},{"$f":"'4Cat'!C38","v":0},{"$f":"'4Cat'!D38","v":0},{"$f":"'4Cat'!E38","v":0},{"$f":"'4Cat'!F38","v":0},{"$f":"'4Cat'!G38","v":0},{"$f":"'4Cat'!H38","v":0},{"$f":"'4Cat'!I38","v":0}]
[{"$f":"'4Cat'!A39","v":0},{"$f":"'4Cat'!B39","v":29},{"$f":"'4Cat'!C39","v":0},{"$f":"'4Cat'!D39","v":0},{"$f":"'4Cat'!E39","v":0},{"$f":"'4Cat'!F39","v":0},{"$f":"'4Cat'!G39","v":0},{"$f":"'4Cat'!H39","v":0},{"$f":"'4Cat'!I39","v":0}]
[{"$f":"'4Cat'!A40","v":0},{"$f":"'4Cat'!B40","v":30},{"$f":"'4Cat'!C40","v":0},{"$f":"'4Cat'!D40","v":0},{"$f":"'4Cat'!E40","v":0},{"$f":"'4Cat'!F40","v":0},{"$f":"'4Cat'!G40","v":0},{"$f":"'4Cat'!H40","v":0},{"$f":"'4Cat'!I40","v":0}]
[{"$f":"'4Cat'!A41","v":0},{"$f":"'4Cat'!B41","v":31},{"$f":"'4Cat'!C41","v":0},{"$f":"'4Cat'!D41","v":0},{"$f":"'4Cat'!E41","v":0},{"$f":"'4Cat'!F41","v":0},{"$f":"'4Cat'!G41","v":0},{"$f":"'4Cat'!H41","v":0},{"$f":"'4Cat'!I41","v":0}]
[{"$f":"'4Cat'!A42","v":0},{"$f":"'4Cat'!B42","v":32},{"$f":"'4Cat'!C42","v":0},{"$f":"'4Cat'!D42","v":0},{"$f":"'4Cat'!E42","v":0},{"$f":"'4Cat'!F42","v":0},{"$f":"'4Cat'!G42","v":0},{"$f":"'4Cat'!H42","v":0},{"$f":"'4Cat'!I42","v":0}]
[{"$f":"'4Cat'!A43","v":0},{"$f":"'4Cat'!B43","v":33},{"$f":"'4Cat'!C43","v":0},{"$f":"'4Cat'!D43","v":0},{"$f":"'4Cat'!E43","v":0},{"$f":"'4Cat'!F43","v":0},{"$f":"'4Cat'!G43","v":0},{"$f":"'4Cat'!H43","v":0},{"$f":"'4Cat'!I43","v":0}]
[{"$f":"'4Cat'!A44","v":0},{"$f":"'4Cat'!B44","v":34},{"$f":"'4Cat'!C44","v":0},{"$f":"'4Cat'!D44","v":0},{"$f":"'4Cat'!E44","v":0},{"$f":"'4Cat'!F44","v":0},{"$f":"'4Cat'!G44","v":0},{"$f":"'4Cat'!H44","v":0},{"$f":"'4Cat'!I44","v":0}]
[{"$f":"'4Cat'!A45","v":0},{"$f":"'4Cat'!B45","v":35},{"$f":"'4Cat'!C45","v":0},{"$f":"'4Cat'!D45","v":0},{"$f":"'4Cat'!E45","v":0},{"$f":"'4Cat'!F45","v":0},{"$f":"'4Cat'!G45","v":0},{"$f":"'4Cat'!H45","v":0},{"$f":"'4Cat'!I45","v":0}]
[{"$f":"'4Cat'!A46","v":0},{"$f":"'4Cat'!B46","v":36},{"$f":"'4Cat'!C46","v":0},{"$f":"'4Cat'!D46","v":0},{"$f":"'4Cat'!E46","v":0},{"$f":"'4Cat'!F46","v":0},{"$f":"'4Cat'!G46","v":0},{"$f":"'4Cat'!H46","v":0},{"$f":"'4Cat'!I46","v":0}]
[{"$f":"'4Cat'!A47","v":0},{"$f":"'4Cat'!B47","v":37},{"$f":"'4Cat'!C47","v":0},{"$f":"'4Cat'!D47","v":0},{"$f":"'4Cat'!E47","v":0},{"$f":"'4Cat'!F47","v":0},{"$f":"'4Cat'!G47","v":0},{"$f":"'4Cat'!H47","v":0},{"$f":"'4Cat'!I47","v":0}]
[{"$f":"'4Cat'!A48","v":0},{"$f":"'4Cat'!B48","v":38},{"$f":"'4Cat'!C48","v":0},{"$f":"'4Cat'!D48","v":0},{"$f":"'4Cat'!E48","v":0},{"$f":"'4Cat'!F48","v":0},{"$f":"'4Cat'!G48","v":0},{"$f":"'4Cat'!H48","v":0},{"$f":"'4Cat'!I48","v":0}]
[{"$f":"'4Cat'!A49","v":0},{"$f":"'4Cat'!B49","v":39},{"$f":"'4Cat'!C49","v":0},{"$f":"'4Cat'!D49","v":0},{"$f":"'4Cat'!E49","v":0},{"$f":"'4Cat'!F49","v":0},{"$f":"'4Cat'!G49","v":0},{"$f":"'4Cat'!H49","v":0},{"$f":"'4Cat'!I49","v":0}]
[{"$f":"'4Cat'!A50","v":0},{"$f":"'4Cat'!B50","v":40},{"$f":"'4Cat'!C50","v":0},{"$f":"'4Cat'!D50","v":0},{"$f":"'4Cat'!E50","v":0},{"$f":"'4Cat'!F50","v":0},{"$f":"'4Cat'!G50","v":0},{"$f":"'4Cat'!H50","v":0},{"$f":"'4Cat'!I50","v":0}]
[{"$f":"'4Cat'!A51","v":0},{"$f":"'4Cat'!B51","v":41},{"$f":"'4Cat'!C51","v":0},{"$f":"'4Cat'!D51","v":0},{"$f":"'4Cat'!E51","v":0},{"$f":"'4Cat'!F51","v":0},{"$f":"'4Cat'!G51","v":0},{"$f":"'4Cat'!H51","v":0},{"$f":"'4Cat'!I51","v":0}]
[{"$f":"'4Cat'!A52","v":0},{"$f":"'4Cat'!B52","v":42},{"$f":"'4Cat'!C52","v":0},{"$f":"'4Cat'!D52","v":0},{"$f":"'4Cat'!E52","v":0},{"$f":"'4Cat'!F52","v":0},{"$f":"'4Cat'!G52","v":0},{"$f":"'4Cat'!H52","v":0},{"$f":"'4Cat'!I52","v":0}]
[{"$f":"'4Cat'!A53","v":0},{"$f":"'4Cat'!B53","v":43},{"$f":"'4Cat'!C53","v":0},{"$f":"'4Cat'!D53","v":0},{"$f":"'4Cat'!E53","v":0},{"$f":"'4Cat'!F53","v":0},{"$f":"'4Cat'!G53","v":0},{"$f":"'4Cat'!H53","v":0},{"$f":"'4Cat'!I53","v":0}]
[{"$f":"'4Cat'!A54","v":0},{"$f":"'4Cat'!B54","v":44},{"$f":"'4Cat'!C54","v":0},{"$f":"'4Cat'!D54","v":0},{"$f":"'4Cat'!E54","v":0},{"$f":"'4Cat'!F54","v":0},{"$f":"'4Cat'!G54","v":0},{"$f":"'4Cat'!H54","v":0},{"$f":"'4Cat'!I54","v":0}]
[{"$f":"'4Cat'!A55","v":0},{"$f":"'4Cat'!B55","v":45},{"$f":"'4Cat'!C55","v":0},{"$f":"'4Cat'!D55","v":0},{"$f":"'4Cat'!E55","v":0},{"$f":"'4Cat'!F55","v":0},{"$f":"'4Cat'!G55","v":0},{"$f":"'4Cat'!H55","v":0},{"$f":"'4Cat'!I55","v":0}]
[{"$f":"'4Cat'!A56","v":0},{"$f":"'4Cat'!B56","v":46},{"$f":"'4Cat'!C56","v":0},{"$f":"'4Cat'!D56","v":0},{"$f":"'4Cat'!E56","v":0},{"$f":"'4Cat'!F56","v":0},{"$f":"'4Cat'!G56","v":0},{"$f":"'4Cat'!H56","v":0},{"$f":"'4Cat'!I56","v":0}]
[{"$f":"'4Cat'!A57","v":0},{"$f":"'4Cat'!B57","v":47},{"$f":"'4Cat'!C57","v":0},{"$f":"'4Cat'!D57","v":0},{"$f":"'4Cat'!E57","v":0},{"$f":"'4Cat'!F57","v":0},{"$f":"'4Cat'!G57","v":0},{"$f":"'4Cat'!H57","v":0},{"$f":"'4Cat'!I57","v":0}]
[{"$f":"'4Cat'!A58","v":0},{"$f":"'4Cat'!B58","v":48},{"$f":"'4Cat'!C58","v":0},{"$f":"'4Cat'!D58","v":0},{"$f":"'4Cat'!E58","v":0},{"$f":"'4Cat'!F58","v":0},{"$f":"'4Cat'!G58","v":0},{"$f":"'4Cat'!H58","v":0},{"$f":"'4Cat'!I58","v":0}]
[{"$f":"'4Cat'!A59","v":0},{"$f":"'4Cat'!B59","v":49},{"$f":"'4Cat'!C59","v":0},{"$f":"'4Cat'!D59","v":0},{"$f":"'4Cat'!E59","v":0},{"$f":"'4Cat'!F59","v":0},{"$f":"'4Cat'!G59","v":0},{"$f":"'4Cat'!H59","v":0},{"$f":"'4Cat'!I59","v":0}]
[{"$f":"'4Cat'!A60","v":0},{"$f":"'4Cat'!B60","v":0},{"$f":"'4Cat'!C60","v":0},{"$f":"'4Cat'!D60","v":0},{"$f":"'4Cat'!E60","v":0},{"$f":"'4Cat'!F60","v":0},{"$f":"'4Cat'!G60","v":0},{"$f":"'4Cat'!H60","v":0},{"$f":"'4Cat'!I60","v":0}]
[{"$f":"'4Cat'!A61","v":0},{"$f":"'4Cat'!B61","v":0},{"$f":"'4Cat'!C61","v":0},{"$f":"'4Cat'!D61","v":0},{"$f":"'4Cat'!E61","v":0},{"$f":"'4Cat'!F61","v":0},{"$f":"'4Cat'!G61","v":0},{"$f":"'4Cat'!H61","v":0},{"$f":"'4Cat'!I61","v":0}]
[{"$f":"'4Cat'!A62","v":0},{"$f":"'4Cat'!B62","v":0},{"$f":"'4Cat'!C62","v":0},{"$f":"'4Cat'!D62","v":0},{"$f":"'4Cat'!E62","v":0},{"$f":"'4Cat'!F62","v":0},{"$f":"'4Cat'!G62","v":0},{"$f":"'4Cat'!H62","v":0},{"$f":"'4Cat'!I62","v":0}]
[{"$f":"'4Cat'!A63","v":0},{"$f":"'4Cat'!B63","v":0},{"$f":"'4Cat'!C63","v":0},{"$f":"'4Cat'!D63","v":0},{"$f":"'4Cat'!E63","v":0},{"$f":"'4Cat'!F63","v":0},{"$f":"'4Cat'!G63","v":0},{"$f":"'4Cat'!H63","v":0},{"$f":"'4Cat'!I63","v":0}]
[{"$f":"'4Cat'!A64","v":0},{"$f":"'4Cat'!B64","v":0},{"$f":"'4Cat'!C64","v":0},{"$f":"'4Cat'!D64","v":0},{"$f":"'4Cat'!E64","v":0},{"$f":"'4Cat'!F64","v":0},{"$f":"'4Cat'!G64","v":0},{"$f":"'4Cat'!H64","v":0},{"$f":"'4Cat'!I64","v":0}]
[{"$f":"'4Cat'!A65","v":0},{"$f":"'4Cat'!B65","v":0},{"$f":"'4Cat'!C65","v":0},{"$f":"'4Cat'!D65","v":0},{"$f":"'4Cat'!E65","v":0},{"$f":"'4Cat'!F65","v":0},{"$f":"'4Cat'!G65","v":0},{"$f":"'4Cat'!H65","v":0},{"$f":"'4Cat'!I65","v":0}]
[{"$f":"'4Cat'!A66","v":0},{"$f":"'4Cat'!B66","v":0},{"$f":"'4Cat'!C66","v":0},{"$f":"'4Cat'!D66","v":0},{"$f":"'4Cat'!E66","v":0},{"$f":"'4Cat'!F66","v":0},{"$f":"'4Cat'!G66","v":0},{"$f":"'4Cat'!H66","v":0},{"$f":"'4Cat'!I66","v":0}]
[{"$f":"'4Cat'!A67","v":0},{"$f":"'4Cat'!B67","v":0},{"$f":"'4Cat'!C67","v":0},{"$f":"'4Cat'!D67","v":0},{"$f":"'4Cat'!E67","v":0},{"$f":"'4Cat'!F67","v":0},{"$f":"'4Cat'!G67","v":0},{"$f":"'4Cat'!H67","v":0},{"$f":"'4Cat'!I67","v":0}]
[{"$f":"'4Cat'!A68","v":0},{"$f":"'4Cat'!B68","v":0},{"$f":"'4Cat'!C68","v":0},{"$f":"'4Cat'!D68","v":0},{"$f":"'4Cat'!E68","v":0},{"$f":"'4Cat'!F68","v":0},{"$f":"'4Cat'!G68","v":0},{"$f":"'4Cat'!H68","v":0},{"$f":"'4Cat'!I68","v":0}]
[{"$f":"'4Cat'!A69","v":0},{"$f":"'4Cat'!B69","v":0},{"$f":"'4Cat'!C69","v":0},{"$f":"'4Cat'!D69","v":0},{"$f":"'4Cat'!E69","v":0},{"$f":"'4Cat'!F69","v":0},{"$f":"'4Cat'!G69","v":0},{"$f":"'4Cat'!H69","v":0},{"$f":"'4Cat'!I69","v":0}]
[{"$f":"'4Cat'!A70","v":0},{"$f":"'4Cat'!B70","v":0},{"$f":"'4Cat'!C70","v":0},{"$f":"'4Cat'!D70","v":0},{"$f":"'4Cat'!E70","v":0},{"$f":"'4Cat'!F70","v":0},{"$f":"'4Cat'!G70","v":0},{"$f":"'4Cat'!H70","v":0},{"$f":"'4Cat'!I70","v":0}]
[{"$f":"'4Cat'!A71","v":0},{"$f":"'4Cat'!B71","v":0},{"$f":"'4Cat'!C71","v":0},{"$f":"'4Cat'!D71","v":0},{"$f":"'4Cat'!E71","v":0},{"$f":"'4Cat'!F71","v":0},{"$f":"'4Cat'!G71","v":0},{"$f":"'4Cat'!H71","v":0},{"$f":"'4Cat'!I71","v":0}]
[{"$f":"'4Cat'!A72","v":0},{"$f":"'4Cat'!B72","v":0},{"$f":"'4Cat'!C72","v":0},{"$f":"'4Cat'!D72","v":0},{"$f":"'4Cat'!E72","v":0},{"$f":"'4Cat'!F72","v":0},{"$f":"'4Cat'!G72","v":0},{"$f":"'4Cat'!H72","v":0},{"$f":"'4Cat'!I72","v":0}]
[{"$f":"'4Cat'!A73","v":0},{"$f":"'4Cat'!B73","v":0},{"$f":"'4Cat'!C73","v":0},{"$f":"'4Cat'!D73","v":0},{"$f":"'4Cat'!E73","v":0},{"$f":"'4Cat'!F73","v":0},{"$f":"'4Cat'!G73","v":0},{"$f":"'4Cat'!H73","v":0},{"$f":"'4Cat'!I73","v":0}]
[{"$f":"'4Cat'!A74","v":0},{"$f":"'4Cat'!B74","v":0},{"$f":"'4Cat'!C74","v":0},{"$f":"'4Cat'!D74","v":0},{"$f":"'4Cat'!E74","v":0},{"$f":"'4Cat'!F74","v":0},{"$f":"'4Cat'!G74","v":0},{"$f":"'4Cat'!H74","v":0},{"$f":"'4Cat'!I74","v":0}]
[{"$f":"'4Cat'!A75","v":0},{"$f":"'4Cat'!B75","v":0},{"$f":"'4Cat'!C75","v":0},{"$f":"'4Cat'!D75","v":0},{"$f":"'4Cat'!E75","v":0},{"$f":"'4Cat'!F75","v":0},{"$f":"'4Cat'!G75","v":0},{"$f":"'4Cat'!H75","v":0},{"$f":"'4Cat'!I75","v":0}]
[{"$f":"'4Cat'!A76","v":0},{"$f":"'4Cat'!B76","v":0},{"$f":"'4Cat'!C76","v":0},{"$f":"'4Cat'!D76","v":0},{"$f":"'4Cat'!E76","v":0},{"$f":"'4Cat'!F76","v":0},{"$f":"'4Cat'!G76","v":0},{"$f":"'4Cat'!H76","v":0},{"$f":"'4Cat'!I76","v":0}]
[{"$f":"'4Cat'!A77","v":0},{"$f":"'4Cat'!B77","v":0},{"$f":"'4Cat'!C77","v":0},{"$f":"'4Cat'!D77","v":0},{"$f":"'4Cat'!E77","v":0},{"$f":"'4Cat'!F77","v":0},{"$f":"'4Cat'!G77","v":0},{"$f":"'4Cat'!H77","v":0},{"$f":"'4Cat'!I77","v":0}]
[{"$f":"'4Cat'!A78","v":0},{"$f":"'4Cat'!B78","v":0},{"$f":"'4Cat'!C78","v":0},{"$f":"'4Cat'!D78","v":0},{"$f":"'4Cat'!E78","v":0},{"$f":"'4Cat'!F78","v":0},{"$f":"'4Cat'!G78","v":0},{"$f":"'4Cat'!H78","v":0},{"$f":"'4Cat'!I78","v":0}]
[null,"FIN"]
[]
[null,null,{"$f":"FEM!A6","v":0},{"$f":"FEM!A7","v":""}]
[null,null,{"$f":"FEM!B8","v":0},{"$f":"FEM!C8","v":0}]
[{"$f":"FEM!A9","v":"FEM"},null,{"$f":"FEM!B9","v":0},{"$f":"FEM!C9","v":0}]
["Place","Doss","Nom Prenom","Club","Sexe","Cat","Catégorie d'âge","Dep","Fed"]
[{"$f":"FEM!A11","v":0},{"$f":"FEM!B11","v":120},{"$f":"FEM!C11","v":0},{"$f":"FEM!D11","v":0},{"$f":"FEM!E11","v":0},{"$f":"FEM!F11","v":0},{"$f":"FEM!G11","v":0},{"$f":"FEM!H11","v":0},{"$f":"FEM!I11","v":0}]
[{"$f":"FEM!A12","v":0},{"$f":"FEM!B12","v":121},{"$f":"FEM!C12","v":0},{"$f":"FEM!D12","v":0},{"$f":"FEM!E12","v":0},{"$f":"FEM!F12","v":0},{"$f":"FEM!G12","v":0},{"$f":"FEM!H12","v":0},{"$f":"FEM!I12","v":0}]
[{"$f":"FEM!A13","v":0},{"$f":"FEM!B13","v":122},{"$f":"FEM!C13","v":0},{"$f":"FEM!D13","v":0},{"$f":"FEM!E13","v":0},{"$f":"FEM!F13","v":0},{"$f":"FEM!G13","v":0},{"$f":"FEM!H13","v":0},{"$f":"FEM!I13","v":0}]
[{"$f":"FEM!A14","v":0},{"$f":"FEM!B14","v":123},{"$f":"FEM!C14","v":0},{"$f":"FEM!D14","v":0},{"$f":"FEM!E14","v":0},{"$f":"FEM!F14","v":0},{"$f":"FEM!G14","v":0},{"$f":"FEM!H14","v":0},{"$f":"FEM!I14","v":0}]
[{"$f":"FEM!A15","v":0},{"$f":"FEM!B15","v":124},{"$f":"FEM!C15","v":0},{"$f":"FEM!D15","v":0},{"$f":"FEM!E15","v":0},{"$f":"FEM!F15","v":0},{"$f":"FEM!G15","v":0},{"$f":"FEM!H15","v":0},{"$f":"FEM!I15","v":0}]
[{"$f":"FEM!A16","v":0},{"$f":"FEM!B16","v":125},{"$f":"FEM!C16","v":0},{"$f":"FEM!D16","v":0},{"$f":"FEM!E16","v":0},{"$f":"FEM!F16","v":0},{"$f":"FEM!G16","v":0},{"$f":"FEM!H16","v":0},{"$f":"FEM!I16","v":0}]
[{"$f":"FEM!A17","v":0},{"$f":"FEM!B17","v":126},{"$f":"FEM!C17","v":0},{"$f":"FEM!D17","v":0},{"$f":"FEM!E17","v":0},{"$f":"FEM!F17","v":0},{"$f":"FEM!G17","v":0},{"$f":"FEM!H17","v":0},{"$f":"FEM!I17","v":0}]
[{"$f":"FEM!A18","v":0},{"$f":"FEM!B18","v":127},{"$f":"FEM!C18","v":0},{"$f":"FEM!D18","v":0},{"$f":"FEM!E18","v":0},{"$f":"FEM!F18","v":0},{"$f":"FEM!G18","v":0},{"$f":"FEM!H18","v":0},{"$f":"FEM!I18","v":0}]
[{"$f":"FEM!A19","v":0},{"$f":"FEM!B19","v":128},{"$f":"FEM!C19","v":0},{"$f":"FEM!D19","v":0},{"$f":"FEM!E19","v":0},{"$f":"FEM!F19","v":0},{"$f":"FEM!G19","v":0},{"$f":"FEM!H19","v":0},{"$f":"FEM!I19","v":0}]
[{"$f":"FEM!A20","v":0},{"$f":"FEM!B20","v":129},{"$f":"FEM!C20","v":0},{"$f":"FEM!D20","v":0},{"$f":"FEM!E20","v":0},{"$f":"FEM!F20","v":0},{"$f":"FEM!G20","v":0},{"$f":"FEM!H20","v":0},{"$f":"FEM!I20","v":0}]
[{"$f":"FEM!A21","v":0},{"$f":"FEM!B21","v":130},{"$f":"FEM!C21","v":0},{"$f":"FEM!D21","v":0},{"$f":"FEM!E21","v":0},{"$f":"FEM!F21","v":0},{"$f":"FEM!G21","v":0},{"$f":"FEM!H21","v":0},{"$f":"FEM!I21","v":0}]
[{"$f":"FEM!A22","v":0},{"$f":"FEM!B22","v":131},{"$f":"FEM!C22","v":0},{"$f":"FEM!D22","v":0},{"$f":"FEM!E22","v":0},{"$f":"FEM!F22","v":0},{"$f":"FEM!G22","v":0},{"$f":"FEM!H22","v":0},{"$f":"FEM!I22","v":0}]
[{"$f":"FEM!A23","v":0},{"$f":"FEM!B23","v":132},{"$f":"FEM!C23","v":0},{"$f":"FEM!D23","v":0},{"$f":"FEM!E23","v":0},{"$f":"FEM!F23","v":0},{"$f":"FEM!G23","v":0},{"$f":"FEM!H23","v":0},{"$f":"FEM!I23","v":0}]
[{"$f":"FEM!A24","v":0},{"$f":"FEM!B24","v":133},{"$f":"FEM!C24","v":0},{"$f":"FEM!D24","v":0},{"$f":"FEM!E24","v":0},{"$f":"FEM!F24","v":0},{"$f":"FEM!G24","v":0},{"$f":"FEM!H24","v":0},{"$f":"FEM!I24","v":0}]
[{"$f":"FEM!A25","v":0},{"$f":"FEM!B25","v":134},{"$f":"FEM!C25","v":0},{"$f":"FEM!D25","v":0},{"$f":"FEM!E25","v":0},{"$f":"FEM!F25","v":0},{"$f":"FEM!G25","v":0},{"$f":"FEM!H25","v":0},{"$f":"FEM!I25","v":0}]
[{"$f":"FEM!A26","v":0},{"$f":"FEM!B26","v":135},{"$f":"FEM!C26","v":0},{"$f":"FEM!D26","v":0},{"$f":"FEM!E26","v":0},{"$f":"FEM!F26","v":0},{"$f":"FEM!G26","v":0},{"$f":"FEM!H26","v":0},{"$f":"FEM!I26","v":0}]
[{"$f":"FEM!A27","v":0},{"$f":"FEM!B27","v":136},{"$f":"FEM!C27","v":0},{"$f":"FEM!D27","v":0},{"$f":"FEM!E27","v":0},{"$f":"FEM!F27","v":0},{"$f":"FEM!G27","v":0},{"$f":"FEM!H27","v":0},{"$f":"FEM!I27","v":0}]
[{"$f":"FEM!A28","v":0},{"$f":"FEM!B28","v":137},{"$f":"FEM!C28","v":0},{"$f":"FEM!D28","v":0},{"$f":"FEM!E28","v":0},{"$f":"FEM!F28","v":0},{"$f":"FEM!G28","v":0},{"$f":"FEM!H28","v":0},{"$f":"FEM!I28","v":0}]
[{"$f":"FEM!A29","v":0},{"$f":"FEM!B29","v":138},{"$f":"FEM!C29","v":0},{"$f":"FEM!D29","v":0},{"$f":"FEM!E29","v":0},{"$f":"FEM!F29","v":0},{"$f":"FEM!G29","v":0},{"$f":"FEM!H29","v":0},{"$f":"FEM!I29","v":0}]
[{"$f":"FEM!A30","v":0},{"$f":"FEM!B30","v":139},{"$f":"FEM!C30","v":0},{"$f":"FEM!D30","v":0},{"$f":"FEM!E30","v":0},{"$f":"FEM!F30","v":0},{"$f":"FEM!G30","v":0},{"$f":"FEM!H30","v":0},{"$f":"FEM!I30","v":0}]
[{"$f":"FEM!A31","v":0},{"$f":"FEM!B31","v":0},{"$f":"FEM!C31","v":0},{"$f":"FEM!D31","v":0},{"$f":"FEM!E31","v":0},{"$f":"FEM!F31","v":0},{"$f":"FEM!G31","v":0},{"$f":"FEM!H31","v":0},{"$f":"FEM!I31","v":0}]
[{"$f":"FEM!A32","v":0},{"$f":"FEM!B32","v":0},{"$f":"FEM!C32","v":0},{"$f":"FEM!D32","v":0},{"$f":"FEM!E32","v":0},{"$f":"FEM!F32","v":0},{"$f":"FEM!G32","v":0},{"$f":"FEM!H32","v":0},{"$f":"FEM!I32","v":0}]
[{"$f":"FEM!A33","v":0},{"$f":"FEM!B33","v":0},{"$f":"FEM!C33","v":0},{"$f":"FEM!D33","v":0},{"$f":"FEM!E33","v":0},{"$f":"FEM!F33","v":0},{"$f":"FEM!G33","v":0},{"$f":"FEM!H33","v":0},{"$f":"FEM!I33","v":0}]
[{"$f":"FEM!A34","v":0},{"$f":"FEM!B34","v":0},{"$f":"FEM!C34","v":0},{"$f":"FEM!D34","v":0},{"$f":"FEM!E34","v":0},{"$f":"FEM!F34","v":0},{"$f":"FEM!G34","v":0},{"$f":"FEM!H34","v":0},{"$f":"FEM!I34","v":0}]
[{"$f":"FEM!A35","v":0},{"$f":"FEM!B35","v":0},{"$f":"FEM!C35","v":0},{"$f":"FEM!D35","v":0},{"$f":"FEM!E35","v":0},{"$f":"FEM!F35","v":0},{"$f":"FEM!G35","v":0},{"$f":"FEM!H35","v":0},{"$f":"FEM!I35","v":0}]
[{"$f":"FEM!A36","v":0},{"$f":"FEM!B36","v":0},{"$f":"FEM!C36","v":0},{"$f":"FEM!D36","v":0},{"$f":"FEM!E36","v":0},{"$f":"FEM!F36","v":0},{"$f":"FEM!G36","v":0},{"$f":"FEM!H36","v":0},{"$f":"FEM!I36","v":0}]
[{"$f":"FEM!A37","v":0},{"$f":"FEM!B37","v":0},{"$f":"FEM!C37","v":0},{"$f":"FEM!D37","v":0},{"$f":"FEM!E37","v":0},{"$f":"FEM!F37","v":0},{"$f":"FEM!G37","v":0},{"$f":"FEM!H37","v":0},{"$f":"FEM!I37","v":0}]
[{"$f":"FEM!A38","v":0},{"$f":"FEM!B38","v":0},{"$f":"FEM!C38","v":0},{"$f":"FEM!D38","v":0},{"$f":"FEM!E38","v":0},{"$f":"FEM!F38","v":0},{"$f":"FEM!G38","v":0},{"$f":"FEM!H38","v":0},{"$f":"FEM!I38","v":0}]
[{"$f":"FEM!A39","v":0},{"$f":"FEM!B39","v":0},{"$f":"FEM!C39","v":0},{"$f":"FEM!D39","v":0},{"$f":"FEM!E39","v":0},{"$f":"FEM!F39","v":0},{"$f":"FEM!G39","v":0},{"$f":"FEM!H39","v":0},{"$f":"FEM!I39","v":0}]
[{"$f":"FEM!A40","v":0},{"$f":"FEM!B40","v":0},{"$f":"FEM!C40","v":0},{"$f":"FEM!D40","v":0},{"$f":"FEM!E40","v":0},{"$f":"FEM!F40","v":0},{"$f":"FEM!G40","v":0},{"$f":"FEM!H40","v":0},{"$f":"FEM!I40","v":0}]
[{"$f":"FEM!A41","v":0},{"$f":"FEM!B41","v":0},{"$f":"FEM!C41","v":0},{"$f":"FEM!D41","v":0},{"$f":"FEM!E41","v":0},{"$f":"FEM!F41","v":0},{"$f":"FEM!G41","v":0},{"$f":"FEM!H41","v":0},{"$f":"FEM!I41","v":0}]
[{"$f":"FEM!A42","v":0},{"$f":"FEM!B42","v":0},{"$f":"FEM!C42","v":0},{"$f":"FEM!D42","v":0},{"$f":"FEM!E42","v":0},{"$f":"FEM!F42","v":0},{"$f":"FEM!G42","v":0},{"$f":"FEM!H42","v":0},{"$f":"FEM!I42","v":0}]
[{"$f":"FEM!A43","v":0},{"$f":"FEM!B43","v":0},{"$f":"FEM!C43","v":0},{"$f":"FEM!D43","v":0},{"$f":"FEM!E43","v":0},{"$f":"FEM!F43","v":0},{"$f":"FEM!G43","v":0},{"$f":"FEM!H43","v":0},{"$f":"FEM!I43","v":0}]
[]
[]
[null,null,{"$f":"'15_16ans'!A6","v":0},{"$f":"'15_16ans'!A7","v":""}]
[null,null,{"$f":"'15_16ans'!B8","v":0},{"$f":"'15_16ans'!C8","v":0}]
[{"$f":"'15_16ans'!A9","v":"15 à 16 ans"},null,{"$f":"'15_16ans'!B9","v":0},{"$f":"'15_16ans'!C9","v":0}]
["Place","Doss","Nom Prenom","Club","Sexe","Cat","Ecart","Dep","Fed"]
[{"$f":"'15_16ans'!A11","v":0},{"$f":"'15_16ans'!B11","v":120},{"$f":"'15_16ans'!C11","v":0},{"$f":"'15_16ans'!D11","v":0},{"$f":"'15_16ans'!E11","v":0},{"$f":"'15_16ans'!F11","v":0},{"$f":"'15_16ans'!G11","v":0},{"$f":"'15_16ans'!H11","v":0},{"$f":"'15_16ans'!I11","v":0}]
[{"$f":"'15_16ans'!A12","v":0},{"$f":"'15_16ans'!B12","v":121},{"$f":"'15_16ans'!C12","v":0},{"$f":"'15_16ans'!D12","v":0},{"$f":"'15_16ans'!E12","v":0},{"$f":"'15_16ans'!F12","v":0},{"$f":"'15_16ans'!G12","v":0},{"$f":"'15_16ans'!H12","v":0},{"$f":"'15_16ans'!I12","v":0}]
[{"$f":"'15_16ans'!A13","v":0},{"$f":"'15_16ans'!B13","v":122},{"$f":"'15_16ans'!C13","v":0},{"$f":"'15_16ans'!D13","v":0},{"$f":"'15_16ans'!E13","v":0},{"$f":"'15_16ans'!F13","v":0},{"$f":"'15_16ans'!G13","v":0},{"$f":"'15_16ans'!H13","v":0},{"$f":"'15_16ans'!I13","v":0}]
[{"$f":"'15_16ans'!A14","v":0},{"$f":"'15_16ans'!B14","v":123},{"$f":"'15_16ans'!C14","v":0},{"$f":"'15_16ans'!D14","v":0},{"$f":"'15_16ans'!E14","v":0},{"$f":"'15_16ans'!F14","v":0},{"$f":"'15_16ans'!G14","v":0},{"$f":"'15_16ans'!H14","v":0},{"$f":"'15_16ans'!I14","v":0}]
[{"$f":"'15_16ans'!A15","v":0},{"$f":"'15_16ans'!B15","v":124},{"$f":"'15_16ans'!C15","v":0},{"$f":"'15_16ans'!D15","v":0},{"$f":"'15_16ans'!E15","v":0},{"$f":"'15_16ans'!F15","v":0},{"$f":"'15_16ans'!G15","v":0},{"$f":"'15_16ans'!H15","v":0},{"$f":"'15_16ans'!I15","v":0}]
[{"$f":"'15_16ans'!A16","v":0},{"$f":"'15_16ans'!B16","v":125},{"$f":"'15_16ans'!C16","v":0},{"$f":"'15_16ans'!D16","v":0},{"$f":"'15_16ans'!E16","v":0},{"$f":"'15_16ans'!F16","v":0},{"$f":"'15_16ans'!G16","v":0},{"$f":"'15_16ans'!H16","v":0},{"$f":"'15_16ans'!I16","v":0}]
[{"$f":"'15_16ans'!A17","v":0},{"$f":"'15_16ans'!B17","v":126},{"$f":"'15_16ans'!C17","v":0},{"$f":"'15_16ans'!D17","v":0},{"$f":"'15_16ans'!E17","v":0},{"$f":"'15_16ans'!F17","v":0},{"$f":"'15_16ans'!G17","v":0},{"$f":"'15_16ans'!H17","v":0},{"$f":"'15_16ans'!I17","v":0}]
[{"$f":"'15_16ans'!A18","v":0},{"$f":"'15_16ans'!B18","v":127},{"$f":"'15_16ans'!C18","v":0},{"$f":"'15_16ans'!D18","v":0},{"$f":"'15_16ans'!E18","v":0},{"$f":"'15_16ans'!F18","v":0},{"$f":"'15_16ans'!G18","v":0},{"$f":"'15_16ans'!H18","v":0},{"$f":"'15_16ans'!I18","v":0}]
[{"$f":"'15_16ans'!A19","v":0},{"$f":"'15_16ans'!B19","v":128},{"$f":"'15_16ans'!C19","v":0},{"$f":"'15_16ans'!D19","v":0},{"$f":"'15_16ans'!E19","v":0},{"$f":"'15_16ans'!F19","v":0},{"$f":"'15_16ans'!G19","v":0},{"$f":"'15_16ans'!H19","v":0},{"$f":"'15_16ans'!I19","v":0}]
[{"$f":"'15_16ans'!A20","v":0},{"$f":"'15_16ans'!B20","v":129},{"$f":"'15_16ans'!C20","v":0},{"$f":"'15_16ans'!D20","v":0},{"$f":"'15_16ans'!E20","v":0},{"$f":"'15_16ans'!F20","v":0},{"$f":"'15_16ans'!G20","v":0},{"$f":"'15_16ans'!H20","v":0},{"$f":"'15_16ans'!I20","v":0}]
[{"$f":"'15_16ans'!A21","v":0},{"$f":"'15_16ans'!B21","v":130},{"$f":"'15_16ans'!C21","v":0},{"$f":"'15_16ans'!D21","v":0},{"$f":"'15_16ans'!E21","v":0},{"$f":"'15_16ans'!F21","v":0},{"$f":"'15_16ans'!G21","v":0},{"$f":"'15_16ans'!H21","v":0},{"$f":"'15_16ans'!I21","v":0}]
[{"$f":"'15_16ans'!A22","v":0},{"$f":"'15_16ans'!B22","v":131},{"$f":"'15_16ans'!C22","v":0},{"$f":"'15_16ans'!D22","v":0},{"$f":"'15_16ans'!E22","v":0},{"$f":"'15_16ans'!F22","v":0},{"$f":"'15_16ans'!G22","v":0},{"$f":"'15_16ans'!H22","v":0},{"$f":"'15_16ans'!I22","v":0}]
[{"$f":"'15_16ans'!A23","v":0},{"$f":"'15_16ans'!B23","v":132},{"$f":"'15_16ans'!C23","v":0},{"$f":"'15_16ans'!D23","v":0},{"$f":"'15_16ans'!E23","v":0},{"$f":"'15_16ans'!F23","v":0},{"$f":"'15_16ans'!G23","v":0},{"$f":"'15_16ans'!H23","v":0},{"$f":"'15_16ans'!I23","v":0}]
[{"$f":"'15_16ans'!A24","v":0},{"$f":"'15_16ans'!B24","v":133},{"$f":"'15_16ans'!C24","v":0},{"$f":"'15_16ans'!D24","v":0},{"$f":"'15_16ans'!E24","v":0},{"$f":"'15_16ans'!F24","v":0},{"$f":"'15_16ans'!G24","v":0},{"$f":"'15_16ans'!H24","v":0},{"$f":"'15_16ans'!I24","v":0}]
[{"$f":"'15_16ans'!A25","v":0},{"$f":"'15_16ans'!B25","v":134},{"$f":"'15_16ans'!C25","v":0},{"$f":"'15_16ans'!D25","v":0},{"$f":"'15_16ans'!E25","v":0},{"$f":"'15_16ans'!F25","v":0},{"$f":"'15_16ans'!G25","v":0},{"$f":"'15_16ans'!H25","v":0},{"$f":"'15_16ans'!I25","v":0}]
[{"$f":"'15_16ans'!A26","v":0},{"$f":"'15_16ans'!B26","v":135},{"$f":"'15_16ans'!C26","v":0},{"$f":"'15_16ans'!D26","v":0},{"$f":"'15_16ans'!E26","v":0},{"$f":"'15_16ans'!F26","v":0},{"$f":"'15_16ans'!G26","v":0},{"$f":"'15_16ans'!H26","v":0},{"$f":"'15_16ans'!I26","v":0}]
[{"$f":"'15_16ans'!A27","v":0},{"$f":"'15_16ans'!B27","v":136},{"$f":"'15_16ans'!C27","v":0},{"$f":"'15_16ans'!D27","v":0},{"$f":"'15_16ans'!E27","v":0},{"$f":"'15_16ans'!F27","v":0},{"$f":"'15_16ans'!G27","v":0},{"$f":"'15_16ans'!H27","v":0},{"$f":"'15_16ans'!I27","v":0}]
[{"$f":"'15_16ans'!A28","v":0},{"$f":"'15_16ans'!B28","v":137},{"$f":"'15_16ans'!C28","v":0},{"$f":"'15_16ans'!D28","v":0},{"$f":"'15_16ans'!E28","v":0},{"$f":"'15_16ans'!F28","v":0},{"$f":"'15_16ans'!G28","v":0},{"$f":"'15_16ans'!H28","v":0},{"$f":"'15_16ans'!I28","v":0}]
[{"$f":"'15_16ans'!A29","v":0},{"$f":"'15_16ans'!B29","v":138},{"$f":"'15_16ans'!C29","v":0},{"$f":"'15_16ans'!D29","v":0},{"$f":"'15_16ans'!E29","v":0},{"$f":"'15_16ans'!F29","v":0},{"$f":"'15_16ans'!G29","v":0},{"$f":"'15_16ans'!H29","v":0},{"$f":"'15_16ans'!I29","v":0}]
[{"$f":"'15_16ans'!A30","v":0},{"$f":"'15_16ans'!B30","v":139},{"$f":"'15_16ans'!C30","v":0},{"$f":"'15_16ans'!D30","v":0},{"$f":"'15_16ans'!E30","v":0},{"$f":"'15_16ans'!F30","v":0},{"$f":"'15_16ans'!G30","v":0},{"$f":"'15_16ans'!H30","v":0},{"$f":"'15_16ans'!I30","v":0}]
[{"$f":"'15_16ans'!A31","v":0},{"$f":"'15_16ans'!B31","v":0},{"$f":"'15_16ans'!C31","v":0},{"$f":"'15_16ans'!D31","v":0},{"$f":"'15_16ans'!E31","v":0},{"$f":"'15_16ans'!F31","v":0},{"$f":"'15_16ans'!G31","v":0},{"$f":"'15_16ans'!H31","v":0},{"$f":"'15_16ans'!I31","v":0}]
[{"$f":"'15_16ans'!A32","v":0},{"$f":"'15_16ans'!B32","v":0},{"$f":"'15_16ans'!C32","v":0},{"$f":"'15_16ans'!D32","v":0},{"$f":"'15_16ans'!E32","v":0},{"$f":"'15_16ans'!F32","v":0},{"$f":"'15_16ans'!G32","v":0},{"$f":"'15_16ans'!H32","v":0},{"$f":"'15_16ans'!I32","v":0}]
[]
[]
[]
[null,null,{"$f":"'13_14ans'!A6","v":0},{"$f":"'13_14ans'!A7","v":""}]
[null,null,{"$f":"'13_14ans'!B8","v":0},{"$f":"'13_14ans'!C8","v":0}]
[{"$f":"'13_14ans'!A9","v":"13  à 14 ans"},null,{"$f":"'13_14ans'!B9","v":0},{"$f":"'13_14ans'!C9","v":0}]
["Place","Doss","Nom Prenom","Club","Sexe","Cat","Ecart","Dep","Fed"]
[{"$f":"'13_14ans'!A11","v":0},{"$f":"'13_14ans'!B11","v":140},{"$f":"'13_14ans'!C11","v":0},{"$f":"'13_14ans'!D11","v":0},{"$f":"'13_14ans'!E11","v":0},{"$f":"'13_14ans'!F11","v":0},{"$f":"'13_14ans'!G11","v":0},{"$f":"'13_14ans'!H11","v":0},{"$f":"'13_14ans'!I11","v":0}]
[{"$f":"'13_14ans'!A12","v":0},{"$f":"'13_14ans'!B12","v":141},{"$f":"'13_14ans'!C12","v":0},{"$f":"'13_14ans'!D12","v":0},{"$f":"'13_14ans'!E12","v":0},{"$f":"'13_14ans'!F12","v":0},{"$f":"'13_14ans'!G12","v":0},{"$f":"'13_14ans'!H12","v":0},{"$f":"'13_14ans'!I12","v":0}]
[{"$f":"'13_14ans'!A13","v":0},{"$f":"'13_14ans'!B13","v":142},{"$f":"'13_14ans'!C13","v":0},{"$f":"'13_14ans'!D13","v":0},{"$f":"'13_14ans'!E13","v":0},{"$f":"'13_14ans'!F13","v":0},{"$f":"'13_14ans'!G13","v":0},{"$f":"'13_14ans'!H13","v":0},{"$f":"'13_14ans'!I13","v":0}]
[{"$f":"'13_14ans'!A14","v":0},{"$f":"'13_14ans'!B14","v":143},{"$f":"'13_14ans'!C14","v":0},{"$f":"'13_14ans'!D14","v":0},{"$f":"'13_14ans'!E14","v":0},{"$f":"'13_14ans'!F14","v":0},{"$f":"'13_14ans'!G14","v":0},{"$f":"'13_14ans'!H14","v":0},{"$f":"'13_14ans'!I14","v":0}]
[{"$f":"'13_14ans'!A15","v":0},{"$f":"'13_14ans'!B15","v":144},{"$f":"'13_14ans'!C15","v":0},{"$f":"'13_14ans'!D15","v":0},{"$f":"'13_14ans'!E15","v":0},{"$f":"'13_14ans'!F15","v":0},{"$f":"'13_14ans'!G15","v":0},{"$f":"'13_14ans'!H15","v":0},{"$f":"'13_14ans'!I15","v":0}]
[{"$f":"'13_14ans'!A16","v":0},{"$f":"'13_14ans'!B16","v":145},{"$f":"'13_14ans'!C16","v":0},{"$f":"'13_14ans'!D16","v":0},{"$f":"'13_14ans'!E16","v":0},{"$f":"'13_14ans'!F16","v":0},{"$f":"'13_14ans'!G16","v":0},{"$f":"'13_14ans'!H16","v":0},{"$f":"'13_14ans'!I16","v":0}]
[{"$f":"'13_14ans'!A17","v":0},{"$f":"'13_14ans'!B17","v":146},{"$f":"'13_14ans'!C17","v":0},{"$f":"'13_14ans'!D17","v":0},{"$f":"'13_14ans'!E17","v":0},{"$f":"'13_14ans'!F17","v":0},{"$f":"'13_14ans'!G17","v":0},{"$f":"'13_14ans'!H17","v":0},{"$f":"'13_14ans'!I17","v":0}]
[{"$f":"'13_14ans'!A18","v":0},{"$f":"'13_14ans'!B18","v":147},{"$f":"'13_14ans'!C18","v":0},{"$f":"'13_14ans'!D18","v":0},{"$f":"'13_14ans'!E18","v":0},{"$f":"'13_14ans'!F18","v":0},{"$f":"'13_14ans'!G18","v":0},{"$f":"'13_14ans'!H18","v":0},{"$f":"'13_14ans'!I18","v":0}]
[{"$f":"'13_14ans'!A19","v":0},{"$f":"'13_14ans'!B19","v":148},{"$f":"'13_14ans'!C19","v":0},{"$f":"'13_14ans'!D19","v":0},{"$f":"'13_14ans'!E19","v":0},{"$f":"'13_14ans'!F19","v":0},{"$f":"'13_14ans'!G19","v":0},{"$f":"'13_14ans'!H19","v":0},{"$f":"'13_14ans'!I19","v":0}]
[{"$f":"'13_14ans'!A20","v":0},{"$f":"'13_14ans'!B20","v":149},{"$f":"'13_14ans'!C20","v":0},{"$f":"'13_14ans'!D20","v":0},{"$f":"'13_14ans'!E20","v":0},{"$f":"'13_14ans'!F20","v":0},{"$f":"'13_14ans'!G20","v":0},{"$f":"'13_14ans'!H20","v":0},{"$f":"'13_14ans'!I20","v":0}]
[{"$f":"'13_14ans'!A21","v":0},{"$f":"'13_14ans'!B21","v":150},{"$f":"'13_14ans'!C21","v":0},{"$f":"'13_14ans'!D21","v":0},{"$f":"'13_14ans'!E21","v":0},{"$f":"'13_14ans'!F21","v":0},{"$f":"'13_14ans'!G21","v":0},{"$f":"'13_14ans'!H21","v":0},{"$f":"'13_14ans'!I21","v":0}]
[{"$f":"'13_14ans'!A22","v":0},{"$f":"'13_14ans'!B22","v":0},{"$f":"'13_14ans'!C22","v":0},{"$f":"'13_14ans'!D22","v":0},{"$f":"'13_14ans'!E22","v":0},{"$f":"'13_14ans'!F22","v":0},{"$f":"'13_14ans'!G22","v":0},{"$f":"'13_14ans'!H22","v":0},{"$f":"'13_14ans'!I22","v":0}]
[{"$f":"'13_14ans'!A23","v":0},{"$f":"'13_14ans'!B23","v":0},{"$f":"'13_14ans'!C23","v":0},{"$f":"'13_14ans'!D23","v":0},{"$f":"'13_14ans'!E23","v":0},{"$f":"'13_14ans'!F23","v":0},{"$f":"'13_14ans'!G23","v":0},{"$f":"'13_14ans'!H23","v":0},{"$f":"'13_14ans'!I23","v":0}]
[{"$f":"'13_14ans'!A24","v":0},{"$f":"'13_14ans'!B24","v":0},{"$f":"'13_14ans'!C24","v":0},{"$f":"'13_14ans'!D24","v":0},{"$f":"'13_14ans'!E24","v":0},{"$f":"'13_14ans'!F24","v":0},{"$f":"'13_14ans'!G24","v":0},{"$f":"'13_14ans'!H24","v":0},{"$f":"'13_14ans'!I24","v":0}]
[{"$f":"'13_14ans'!A25","v":0},{"$f":"'13_14ans'!B25","v":0},{"$f":"'13_14ans'!C25","v":0},{"$f":"'13_14ans'!D25","v":0},{"$f":"'13_14ans'!E25","v":0},{"$f":"'13_14ans'!F25","v":0},{"$f":"'13_14ans'!G25","v":0},{"$f":"'13_14ans'!H25","v":0},{"$f":"'13_14ans'!I25","v":0}]
[{"$f":"'13_14ans'!A26","v":0},{"$f":"'13_14ans'!B26","v":0},{"$f":"'13_14ans'!C26","v":0},{"$f":"'13_14ans'!D26","v":0},{"$f":"'13_14ans'!E26","v":0},{"$f":"'13_14ans'!F26","v":0},{"$f":"'13_14ans'!G26","v":0},{"$f":"'13_14ans'!H26","v":0},{"$f":"'13_14ans'!I26","v":0}]
[{"$f":"'13_14ans'!A27","v":0},{"$f":"'13_14ans'!B27","v":0},{"$f":"'13_14ans'!C27","v":0},{"$f":"'13_14ans'!D27","v":0},{"$f":"'13_14ans'!E27","v":0},{"$f":"'13_14ans'!F27","v":0},{"$f":"'13_14ans'!G27","v":0},{"$f":"'13_14ans'!H27","v":0},{"$f":"'13_14ans'!I27","v":0}]
[{"$f":"'13_14ans'!A28","v":0},{"$f":"'13_14ans'!B28","v":0},{"$f":"'13_14ans'!C28","v":0},{"$f":"'13_14ans'!D28","v":0},{"$f":"'13_14ans'!E28","v":0},{"$f":"'13_14ans'!F28","v":0},{"$f":"'13_14ans'!G28","v":0},{"$f":"'13_14ans'!H28","v":0},{"$f":"'13_14ans'!I28","v":0}]
[{"$f":"'13_14ans'!A29","v":0},{"$f":"'13_14ans'!B29","v":0},{"$f":"'13_14ans'!C29","v":0},{"$f":"'13_14ans'!D29","v":0},{"$f":"'13_14ans'!E29","v":0},{"$f":"'13_14ans'!F29","v":0},{"$f":"'13_14ans'!G29","v":0},{"$f":"'13_14ans'!H29","v":0},{"$f":"'13_14ans'!I29","v":0}]
[{"$f":"'13_14ans'!A30","v":0},{"$f":"'13_14ans'!B30","v":0},{"$f":"'13_14ans'!C30","v":0},{"$f":"'13_14ans'!D30","v":0},{"$f":"'13_14ans'!E30","v":0},{"$f":"'13_14ans'!F30","v":0},{"$f":"'13_14ans'!G30","v":0},{"$f":"'13_14ans'!H30","v":0},{"$f":"'13_14ans'!I30","v":0}]
[{"$f":"'13_14ans'!A31","v":0},{"$f":"'13_14ans'!B31","v":0},{"$f":"'13_14ans'!C31","v":0},{"$f":"'13_14ans'!D31","v":0},{"$f":"'13_14ans'!E31","v":0},{"$f":"'13_14ans'!F31","v":0},{"$f":"'13_14ans'!G31","v":0},{"$f":"'13_14ans'!H31","v":0},{"$f":"'13_14ans'!I31","v":0}]
[{"$f":"'13_14ans'!A32","v":0},{"$f":"'13_14ans'!B32","v":0},{"$f":"'13_14ans'!C32","v":0},{"$f":"'13_14ans'!D32","v":0},{"$f":"'13_14ans'!E32","v":0},{"$f":"'13_14ans'!F32","v":0},{"$f":"'13_14ans'!G32","v":0},{"$f":"'13_14ans'!H32","v":0},{"$f":"'13_14ans'!I32","v":0}]
[{"$f":"'13_14ans'!A33","v":0},{"$f":"'13_14ans'!B33","v":0},{"$f":"'13_14ans'!C33","v":0},{"$f":"'13_14ans'!D33","v":0},{"$f":"'13_14ans'!E33","v":0},{"$f":"'13_14ans'!F33","v":0},{"$f":"'13_14ans'!G33","v":0},{"$f":"'13_14ans'!H33","v":0},{"$f":"'13_14ans'!I33","v":0}]
[{"$f":"'13_14ans'!A34","v":0},{"$f":"'13_14ans'!B34","v":0},{"$f":"'13_14ans'!C34","v":0},{"$f":"'13_14ans'!D34","v":0},{"$f":"'13_14ans'!E34","v":0},{"$f":"'13_14ans'!F34","v":0},{"$f":"'13_14ans'!G34","v":0},{"$f":"'13_14ans'!H34","v":0},{"$f":"'13_14ans'!I34","v":0}]
[{"$f":"'13_14ans'!A35","v":0},{"$f":"'13_14ans'!B35","v":0},{"$f":"'13_14ans'!C35","v":0},{"$f":"'13_14ans'!D35","v":0},{"$f":"'13_14ans'!E35","v":0},{"$f":"'13_14ans'!F35","v":0},{"$f":"'13_14ans'!G35","v":0},{"$f":"'13_14ans'!H35","v":0},{"$f":"'13_14ans'!I35","v":0}]
[{"$f":"'13_14ans'!A36","v":0},{"$f":"'13_14ans'!B36","v":0},{"$f":"'13_14ans'!C36","v":0},{"$f":"'13_14ans'!D36","v":0},{"$f":"'13_14ans'!E36","v":0},{"$f":"'13_14ans'!F36","v":0},{"$f":"'13_14ans'!G36","v":0},{"$f":"'13_14ans'!H36","v":0},{"$f":"'13_14ans'!I36","v":0}]
[{"$f":"'13_14ans'!A37","v":0},{"$f":"'13_14ans'!B37","v":0},{"$f":"'13_14ans'!C37","v":0},{"$f":"'13_14ans'!D37","v":0},{"$f":"'13_14ans'!E37","v":0},{"$f":"'13_14ans'!F37","v":0},{"$f":"'13_14ans'!G37","v":0},{"$f":"'13_14ans'!H37","v":0},{"$f":"'13_14ans'!I37","v":0}]
[{"$f":"'13_14ans'!A38","v":0},{"$f":"'13_14ans'!B38","v":0},{"$f":"'13_14ans'!C38","v":0},{"$f":"'13_14ans'!D38","v":0},{"$f":"'13_14ans'!E38","v":0},{"$f":"'13_14ans'!F38","v":0},{"$f":"'13_14ans'!G38","v":0},{"$f":"'13_14ans'!H38","v":0},{"$f":"'13_14ans'!I38","v":0}]
[{"$f":"'13_14ans'!A39","v":0},{"$f":"'13_14ans'!B39","v":0},{"$f":"'13_14ans'!C39","v":0},{"$f":"'13_14ans'!D39","v":0},{"$f":"'13_14ans'!E39","v":0},{"$f":"'13_14ans'!F39","v":0},{"$f":"'13_14ans'!G39","v":0},{"$f":"'13_14ans'!H39","v":0},{"$f":"'13_14ans'!I39","v":0}]
[{"$f":"'13_14ans'!A40","v":0},{"$f":"'13_14ans'!B40","v":0},{"$f":"'13_14ans'!C40","v":0},{"$f":"'13_14ans'!D40","v":0},{"$f":"'13_14ans'!E40","v":0},{"$f":"'13_14ans'!F40","v":0},{"$f":"'13_14ans'!G40","v":0},{"$f":"'13_14ans'!H40","v":0},{"$f":"'13_14ans'!I40","v":0}]
[{"$f":"'13_14ans'!A41","v":0},{"$f":"'13_14ans'!B41","v":0},{"$f":"'13_14ans'!C41","v":0},{"$f":"'13_14ans'!D41","v":0},{"$f":"'13_14ans'!E41","v":0},{"$f":"'13_14ans'!F41","v":0},{"$f":"'13_14ans'!G41","v":0},{"$f":"'13_14ans'!H41","v":0},{"$f":"'13_14ans'!I41","v":0}]
[{"$f":"'13_14ans'!A42","v":0},{"$f":"'13_14ans'!B42","v":0},{"$f":"'13_14ans'!C42","v":0},{"$f":"'13_14ans'!D42","v":0},{"$f":"'13_14ans'!E42","v":0},{"$f":"'13_14ans'!F42","v":0},{"$f":"'13_14ans'!G42","v":0},{"$f":"'13_14ans'!H42","v":0},{"$f":"'13_14ans'!I42","v":0}]
[{"$f":"'13_14ans'!A43","v":0},{"$f":"'13_14ans'!B43","v":0},{"$f":"'13_14ans'!C43","v":0},{"$f":"'13_14ans'!D43","v":0},{"$f":"'13_14ans'!E43","v":0},{"$f":"'13_14ans'!F43","v":0},{"$f":"'13_14ans'!G43","v":0},{"$f":"'13_14ans'!H43","v":0},{"$f":"'13_14ans'!I43","v":0}]
[]
[]
[]
[null,null,{"$f":"'11_12ans'!A6","v":0},{"$f":"'11_12ans'!A7","v":""}]
[null,null,{"$f":"'11_12ans'!B8","v":0},{"$f":"'11_12ans'!C8","v":0}]
[{"$f":"'11_12ans'!A9","v":"11-12ans"},null,{"$f":"'11_12ans'!B9","v":0},{"$f":"'11_12ans'!C9","v":0}]
["Place","Doss","Nom Prenom","Club","Sexe","Cat","Ecart","Dep","Fed"]
[null,{"$f":"'11_12ans'!B11","v":100},{"$f":"'11_12ans'!C11","v":0},{"$f":"'11_12ans'!D11","v":0},{"$f":"'11_12ans'!E11","v":0},{"$f":"'11_12ans'!F11","v":0},{"$f":"'11_12ans'!G11","v":0},{"$f":"'11_12ans'!H11","v":0},{"$f":"'11_12ans'!I11","v":0}]
[{"$f":"'11_12ans'!A12","v":0},{"$f":"'11_12ans'!B12","v":101},{"$f":"'11_12ans'!C12","v":0},{"$f":"'11_12ans'!D12","v":0},{"$f":"'11_12ans'!E12","v":0},{"$f":"'11_12ans'!F12","v":0},{"$f":"'11_12ans'!G12","v":0},{"$f":"'11_12ans'!H12","v":0},{"$f":"'11_12ans'!I12","v":0}]
[{"$f":"'11_12ans'!A13","v":0},{"$f":"'11_12ans'!B13","v":102},{"$f":"'11_12ans'!C13","v":0},{"$f":"'11_12ans'!D13","v":0},{"$f":"'11_12ans'!E13","v":0},{"$f":"'11_12ans'!F13","v":0},{"$f":"'11_12ans'!G13","v":0},{"$f":"'11_12ans'!H13","v":0},{"$f":"'11_12ans'!I13","v":0}]
[{"$f":"'11_12ans'!A14","v":0},{"$f":"'11_12ans'!B14","v":103},{"$f":"'11_12ans'!C14","v":0},{"$f":"'11_12ans'!D14","v":0},{"$f":"'11_12ans'!E14","v":0},{"$f":"'11_12ans'!F14","v":0},{"$f":"'11_12ans'!G14","v":0},{"$f":"'11_12ans'!H14","v":0},{"$f":"'11_12ans'!I14","v":0}]
[{"$f":"'11_12ans'!A15","v":0},{"$f":"'11_12ans'!B15","v":104},{"$f":"'11_12ans'!C15","v":0},{"$f":"'11_12ans'!D15","v":0},{"$f":"'11_12ans'!E15","v":0},{"$f":"'11_12ans'!F15","v":0},{"$f":"'11_12ans'!G15","v":0},{"$f":"'11_12ans'!H15","v":0},{"$f":"'11_12ans'!I15","v":0}]
[{"$f":"'11_12ans'!A16","v":0},{"$f":"'11_12ans'!B16","v":105},{"$f":"'11_12ans'!C16","v":0},{"$f":"'11_12ans'!D16","v":0},{"$f":"'11_12ans'!E16","v":0},{"$f":"'11_12ans'!F16","v":0},{"$f":"'11_12ans'!G16","v":0},{"$f":"'11_12ans'!H16","v":0},{"$f":"'11_12ans'!I16","v":0}]
[{"$f":"'11_12ans'!A17","v":0},{"$f":"'11_12ans'!B17","v":106},{"$f":"'11_12ans'!C17","v":0},{"$f":"'11_12ans'!D17","v":0},{"$f":"'11_12ans'!E17","v":0},{"$f":"'11_12ans'!F17","v":0},{"$f":"'11_12ans'!G17","v":0},{"$f":"'11_12ans'!H17","v":0},{"$f":"'11_12ans'!I17","v":0}]
[{"$f":"'11_12ans'!A18","v":0},{"$f":"'11_12ans'!B18","v":107},{"$f":"'11_12ans'!C18","v":0},{"$f":"'11_12ans'!D18","v":0},{"$f":"'11_12ans'!E18","v":0},{"$f":"'11_12ans'!F18","v":0},{"$f":"'11_12ans'!G18","v":0},{"$f":"'11_12ans'!H18","v":0},{"$f":"'11_12ans'!I18","v":0}]
[{"$f":"'11_12ans'!A19","v":0},{"$f":"'11_12ans'!B19","v":108},{"$f":"'11_12ans'!C19","v":0},{"$f":"'11_12ans'!D19","v":0},{"$f":"'11_12ans'!E19","v":0},{"$f":"'11_12ans'!F19","v":0},{"$f":"'11_12ans'!G19","v":0},{"$f":"'11_12ans'!H19","v":0},{"$f":"'11_12ans'!I19","v":0}]
[{"$f":"'11_12ans'!A20","v":0},{"$f":"'11_12ans'!B20","v":109},{"$f":"'11_12ans'!C20","v":0},{"$f":"'11_12ans'!D20","v":0},{"$f":"'11_12ans'!E20","v":0},{"$f":"'11_12ans'!F20","v":0},{"$f":"'11_12ans'!G20","v":0},{"$f":"'11_12ans'!H20","v":0},{"$f":"'11_12ans'!I20","v":0}]
[{"$f":"'11_12ans'!A21","v":0},{"$f":"'11_12ans'!B21","v":110},{"$f":"'11_12ans'!C21","v":0},{"$f":"'11_12ans'!D21","v":0},{"$f":"'11_12ans'!E21","v":0},{"$f":"'11_12ans'!F21","v":0},{"$f":"'11_12ans'!G21","v":0},{"$f":"'11_12ans'!H21","v":0},{"$f":"'11_12ans'!I21","v":0}]
[{"$f":"'11_12ans'!A22","v":0},{"$f":"'11_12ans'!B22","v":0},{"$f":"'11_12ans'!C22","v":0},{"$f":"'11_12ans'!D22","v":0},{"$f":"'11_12ans'!E22","v":0},{"$f":"'11_12ans'!F22","v":0},{"$f":"'11_12ans'!G22","v":0},{"$f":"'11_12ans'!H22","v":0},{"$f":"'11_12ans'!I22","v":0}]
[{"$f":"'11_12ans'!A23","v":0},{"$f":"'11_12ans'!B23","v":0},{"$f":"'11_12ans'!C23","v":0},{"$f":"'11_12ans'!D23","v":0},{"$f":"'11_12ans'!E23","v":0},{"$f":"'11_12ans'!F23","v":0},{"$f":"'11_12ans'!G23","v":0},{"$f":"'11_12ans'!H23","v":0},{"$f":"'11_12ans'!I23","v":0}]
[{"$f":"'11_12ans'!A24","v":0},{"$f":"'11_12ans'!B24","v":0},{"$f":"'11_12ans'!C24","v":0},{"$f":"'11_12ans'!D24","v":0},{"$f":"'11_12ans'!E24","v":0},{"$f":"'11_12ans'!F24","v":0},{"$f":"'11_12ans'!G24","v":0},{"$f":"'11_12ans'!H24","v":0},{"$f":"'11_12ans'!I24","v":0}]
[{"$f":"'11_12ans'!A25","v":0},{"$f":"'11_12ans'!B25","v":0},{"$f":"'11_12ans'!C25","v":0},{"$f":"'11_12ans'!D25","v":0},{"$f":"'11_12ans'!E25","v":0},{"$f":"'11_12ans'!F25","v":0},{"$f":"'11_12ans'!G25","v":0},{"$f":"'11_12ans'!H25","v":0},{"$f":"'11_12ans'!I25","v":0}]
[{"$f":"'11_12ans'!A26","v":0},{"$f":"'11_12ans'!B26","v":0},{"$f":"'11_12ans'!C26","v":0},{"$f":"'11_12ans'!D26","v":0},{"$f":"'11_12ans'!E26","v":0},{"$f":"'11_12ans'!F26","v":0},{"$f":"'11_12ans'!G26","v":0},{"$f":"'11_12ans'!H26","v":0},{"$f":"'11_12ans'!I26","v":0}]
[{"$f":"'11_12ans'!A27","v":0},{"$f":"'11_12ans'!B27","v":0},{"$f":"'11_12ans'!C27","v":0},{"$f":"'11_12ans'!D27","v":0},{"$f":"'11_12ans'!E27","v":0},{"$f":"'11_12ans'!F27","v":0},{"$f":"'11_12ans'!G27","v":0},{"$f":"'11_12ans'!H27","v":0},{"$f":"'11_12ans'!I27","v":0}]
[{"$f":"'11_12ans'!A28","v":0},{"$f":"'11_12ans'!B28","v":0},{"$f":"'11_12ans'!C28","v":0},{"$f":"'11_12ans'!D28","v":0},{"$f":"'11_12ans'!E28","v":0},{"$f":"'11_12ans'!F28","v":0},{"$f":"'11_12ans'!G28","v":0},{"$f":"'11_12ans'!H28","v":0},{"$f":"'11_12ans'!I28","v":0}]
[{"$f":"'11_12ans'!A29","v":0},{"$f":"'11_12ans'!B29","v":0},{"$f":"'11_12ans'!C29","v":0},{"$f":"'11_12ans'!D29","v":0},{"$f":"'11_12ans'!E29","v":0},{"$f":"'11_12ans'!F29","v":0},{"$f":"'11_12ans'!G29","v":0},{"$f":"'11_12ans'!H29","v":0},{"$f":"'11_12ans'!I29","v":0}]
[{"$f":"'11_12ans'!A30","v":0},{"$f":"'11_12ans'!B30","v":0},{"$f":"'11_12ans'!C30","v":0},{"$f":"'11_12ans'!D30","v":0},{"$f":"'11_12ans'!E30","v":0},{"$f":"'11_12ans'!F30","v":0},{"$f":"'11_12ans'!G30","v":0},{"$f":"'11_12ans'!H30","v":0},{"$f":"'11_12ans'!I30","v":0}]
[{"$f":"'11_12ans'!A31","v":0},{"$f":"'11_12ans'!B31","v":0},{"$f":"'11_12ans'!C31","v":0},{"$f":"'11_12ans'!D31","v":0},{"$f":"'11_12ans'!E31","v":0},{"$f":"'11_12ans'!F31","v":0},{"$f":"'11_12ans'!G31","v":0},{"$f":"'11_12ans'!H31","v":0},{"$f":"'11_12ans'!I31","v":0}]
[{"$f":"'11_12ans'!A32","v":0},{"$f":"'11_12ans'!B32","v":0},{"$f":"'11_12ans'!C32","v":0},{"$f":"'11_12ans'!D32","v":0},{"$f":"'11_12ans'!E32","v":0},{"$f":"'11_12ans'!F32","v":0},{"$f":"'11_12ans'!G32","v":0},{"$f":"'11_12ans'!H32","v":0},{"$f":"'11_12ans'!I32","v":0}]
[{"$f":"'11_12ans'!A33","v":0},{"$f":"'11_12ans'!B33","v":0},{"$f":"'11_12ans'!C33","v":0},{"$f":"'11_12ans'!D33","v":0},{"$f":"'11_12ans'!E33","v":0},{"$f":"'11_12ans'!F33","v":0},{"$f":"'11_12ans'!G33","v":0},{"$f":"'11_12ans'!H33","v":0},{"$f":"'11_12ans'!I33","v":0}]
[{"$f":"'11_12ans'!A34","v":0},{"$f":"'11_12ans'!B34","v":0},{"$f":"'11_12ans'!C34","v":0},{"$f":"'11_12ans'!D34","v":0},{"$f":"'11_12ans'!E34","v":0},{"$f":"'11_12ans'!F34","v":0},{"$f":"'11_12ans'!G34","v":0},{"$f":"'11_12ans'!H34","v":0},{"$f":"'11_12ans'!I34","v":0}]
[{"$f":"'11_12ans'!A35","v":0},{"$f":"'11_12ans'!B35","v":0},{"$f":"'11_12ans'!C35","v":0},{"$f":"'11_12ans'!D35","v":0},{"$f":"'11_12ans'!E35","v":0},{"$f":"'11_12ans'!F35","v":0},{"$f":"'11_12ans'!G35","v":0},{"$f":"'11_12ans'!H35","v":0},{"$f":"'11_12ans'!I35","v":0}]
[{"$f":"'11_12ans'!A36","v":0},{"$f":"'11_12ans'!B36","v":0},{"$f":"'11_12ans'!C36","v":0},{"$f":"'11_12ans'!D36","v":0},{"$f":"'11_12ans'!E36","v":0},{"$f":"'11_12ans'!F36","v":0},{"$f":"'11_12ans'!G36","v":0},{"$f":"'11_12ans'!H36","v":0},{"$f":"'11_12ans'!I36","v":0}]
[{"$f":"'11_12ans'!A37","v":0},{"$f":"'11_12ans'!B37","v":0},{"$f":"'11_12ans'!C37","v":0},{"$f":"'11_12ans'!D37","v":0},{"$f":"'11_12ans'!E37","v":0},{"$f":"'11_12ans'!F37","v":0},{"$f":"'11_12ans'!G37","v":0},{"$f":"'11_12ans'!H37","v":0},{"$f":"'11_12ans'!I37","v":0}]
[{"$f":"'11_12ans'!A39","v":0},{"$f":"'11_12ans'!B39","v":0},{"$f":"'11_12ans'!C39","v":0},{"$f":"'11_12ans'!D39","v":0},{"$f":"'11_12ans'!E39","v":0},{"$f":"'11_12ans'!F39","v":0},{"$f":"'11_12ans'!G39","v":0},{"$f":"'11_12ans'!H39","v":0},{"$f":"'11_12ans'!I39","v":0}]
[{"$f":"'11_12ans'!A40","v":0},{"$f":"'11_12ans'!B40","v":0},{"$f":"'11_12ans'!C40","v":0},{"$f":"'11_12ans'!D40","v":0},{"$f":"'11_12ans'!E40","v":0},{"$f":"'11_12ans'!F40","v":0},{"$f":"'11_12ans'!G40","v":0},{"$f":"'11_12ans'!H40","v":0},{"$f":"'11_12ans'!I40","v":0}]
[{"$f":"'11_12ans'!A41","v":0},{"$f":"'11_12ans'!B41","v":0},{"$f":"'11_12ans'!C41","v":0},{"$f":"'11_12ans'!D41","v":0},{"$f":"'11_12ans'!E41","v":0},{"$f":"'11_12ans'!F41","v":0},{"$f":"'11_12ans'!G41","v":0},{"$f":"'11_12ans'!H41","v":0},{"$f":"'11_12ans'!I41","v":0}]
[{"$f":"'11_12ans'!A43","v":0},{"$f":"'11_12ans'!B43","v":0},{"$f":"'11_12ans'!C43","v":0},{"$f":"'11_12ans'!D43","v":0},{"$f":"'11_12ans'!E43","v":0},{"$f":"'11_12ans'!F43","v":0},{"$f":"'11_12ans'!G43","v":0},{"$f":"'11_12ans'!H43","v":0},{"$f":"'11_12ans'!I43","v":0}]
[]
[]
[]
[null,null,{"$f":"'9_10ans'!A6","v":0},{"$f":"'9_10ans'!A7","v":""}]
[null,null,{"$f":"'9_10ans'!B8","v":0},{"$f":"'9_10ans'!C8","v":0}]
[{"$f":"'9_10ans'!A9","v":"9 à 10 ans"},null,{"$f":"'9_10ans'!B9","v":0},{"$f":"'9_10ans'!C9","v":0}]
["Place","Doss","Nom Prenom","Club","Sexe","Cat","Ecart","Dep","Fed"]
[{"$f":"'9_10ans'!A11","v":0},{"$f":"'9_10ans'!B11","v":1},{"$f":"'9_10ans'!C11","v":0},{"$f":"'9_10ans'!D11","v":0},{"$f":"'9_10ans'!E11","v":0},{"$f":"'9_10ans'!F11","v":0},{"$f":"'9_10ans'!G11","v":0},{"$f":"'9_10ans'!H11","v":0}]
[{"$f":"'9_10ans'!A12","v":0},{"$f":"'9_10ans'!B12","v":2},{"$f":"'9_10ans'!C12","v":0},{"$f":"'9_10ans'!D12","v":0},{"$f":"'9_10ans'!E12","v":0},{"$f":"'9_10ans'!F12","v":0},{"$f":"'9_10ans'!G12","v":0},{"$f":"'9_10ans'!H12","v":0},{"$f":"'9_10ans'!I12","v":0}]
[{"$f":"'9_10ans'!A13","v":0},{"$f":"'9_10ans'!B13","v":3},{"$f":"'9_10ans'!C13","v":0},{"$f":"'9_10ans'!D13","v":0},{"$f":"'9_10ans'!E13","v":0},{"$f":"'9_10ans'!F13","v":0},{"$f":"'9_10ans'!G13","v":0},{"$f":"'9_10ans'!H13","v":0}]
[{"$f":"'9_10ans'!A14","v":0},{"$f":"'9_10ans'!B14","v":4},{"$f":"'9_10ans'!C14","v":0},{"$f":"'9_10ans'!D14","v":0},{"$f":"'9_10ans'!E14","v":0},{"$f":"'9_10ans'!F14","v":0},{"$f":"'9_10ans'!G14","v":0},{"$f":"'9_10ans'!H14","v":0}]
[{"$f":"'9_10ans'!A15","v":0},{"$f":"'9_10ans'!B15","v":5},{"$f":"'9_10ans'!C15","v":0},{"$f":"'9_10ans'!D15","v":0},{"$f":"'9_10ans'!E15","v":0},{"$f":"'9_10ans'!F15","v":0},{"$f":"'9_10ans'!G15","v":0},{"$f":"'9_10ans'!H15","v":0}]
[{"$f":"'9_10ans'!A16","v":0},{"$f":"'9_10ans'!B16","v":6},{"$f":"'9_10ans'!C16","v":0},{"$f":"'9_10ans'!D16","v":0},{"$f":"'9_10ans'!E16","v":0},{"$f":"'9_10ans'!F16","v":0},{"$f":"'9_10ans'!G16","v":0},{"$f":"'9_10ans'!H16","v":0},{"$f":"'9_10ans'!I16","v":0}]
[{"$f":"'9_10ans'!A17","v":0},{"$f":"'9_10ans'!B17","v":7},{"$f":"'9_10ans'!C17","v":0},{"$f":"'9_10ans'!D17","v":0},{"$f":"'9_10ans'!E17","v":0},{"$f":"'9_10ans'!F17","v":0},{"$f":"'9_10ans'!G17","v":0},{"$f":"'9_10ans'!H17","v":0},{"$f":"'9_10ans'!I17","v":0}]
[{"$f":"'9_10ans'!A18","v":0},{"$f":"'9_10ans'!B18","v":8},{"$f":"'9_10ans'!C18","v":0},{"$f":"'9_10ans'!D18","v":0},{"$f":"'9_10ans'!E18","v":0},{"$f":"'9_10ans'!F18","v":0},{"$f":"'9_10ans'!G18","v":0},{"$f":"'9_10ans'!H18","v":0},{"$f":"'9_10ans'!I18","v":0}]
[{"$f":"'9_10ans'!A19","v":0},{"$f":"'9_10ans'!B19","v":9},{"$f":"'9_10ans'!C19","v":0},{"$f":"'9_10ans'!D19","v":0},{"$f":"'9_10ans'!E19","v":0},{"$f":"'9_10ans'!F19","v":0},{"$f":"'9_10ans'!G19","v":0},{"$f":"'9_10ans'!H19","v":0},{"$f":"'9_10ans'!I19","v":0}]
[{"$f":"'9_10ans'!A20","v":0},{"$f":"'9_10ans'!B20","v":10},{"$f":"'9_10ans'!C20","v":0},{"$f":"'9_10ans'!D20","v":0},{"$f":"'9_10ans'!E20","v":0},{"$f":"'9_10ans'!F20","v":0},{"$f":"'9_10ans'!G20","v":0},{"$f":"'9_10ans'!H20","v":0},{"$f":"'9_10ans'!I20","v":0}]
[{"$f":"'9_10ans'!A21","v":0},{"$f":"'9_10ans'!B21","v":11},{"$f":"'9_10ans'!C21","v":0},{"$f":"'9_10ans'!D21","v":0},{"$f":"'9_10ans'!E21","v":0},{"$f":"'9_10ans'!F21","v":0},{"$f":"'9_10ans'!G21","v":0},{"$f":"'9_10ans'!H21","v":0},{"$f":"'9_10ans'!I21","v":0}]
[{"$f":"'9_10ans'!A22","v":0},{"$f":"'9_10ans'!B22","v":12},{"$f":"'9_10ans'!C22","v":0},{"$f":"'9_10ans'!D22","v":0},{"$f":"'9_10ans'!E22","v":0},{"$f":"'9_10ans'!F22","v":0},{"$f":"'9_10ans'!G22","v":0},{"$f":"'9_10ans'!H22","v":0},{"$f":"'9_10ans'!I22","v":0}]
[{"$f":"'9_10ans'!A23","v":0},{"$f":"'9_10ans'!B23","v":13},{"$f":"'9_10ans'!C23","v":0},{"$f":"'9_10ans'!D23","v":0},{"$f":"'9_10ans'!E23","v":0},{"$f":"'9_10ans'!F23","v":0},{"$f":"'9_10ans'!G23","v":0},{"$f":"'9_10ans'!H23","v":0},{"$f":"'9_10ans'!I23","v":0}]
[{"$f":"'9_10ans'!A24","v":0},{"$f":"'9_10ans'!B24","v":14},{"$f":"'9_10ans'!C24","v":0},{"$f":"'9_10ans'!D24","v":0},{"$f":"'9_10ans'!E24","v":0},{"$f":"'9_10ans'!F24","v":0},{"$f":"'9_10ans'!G24","v":0},{"$f":"'9_10ans'!H24","v":0},{"$f":"'9_10ans'!I24","v":0}]
[{"$f":"'9_10ans'!A25","v":0},{"$f":"'9_10ans'!B25","v":15},{"$f":"'9_10ans'!C25","v":0},{"$f":"'9_10ans'!D25","v":0},{"$f":"'9_10ans'!E25","v":0},{"$f":"'9_10ans'!F25","v":0},{"$f":"'9_10ans'!G25","v":0},{"$f":"'9_10ans'!H25","v":0},{"$f":"'9_10ans'!I25","v":0}]
[{"$f":"'9_10ans'!A26","v":0},{"$f":"'9_10ans'!B26","v":16},{"$f":"'9_10ans'!C26","v":0},{"$f":"'9_10ans'!D26","v":0},{"$f":"'9_10ans'!E26","v":0},{"$f":"'9_10ans'!F26","v":0},{"$f":"'9_10ans'!G26","v":0},{"$f":"'9_10ans'!H26","v":0},{"$f":"'9_10ans'!I26","v":0}]
[{"$f":"'9_10ans'!A27","v":0},{"$f":"'9_10ans'!B27","v":17},{"$f":"'9_10ans'!C27","v":0},{"$f":"'9_10ans'!D27","v":0},{"$f":"'9_10ans'!E27","v":0},{"$f":"'9_10ans'!F27","v":0},{"$f":"'9_10ans'!G27","v":0},{"$f":"'9_10ans'!H27","v":0},{"$f":"'9_10ans'!I27","v":0}]
[{"$f":"'9_10ans'!A28","v":0},{"$f":"'9_10ans'!B28","v":18},{"$f":"'9_10ans'!C28","v":0},{"$f":"'9_10ans'!D28","v":0},{"$f":"'9_10ans'!E28","v":0},{"$f":"'9_10ans'!F28","v":0},{"$f":"'9_10ans'!G28","v":0},{"$f":"'9_10ans'!H28","v":0},{"$f":"'9_10ans'!I28","v":0}]
[{"$f":"'9_10ans'!A29","v":0},{"$f":"'9_10ans'!B29","v":19},{"$f":"'9_10ans'!C29","v":0},{"$f":"'9_10ans'!D29","v":0},{"$f":"'9_10ans'!E29","v":0},{"$f":"'9_10ans'!F29","v":0},{"$f":"'9_10ans'!G29","v":0},{"$f":"'9_10ans'!H29","v":0},{"$f":"'9_10ans'!I29","v":0}]
[{"$f":"'9_10ans'!A30","v":0},{"$f":"'9_10ans'!B30","v":20},{"$f":"'9_10ans'!C30","v":0},{"$f":"'9_10ans'!D30","v":0},{"$f":"'9_10ans'!E30","v":0},{"$f":"'9_10ans'!F30","v":0},{"$f":"'9_10ans'!G30","v":0},{"$f":"'9_10ans'!H30","v":0},{"$f":"'9_10ans'!I30","v":0}]
[{"$f":"'9_10ans'!A31","v":0},{"$f":"'9_10ans'!B31","v":21},{"$f":"'9_10ans'!C31","v":0},{"$f":"'9_10ans'!D31","v":0},{"$f":"'9_10ans'!E31","v":0},{"$f":"'9_10ans'!F31","v":0},{"$f":"'9_10ans'!G31","v":0},{"$f":"'9_10ans'!H31","v":0},{"$f":"'9_10ans'!I31","v":0}]
[{"$f":"'9_10ans'!A32","v":0},{"$f":"'9_10ans'!B32","v":22},{"$f":"'9_10ans'!C32","v":0},{"$f":"'9_10ans'!D32","v":0},{"$f":"'9_10ans'!E32","v":0},{"$f":"'9_10ans'!F32","v":0},{"$f":"'9_10ans'!G32","v":0},{"$f":"'9_10ans'!H32","v":0},{"$f":"'9_10ans'!I32","v":0}]
[{"$f":"'9_10ans'!A33","v":0},{"$f":"'9_10ans'!B33","v":23},{"$f":"'9_10ans'!C33","v":0},{"$f":"'9_10ans'!D33","v":0},{"$f":"'9_10ans'!E33","v":0},{"$f":"'9_10ans'!F33","v":0},{"$f":"'9_10ans'!G33","v":0},{"$f":"'9_10ans'!H33","v":0},{"$f":"'9_10ans'!I33","v":0}]
[{"$f":"'9_10ans'!A34","v":0},{"$f":"'9_10ans'!B34","v":24},{"$f":"'9_10ans'!C34","v":0},{"$f":"'9_10ans'!D34","v":0},{"$f":"'9_10ans'!E34","v":0},{"$f":"'9_10ans'!F34","v":0},{"$f":"'9_10ans'!G34","v":0},{"$f":"'9_10ans'!H34","v":0},{"$f":"'9_10ans'!I34","v":0}]
[{"$f":"'9_10ans'!A35","v":0},{"$f":"'9_10ans'!B35","v":25},{"$f":"'9_10ans'!C35","v":0},{"$f":"'9_10ans'!D35","v":0},{"$f":"'9_10ans'!E35","v":0},{"$f":"'9_10ans'!F35","v":0},{"$f":"'9_10ans'!G35","v":0},{"$f":"'9_10ans'!H35","v":0},{"$f":"'9_10ans'!I35","v":0}]
[{"$f":"'9_10ans'!A36","v":0},{"$f":"'9_10ans'!B36","v":26},{"$f":"'9_10ans'!C36","v":0},{"$f":"'9_10ans'!D36","v":0},{"$f":"'9_10ans'!E36","v":0},{"$f":"'9_10ans'!F36","v":0},{"$f":"'9_10ans'!G36","v":0},{"$f":"'9_10ans'!H36","v":0},{"$f":"'9_10ans'!I36","v":0}]
[{"$f":"'9_10ans'!A37","v":0},{"$f":"'9_10ans'!B37","v":27},{"$f":"'9_10ans'!C37","v":0},{"$f":"'9_10ans'!D37","v":0},{"$f":"'9_10ans'!E37","v":0},{"$f":"'9_10ans'!F37","v":0},{"$f":"'9_10ans'!G37","v":0},{"$f":"'9_10ans'!H37","v":0},{"$f":"'9_10ans'!I37","v":0}]
[{"$f":"'9_10ans'!A38","v":0},{"$f":"'9_10ans'!B38","v":28},{"$f":"'9_10ans'!C38","v":0},{"$f":"'9_10ans'!D38","v":0},{"$f":"'9_10ans'!E38","v":0},{"$f":"'9_10ans'!F38","v":0},{"$f":"'9_10ans'!G38","v":0},{"$f":"'9_10ans'!H38","v":0},{"$f":"'9_10ans'!I38","v":0}]
[{"$f":"'9_10ans'!A39","v":0},{"$f":"'9_10ans'!B39","v":29},{"$f":"'9_10ans'!C39","v":0},{"$f":"'9_10ans'!D39","v":0},{"$f":"'9_10ans'!E39","v":0},{"$f":"'9_10ans'!F39","v":0},{"$f":"'9_10ans'!G39","v":0},{"$f":"'9_10ans'!H39","v":0},{"$f":"'9_10ans'!I39","v":0}]
[{"$f":"'9_10ans'!A40","v":0},{"$f":"'9_10ans'!B40","v":0},{"$f":"'9_10ans'!C40","v":0},{"$f":"'9_10ans'!D40","v":0},{"$f":"'9_10ans'!E40","v":0},{"$f":"'9_10ans'!F40","v":0},{"$f":"'9_10ans'!G40","v":0},{"$f":"'9_10ans'!H40","v":0},{"$f":"'9_10ans'!I40","v":0}]
[{"$f":"'9_10ans'!A42","v":0},{"$f":"'9_10ans'!B42","v":0},{"$f":"'9_10ans'!C42","v":0},{"$f":"'9_10ans'!D42","v":0},{"$f":"'9_10ans'!E42","v":0},{"$f":"'9_10ans'!F42","v":0},{"$f":"'9_10ans'!G42","v":0},{"$f":"'9_10ans'!H42","v":0},{"$f":"'9_10ans'!I42","v":0}]
[]
[]
[]
[null,null,{"$f":"'6_8ans'!A6","v":0},{"$f":"'6_8ans'!A7","v":""}]
[null,null,{"$f":"'6_8ans'!B8","v":0},{"$f":"'6_8ans'!C8","v":0}]
[{"$f":"'6_8ans'!A9","v":"6-8 ans"},null,{"$f":"'6_8ans'!B9","v":0},{"$f":"'6_8ans'!C9","v":0}]
[{"$f":"'6_8ans'!A10","v":"Place"},{"$f":"'6_8ans'!B10","v":"Doss"},{"$f":"'6_8ans'!C10","v":"Nom Prenom"},{"$f":"'6_8ans'!D10","v":"Club"},{"$f":"'6_8ans'!E10","v":"Sexe"},{"$f":"'6_8ans'!F10","v":"Cat"},{"$f":"'6_8ans'!G10","v":"Cat âge"},{"$f":"'6_8ans'!H10","v":"Dep"},{"$f":"'6_8ans'!I10","v":"Fed"}]
[{"$f":"'6_8ans'!A11","v":0},{"$f":"'6_8ans'!B11","v":50},{"$f":"'6_8ans'!C11","v":0},{"$f":"'6_8ans'!D11","v":0},{"$f":"'6_8ans'!E11","v":0},{"$f":"'6_8ans'!F11","v":0},{"$f":"'6_8ans'!G11","v":0},{"$f":"'6_8ans'!H11","v":0},{"$f":"'6_8ans'!I11","v":0}]
[{"$f":"'6_8ans'!A12","v":0},{"$f":"'6_8ans'!B12","v":51},{"$f":"'6_8ans'!C12","v":0},{"$f":"'6_8ans'!D12","v":0},{"$f":"'6_8ans'!E12","v":0},{"$f":"'6_8ans'!F12","v":0},{"$f":"'6_8ans'!G12","v":0},{"$f":"'6_8ans'!H12","v":0},{"$f":"'6_8ans'!I12","v":0}]
[{"$f":"'6_8ans'!A13","v":0},{"$f":"'6_8ans'!B13","v":52},{"$f":"'6_8ans'!C13","v":0},{"$f":"'6_8ans'!D13","v":0},{"$f":"'6_8ans'!E13","v":0},{"$f":"'6_8ans'!F13","v":0},{"$f":"'6_8ans'!G13","v":0},{"$f":"'6_8ans'!H13","v":0},{"$f":"'6_8ans'!I13","v":0}]
[{"$f":"'6_8ans'!A14","v":0},{"$f":"'6_8ans'!B14","v":53},{"$f":"'6_8ans'!C14","v":0},{"$f":"'6_8ans'!D14","v":0},{"$f":"'6_8ans'!E14","v":0},{"$f":"'6_8ans'!F14","v":0},{"$f":"'6_8ans'!G14","v":0},{"$f":"'6_8ans'!H14","v":0},{"$f":"'6_8ans'!I14","v":0}]
[{"$f":"'6_8ans'!A15","v":0},{"$f":"'6_8ans'!B15","v":54},{"$f":"'6_8ans'!C15","v":0},{"$f":"'6_8ans'!D15","v":0},{"$f":"'6_8ans'!E15","v":0},{"$f":"'6_8ans'!F15","v":0},{"$f":"'6_8ans'!G15","v":0},{"$f":"'6_8ans'!H15","v":0},{"$f":"'6_8ans'!I15","v":0}]
[{"$f":"'6_8ans'!A16","v":0},{"$f":"'6_8ans'!B16","v":55},{"$f":"'6_8ans'!C16","v":0},{"$f":"'6_8ans'!D16","v":0},{"$f":"'6_8ans'!E16","v":0},{"$f":"'6_8ans'!F16","v":0},{"$f":"'6_8ans'!G16","v":0},{"$f":"'6_8ans'!H16","v":0},{"$f":"'6_8ans'!I16","v":0}]
[{"$f":"'6_8ans'!A17","v":0},{"$f":"'6_8ans'!B17","v":56},{"$f":"'6_8ans'!C17","v":0},{"$f":"'6_8ans'!D17","v":0},{"$f":"'6_8ans'!E17","v":0},{"$f":"'6_8ans'!F17","v":0},{"$f":"'6_8ans'!G17","v":0},{"$f":"'6_8ans'!H17","v":0},{"$f":"'6_8ans'!I17","v":0}]
[{"$f":"'6_8ans'!A18","v":0},{"$f":"'6_8ans'!B18","v":57},{"$f":"'6_8ans'!C18","v":0},{"$f":"'6_8ans'!D18","v":0},{"$f":"'6_8ans'!E18","v":0},{"$f":"'6_8ans'!F18","v":0},{"$f":"'6_8ans'!G18","v":0},{"$f":"'6_8ans'!H18","v":0},{"$f":"'6_8ans'!I18","v":0}]
[{"$f":"'6_8ans'!A19","v":0},{"$f":"'6_8ans'!B19","v":58},{"$f":"'6_8ans'!C19","v":0},{"$f":"'6_8ans'!D19","v":0},{"$f":"'6_8ans'!E19","v":0},{"$f":"'6_8ans'!F19","v":0},{"$f":"'6_8ans'!G19","v":0},{"$f":"'6_8ans'!H19","v":0},{"$f":"'6_8ans'!I19","v":0}]
[{"$f":"'6_8ans'!A20","v":0},{"$f":"'6_8ans'!B20","v":59},{"$f":"'6_8ans'!C20","v":0},{"$f":"'6_8ans'!D20","v":0},{"$f":"'6_8ans'!E20","v":0},{"$f":"'6_8ans'!F20","v":0},{"$f":"'6_8ans'!G20","v":0},{"$f":"'6_8ans'!H20","v":0},{"$f":"'6_8ans'!I20","v":0}]
[{"$f":"'6_8ans'!A21","v":0},{"$f":"'6_8ans'!B21","v":60},{"$f":"'6_8ans'!C21","v":0},{"$f":"'6_8ans'!D21","v":0},{"$f":"'6_8ans'!E21","v":0},{"$f":"'6_8ans'!F21","v":0},{"$f":"'6_8ans'!G21","v":0},{"$f":"'6_8ans'!H21","v":0},{"$f":"'6_8ans'!I21","v":0}]
[{"$f":"'6_8ans'!A22","v":0},{"$f":"'6_8ans'!B22","v":61},{"$f":"'6_8ans'!C22","v":0},{"$f":"'6_8ans'!D22","v":0},{"$f":"'6_8ans'!E22","v":0},{"$f":"'6_8ans'!F22","v":0},{"$f":"'6_8ans'!G22","v":0},{"$f":"'6_8ans'!H22","v":0},{"$f":"'6_8ans'!I22","v":0}]
[{"$f":"'6_8ans'!A23","v":0},{"$f":"'6_8ans'!B23","v":62},{"$f":"'6_8ans'!C23","v":0},{"$f":"'6_8ans'!D23","v":0},{"$f":"'6_8ans'!E23","v":0},{"$f":"'6_8ans'!F23","v":0},{"$f":"'6_8ans'!G23","v":0},{"$f":"'6_8ans'!H23","v":0},{"$f":"'6_8ans'!I23","v":0}]
[{"$f":"'6_8ans'!A24","v":0},{"$f":"'6_8ans'!B24","v":63},{"$f":"'6_8ans'!C24","v":0},{"$f":"'6_8ans'!D24","v":0},{"$f":"'6_8ans'!E24","v":0},{"$f":"'6_8ans'!F24","v":0},{"$f":"'6_8ans'!G24","v":0},{"$f":"'6_8ans'!H24","v":0},{"$f":"'6_8ans'!I24","v":0}]
[{"$f":"'6_8ans'!A25","v":0},{"$f":"'6_8ans'!B25","v":64},{"$f":"'6_8ans'!C25","v":0},{"$f":"'6_8ans'!D25","v":0},{"$f":"'6_8ans'!E25","v":0},{"$f":"'6_8ans'!F25","v":0},{"$f":"'6_8ans'!G25","v":0},{"$f":"'6_8ans'!H25","v":0},{"$f":"'6_8ans'!I25","v":0}]
[{"$f":"'6_8ans'!A26","v":0},{"$f":"'6_8ans'!B26","v":65},{"$f":"'6_8ans'!C26","v":0},{"$f":"'6_8ans'!D26","v":0},{"$f":"'6_8ans'!E26","v":0},{"$f":"'6_8ans'!F26","v":0},{"$f":"'6_8ans'!G26","v":0},{"$f":"'6_8ans'!H26","v":0},{"$f":"'6_8ans'!I26","v":0}]
[{"$f":"'6_8ans'!A27","v":0},{"$f":"'6_8ans'!B27","v":66},{"$f":"'6_8ans'!C27","v":0},{"$f":"'6_8ans'!D27","v":0},{"$f":"'6_8ans'!E27","v":0},{"$f":"'6_8ans'!F27","v":0},{"$f":"'6_8ans'!G27","v":0},{"$f":"'6_8ans'!H27","v":0},{"$f":"'6_8ans'!I27","v":0}]
[{"$f":"'6_8ans'!A28","v":0},{"$f":"'6_8ans'!B28","v":67},{"$f":"'6_8ans'!C28","v":0},{"$f":"'6_8ans'!D28","v":0},{"$f":"'6_8ans'!E28","v":0},{"$f":"'6_8ans'!F28","v":0},{"$f":"'6_8ans'!G28","v":0},{"$f":"'6_8ans'!H28","v":0},{"$f":"'6_8ans'!I28","v":0}]
[{"$f":"'6_8ans'!A29","v":0},{"$f":"'6_8ans'!B29","v":68},{"$f":"'6_8ans'!C29","v":0},{"$f":"'6_8ans'!D29","v":0},{"$f":"'6_8ans'!E29","v":0},{"$f":"'6_8ans'!F29","v":0},{"$f":"'6_8ans'!G29","v":0},{"$f":"'6_8ans'!H29","v":0},{"$f":"'6_8ans'!I29","v":0}]
[{"$f":"'6_8ans'!A30","v":0},{"$f":"'6_8ans'!B30","v":69},{"$f":"'6_8ans'!C30","v":0},{"$f":"'6_8ans'!D30","v":0},{"$f":"'6_8ans'!E30","v":0},{"$f":"'6_8ans'!F30","v":0},{"$f":"'6_8ans'!G30","v":0},{"$f":"'6_8ans'!H30","v":0},{"$f":"'6_8ans'!I30","v":0}]
[{"$f":"'6_8ans'!A31","v":0},{"$f":"'6_8ans'!B31","v":70},{"$f":"'6_8ans'!C31","v":0},{"$f":"'6_8ans'!D31","v":0},{"$f":"'6_8ans'!E31","v":0},{"$f":"'6_8ans'!F31","v":0},{"$f":"'6_8ans'!G31","v":0},{"$f":"'6_8ans'!H31","v":0},{"$f":"'6_8ans'!I31","v":0}]
[{"$f":"'6_8ans'!A32","v":0},{"$f":"'6_8ans'!B32","v":71},{"$f":"'6_8ans'!C32","v":0},{"$f":"'6_8ans'!D32","v":0},{"$f":"'6_8ans'!E32","v":0},{"$f":"'6_8ans'!F32","v":0},{"$f":"'6_8ans'!G32","v":0},{"$f":"'6_8ans'!H32","v":0},{"$f":"'6_8ans'!I32","v":0}]
[{"$f":"'6_8ans'!A33","v":0},{"$f":"'6_8ans'!B33","v":72},{"$f":"'6_8ans'!C33","v":0},{"$f":"'6_8ans'!D33","v":0},{"$f":"'6_8ans'!E33","v":0},{"$f":"'6_8ans'!F33","v":0},{"$f":"'6_8ans'!G33","v":0},{"$f":"'6_8ans'!H33","v":0},{"$f":"'6_8ans'!I33","v":0}]
[{"$f":"'6_8ans'!A34","v":0},{"$f":"'6_8ans'!B34","v":73},{"$f":"'6_8ans'!C34","v":0},{"$f":"'6_8ans'!D34","v":0},{"$f":"'6_8ans'!E34","v":0},{"$f":"'6_8ans'!F34","v":0},{"$f":"'6_8ans'!G34","v":0},{"$f":"'6_8ans'!H34","v":0},{"$f":"'6_8ans'!I34","v":0}]
[{"$f":"'6_8ans'!A35","v":0},{"$f":"'6_8ans'!B35","v":74},{"$f":"'6_8ans'!C35","v":0},{"$f":"'6_8ans'!D35","v":0},{"$f":"'6_8ans'!E35","v":0},{"$f":"'6_8ans'!F35","v":0},{"$f":"'6_8ans'!G35","v":0},{"$f":"'6_8ans'!H35","v":0},{"$f":"'6_8ans'!I35","v":0}]
[{"$f":"'6_8ans'!A36","v":0},{"$f":"'6_8ans'!B36","v":75},{"$f":"'6_8ans'!C36","v":0},{"$f":"'6_8ans'!D36","v":0},{"$f":"'6_8ans'!E36","v":0},{"$f":"'6_8ans'!F36","v":0},{"$f":"'6_8ans'!G36","v":0},{"$f":"'6_8ans'!H36","v":0},{"$f":"'6_8ans'!I36","v":0}]
[{"$f":"'6_8ans'!A37","v":0},{"$f":"'6_8ans'!B37","v":76},{"$f":"'6_8ans'!C37","v":0},{"$f":"'6_8ans'!D37","v":0},{"$f":"'6_8ans'!E37","v":0},{"$f":"'6_8ans'!F37","v":0},{"$f":"'6_8ans'!G37","v":0},{"$f":"'6_8ans'!H37","v":0},{"$f":"'6_8ans'!I37","v":0}]
[{"$f":"'6_8ans'!A38","v":0},{"$f":"'6_8ans'!B38","v":77},{"$f":"'6_8ans'!C38","v":0},{"$f":"'6_8ans'!D38","v":0},{"$f":"'6_8ans'!E38","v":0},{"$f":"'6_8ans'!F38","v":0},{"$f":"'6_8ans'!G38","v":0},{"$f":"'6_8ans'!H38","v":0},{"$f":"'6_8ans'!I38","v":0}]
[{"$f":"'6_8ans'!A39","v":0},{"$f":"'6_8ans'!B39","v":78},{"$f":"'6_8ans'!C39","v":0},{"$f":"'6_8ans'!D39","v":0},{"$f":"'6_8ans'!E39","v":0},{"$f":"'6_8ans'!F39","v":0},{"$f":"'6_8ans'!G39","v":0},{"$f":"'6_8ans'!H39","v":0},{"$f":"'6_8ans'!I39","v":0}]
[{"$f":"'6_8ans'!A40","v":0},{"$f":"'6_8ans'!B40","v":79},{"$f":"'6_8ans'!C40","v":0},{"$f":"'6_8ans'!D40","v":0},{"$f":"'6_8ans'!E40","v":0},{"$f":"'6_8ans'!F40","v":0},{"$f":"'6_8ans'!G40","v":0},{"$f":"'6_8ans'!H40","v":0},{"$f":"'6_8ans'!I40","v":0}]
[{"$f":"'6_8ans'!A41","v":0},{"$f":"'6_8ans'!B41","v":80},{"$f":"'6_8ans'!C41","v":0},{"$f":"'6_8ans'!D41","v":0},{"$f":"'6_8ans'!E41","v":0},{"$f":"'6_8ans'!F41","v":0},{"$f":"'6_8ans'!G41","v":0},{"$f":"'6_8ans'!H41","v":0},{"$f":"'6_8ans'!I41","v":0}]
[{"$f":"'6_8ans'!A42","v":0},{"$f":"'6_8ans'!B42","v":81},{"$f":"'6_8ans'!C42","v":0},{"$f":"'6_8ans'!D42","v":0},{"$f":"'6_8ans'!E42","v":0},{"$f":"'6_8ans'!F42","v":0},{"$f":"'6_8ans'!G42","v":0},{"$f":"'6_8ans'!H42","v":0},{"$f":"'6_8ans'!I42","v":0}]
[{"$f":"'6_8ans'!A43","v":0},{"$f":"'6_8ans'!B43","v":82},{"$f":"'6_8ans'!C43","v":0},{"$f":"'6_8ans'!D43","v":0},{"$f":"'6_8ans'!E43","v":0},{"$f":"'6_8ans'!F43","v":0},{"$f":"'6_8ans'!G43","v":0},{"$f":"'6_8ans'!H43","v":0},{"$f":"'6_8ans'!I43","v":0}]
[{"$f":"'6_8ans'!A44","v":0},{"$f":"'6_8ans'!B44","v":83},{"$f":"'6_8ans'!C44","v":0},{"$f":"'6_8ans'!D44","v":0},{"$f":"'6_8ans'!E44","v":0},{"$f":"'6_8ans'!F44","v":0},{"$f":"'6_8ans'!G44","v":0},{"$f":"'6_8ans'!H44","v":0},{"$f":"'6_8ans'!I44","v":0}]
[{"$f":"'6_8ans'!A45","v":0},{"$f":"'6_8ans'!B45","v":84},{"$f":"'6_8ans'!C45","v":0},{"$f":"'6_8ans'!D45","v":0},{"$f":"'6_8ans'!E45","v":0},{"$f":"'6_8ans'!F45","v":0},{"$f":"'6_8ans'!G45","v":0},{"$f":"'6_8ans'!H45","v":0},{"$f":"'6_8ans'!I45","v":0}]
[{"$f":"'6_8ans'!A46","v":0},{"$f":"'6_8ans'!B46","v":85},{"$f":"'6_8ans'!C46","v":0},{"$f":"'6_8ans'!D46","v":0},{"$f":"'6_8ans'!E46","v":0},{"$f":"'6_8ans'!F46","v":0},{"$f":"'6_8ans'!G46","v":0},{"$f":"'6_8ans'!H46","v":0},{"$f":"'6_8ans'!I46","v":0}]
[{"$f":"'6_8ans'!A47","v":0},{"$f":"'6_8ans'!B47","v":86},{"$f":"'6_8ans'!C47","v":0},{"$f":"'6_8ans'!D47","v":0},{"$f":"'6_8ans'!E47","v":0},{"$f":"'6_8ans'!F47","v":0},{"$f":"'6_8ans'!G47","v":0},{"$f":"'6_8ans'!H47","v":0},{"$f":"'6_8ans'!I47","v":0}]
[{"$f":"'6_8ans'!A48","v":0},{"$f":"'6_8ans'!B48","v":87},{"$f":"'6_8ans'!C48","v":0},{"$f":"'6_8ans'!D48","v":0},{"$f":"'6_8ans'!E48","v":0},{"$f":"'6_8ans'!F48","v":0},{"$f":"'6_8ans'!G48","v":0},{"$f":"'6_8ans'!H48","v":0},{"$f":"'6_8ans'!I48","v":0}]
[{"$f":"'6_8ans'!A49","v":0},{"$f":"'6_8ans'!B49","v":88},{"$f":"'6_8ans'!C49","v":0},{"$f":"'6_8ans'!D49","v":0},{"$f":"'6_8ans'!E49","v":0},{"$f":"'6_8ans'!F49","v":0},{"$f":"'6_8ans'!G49","v":0},{"$f":"'6_8ans'!H49","v":0},{"$f":"'6_8ans'!I49","v":0}]
[{"$f":"'6_8ans'!A50","v":0},{"$f":"'6_8ans'!B50","v":89},{"$f":"'6_8ans'!C50","v":0},{"$f":"'6_8ans'!D50","v":0},{"$f":"'6_8ans'!E50","v":0},{"$f":"'6_8ans'!F50","v":0},{"$f":"'6_8ans'!G50","v":0},{"$f":"'6_8ans'!H50","v":0},{"$f":"'6_8ans'!I50","v":0}]
[{"$f":"'6_8ans'!A51","v":0},{"$f":"'6_8ans'!B51","v":90},{"$f":"'6_8ans'!C51","v":0},{"$f":"'6_8ans'!D51","v":0},{"$f":"'6_8ans'!E51","v":0},{"$f":"'6_8ans'!F51","v":0},{"$f":"'6_8ans'!G51","v":0},{"$f":"'6_8ans'!H51","v":0},{"$f":"'6_8ans'!I51","v":0}]
[{"$f":"'6_8ans'!A52","v":0},{"$f":"'6_8ans'!B52","v":91},{"$f":"'6_8ans'!C52","v":0},{"$f":"'6_8ans'!D52","v":0},{"$f":"'6_8ans'!E52","v":0},{"$f":"'6_8ans'!F52","v":0},{"$f":"'6_8ans'!G52","v":0},{"$f":"'6_8ans'!H52","v":0},{"$f":"'6_8ans'!I52","v":0}]
[{"$f":"'6_8ans'!A53","v":0},{"$f":"'6_8ans'!B53","v":92},{"$f":"'6_8ans'!C53","v":0},{"$f":"'6_8ans'!D53","v":0},{"$f":"'6_8ans'!E53","v":0},{"$f":"'6_8ans'!F53","v":0},{"$f":"'6_8ans'!G53","v":0},{"$f":"'6_8ans'!H53","v":0},{"$f":"'6_8ans'!I53","v":0}]
[{"$f":"'6_8ans'!A54","v":0},{"$f":"'6_8ans'!B54","v":93},{"$f":"'6_8ans'!C54","v":0},{"$f":"'6_8ans'!D54","v":0},{"$f":"'6_8ans'!E54","v":0},{"$f":"'6_8ans'!F54","v":0},{"$f":"'6_8ans'!G54","v":0},{"$f":"'6_8ans'!H54","v":0},{"$f":"'6_8ans'!I54","v":0}]
[{"$f":"'6_8ans'!A55","v":0},{"$f":"'6_8ans'!B55","v":94},{"$f":"'6_8ans'!C55","v":0},{"$f":"'6_8ans'!D55","v":0},{"$f":"'6_8ans'!E55","v":0},{"$f":"'6_8ans'!F55","v":0},{"$f":"'6_8ans'!G55","v":0},{"$f":"'6_8ans'!H55","v":0},{"$f":"'6_8ans'!I55","v":0}]
[{"$f":"'6_8ans'!A56","v":0},{"$f":"'6_8ans'!B56","v":95},{"$f":"'6_8ans'!C56","v":0},{"$f":"'6_8ans'!D56","v":0},{"$f":"'6_8ans'!E56","v":0},{"$f":"'6_8ans'!F56","v":0},{"$f":"'6_8ans'!G56","v":0},{"$f":"'6_8ans'!H56","v":0},{"$f":"'6_8ans'!I56","v":0}]
[{"$f":"'6_8ans'!A57","v":0},{"$f":"'6_8ans'!B57","v":96},{"$f":"'6_8ans'!C57","v":0},{"$f":"'6_8ans'!D57","v":0},{"$f":"'6_8ans'!E57","v":0},{"$f":"'6_8ans'!F57","v":0},{"$f":"'6_8ans'!G57","v":0},{"$f":"'6_8ans'!H57","v":0},{"$f":"'6_8ans'!I57","v":0}]
[{"$f":"'6_8ans'!A58","v":0},{"$f":"'6_8ans'!B58","v":97},{"$f":"'6_8ans'!C58","v":0},{"$f":"'6_8ans'!D58","v":0},{"$f":"'6_8ans'!E58","v":0},{"$f":"'6_8ans'!F58","v":0},{"$f":"'6_8ans'!G58","v":0},{"$f":"'6_8ans'!H58","v":0},{"$f":"'6_8ans'!I58","v":0}]
[{"$f":"'6_8ans'!A59","v":0},{"$f":"'6_8ans'!B59","v":98},{"$f":"'6_8ans'!C59","v":0},{"$f":"'6_8ans'!D59","v":0},{"$f":"'6_8ans'!E59","v":0},{"$f":"'6_8ans'!F59","v":0},{"$f":"'6_8ans'!G59","v":0},{"$f":"'6_8ans'!H59","v":0},{"$f":"'6_8ans'!I59","v":0}]
[{"$f":"'6_8ans'!A60","v":0},{"$f":"'6_8ans'!B60","v":99},{"$f":"'6_8ans'!C60","v":0},{"$f":"'6_8ans'!D60","v":0},{"$f":"'6_8ans'!E60","v":0},{"$f":"'6_8ans'!F60","v":0},{"$f":"'6_8ans'!G60","v":0},{"$f":"'6_8ans'!H60","v":0},{"$f":"'6_8ans'!I60","v":0}]
[{"$f":"'6_8ans'!A61","v":0},{"$f":"'6_8ans'!B61","v":100},{"$f":"'6_8ans'!C61","v":0},{"$f":"'6_8ans'!D61","v":0},{"$f":"'6_8ans'!E61","v":0},{"$f":"'6_8ans'!F61","v":0},{"$f":"'6_8ans'!G61","v":0},{"$f":"'6_8ans'!H61","v":0},{"$f":"'6_8ans'!I61","v":0}]
[{"$f":"'6_8ans'!A62","v":0},{"$f":"'6_8ans'!B62","v":0},{"$f":"'6_8ans'!C62","v":0},{"$f":"'6_8ans'!D62","v":0},{"$f":"'6_8ans'!E62","v":0},{"$f":"'6_8ans'!F62","v":0},{"$f":"'6_8ans'!G62","v":0},{"$f":"'6_8ans'!H62","v":0},{"$f":"'6_8ans'!I62","v":0}]
[{"$f":"'6_8ans'!A63","v":0},{"$f":"'6_8ans'!B63","v":0},{"$f":"'6_8ans'!C63","v":0},{"$f":"'6_8ans'!D63","v":0},{"$f":"'6_8ans'!E63","v":0},{"$f":"'6_8ans'!F63","v":0},{"$f":"'6_8ans'!G63","v":0},{"$f":"'6_8ans'!H63","v":0},{"$f":"'6_8ans'!I63","v":0}]

{"sheet":"Engagés_Internet","index":13,"n_rows":2,"n_cols":16,"rows_kept":2,"cut":false,"hidden":false,"merged":[[0,5,0,17]]}
[null,null,null,null,{"$f":"COUNTA(C3:C200)","v":0},"Etape1: Effacement du classeur, Etape2: importer les engagés Internet  du calendrier Ufolep, fichier .xls dans téléchagerment du PC Puis Vérifier et corriger les données Ct/Val utiliser uniquement les criteres ds le menu déroulant , vous pouvez à ce stade modifier l'affiliation - Etape3: exporter vers Catégorie et vérifier sur classement général si le nb d'engagés correspond. Lors de l'épreuve ajouter les nouveauxi nscrits ds la catégorie leur correspondant"]
["Dossard","Transpondeur","Nom","Club","Licence","Cat/val","Cat/âge","Affiliation","dep","Date heure","Montant","mode_reglement","type_epreuve","FD","Caté autre FD","Civilité"]

{"sheet":"LISTES","index":14,"n_rows":872,"n_cols":17,"rows_kept":872,"cut":false,"hidden":false,"merged":[]}
[{"$f":"COUNTA(A2:A2000)","v":871},"AS PTT OMNISPORT NEVERS","CAT ÂGE /sexe",null,"vide",null,null,"Sexe","Fédérations","Catégorie","Cate AF","Tarif","NB licencie",{"$f":"COUNTA(A2:A1000)","v":871},"cateage","département","Place"]
["ABRAHAM STEPHANE","AMICALE LAIQUE SPORTIVE ET CULTURELLE NEUVILLE AUX","Adulte Féminin 20/29 ans",null,null,null,null,"F","UFO","FEM",2,3,null,null,"< 11",1,"AB"]
["ALLARD JEAN LUC","AS C OUZOUER SUR LOIRE","Adulte Masculin 20/29 ans",null,null,null,null,"M","FFC","4-B",3,6,null,null,"11/12",2,"NP"]
["ADAM VINCENT","AS MENESTREAU EN VILLETTE","Adulte Féminin 30/39 ans",null,null,null,null,"N","FFCT","4-A",4,8,null,null,"13/14",3,"D"]
["AIGON FLORENT","AS PTT AUXERRE","Adulte Féminin 40/49 ans",null,null,null,null,null,"FSGT","3e",5,15,null,null,"15/16",4,"Peloton"]
["ALLEGRE MAX","AS PTT ORLEANS CYCLISME","Adulte Masculin 30/39 ans",null,null,null,null,null,"INI","2e","3e Ct","G",null,null,"17/19",5]
["ALLEGRE SEBASTIEN","AS PTT TROYES","Adulte Masculin 40/49 ans",null,null,null,null,null,"NL","1re","ACCESS  D1",null,null,null,"20/29",6]
["ALARY JEAN CLAUDE","AS SPORTIVE TONNERROISE","Adulte Féminin 50 ans et plus",null,null,null,null,null,"TRI","15-16","ACCESS  D2",null,null,null,"30/39",7]
["ALLAIS JEAN-CHARLES","AS VIENNE EN VAL","Adulte Masculin 17/19 ans",null,null,null,null,null,null,"13-14","ACCESS  D3",null,null,null,"40/49",8]
["ALQUINET BRUNO","ASSOCIATION ILEO 58 (TEAM ILEO 58 SPORT ZEN)","Adulte Masculin 50/59 ans",null,null,null,null,null,null,"11-12","ACCESS D4",null,null,null,"50/59",9]
["ALVAREZ FREDERIC","ASSOCIATION SPORTIVE PUISEAUX","Adulte Masculin 60 ans et plus",null,null,null,null,null,null,"9-10","Cadet",null,null,null,"60/69",10]
["ABITBOL OREL","ASUC MIGENNES","Adulte Féminin 17/19 ans",null,null,null,null,null,null,"6-8","J 1iere A",null,null,null,"70+",11]
["AMBIT NOLAN","CLUB AVENIR DE SAINT GEORGES","Jeune Féminin 11/12 ans",null,null,null,null,null,null,"<11ans","J 2ème A",null,null,null,null,12]
["ANCELOT XAVIER","CLUB CYCLISTE BRAQUET ABBATIEN","Jeune Féminin 13/14 ans",null,null,null,null,null,null,null,"Minime",null,null,null,null,13]
["ANDRIEUX CEDRIC","CLUB CYCLISTE CORBIGEOIS","Jeune Féminin 15/16 ans",null,null,null,null,null,null,null,"OPEN",null,null,null,null,14]
["ANTOINE ALAIN","CLUB CYCLISTE DE MOLESME","Jeune Masculin 11/12 ans",null,null,null,null,null,null,null,"Poussain",null,null,null,null,15]
["ANTOINE PIERRE LOUP","CLUB MARZY CYCLISTE","Jeune Masculin 13/14 ans",null,null,null,null,null,null,null,null,null,null,null,null,16]
["ARBILLOT VALENTIN","CLUB PRODIALOG/DAVID DEREPAS","Jeune Masculin 15/16 ans",null,null,null,null,null,null,null,null,null,null,null,null,17]
["ARCHAMBAULT STEPHANE","CLUB VTT CYCLO DIGES PUISAYE ( VC DIGES )","Jeune Féminin <11 ans",null,null,null,null,null,null,null,null,null,null,null,null,18]
["ARNOULT CYRIL","CLUBS","Jeune Masculin < 11 ans",null,null,null,null,null,null,null,null,null,null,null,null,19]
["ARRAULT ANDRE","CULT.LOIS.ANIM. SAUVIGNY LES B.",null,null,null,null,null,null,null,null,null,null,null,null,null,20]
["AUBERT LUCA","CYCL O2 VENT SAINT SEINE L'ABBAYE",null,null,null,null,null,null,null,null,null,null,null,null,null,21]
["AUBRY FRANCK","CYCLO SPORT ABRAYSIEN",null,null,null,null,null,null,null,null,null,null,null,null,null,22]
["AULARD VINCENT","E.C.S AVALLON",null,null,null,null,null,null,null,null,null,null,null,null,null,23]
["AVRIL ROMAIN","ECHAPPEE NOGENT BRAQUET LIBRE",null,null,null,null,null,null,null,null,null,null,null,null,null,24]
["AYMON FLORENT","ELAN POLISSON",null,null,null,null,null,null,null,null,null,null,null,null,null,25]
["BABUT EMMANUEL","ENTENTE CYCLISTE DE L AUXERROIS",null,null,null,null,null,null,null,null,null,null,null,null,null,26]
["BAILLON SERGE","ENTENTE SPORTIVE GATINAISE",null,null,null,null,null,null,null,null,null,null,null,null,null,27]
["BAILLY OLIVIER","ESPRIT SPORT 89",null,null,null,null,null,null,null,null,null,null,null,null,null,28]
["BAILLY RODOLPHE","ETOILE CYCLISTE BARALBINE",null,null,null,null,null,null,null,null,null,null,null,null,null,29]
["BAIN ALEXANDRE","GUIDON CHALETTOIS CHALETTE",null,null,null,null,null,null,null,null,null,null,null,null,null,30]
["BALLUT JEAN CLAUDE","INFOSPORT - LOIRET",null,null,null,null,null,null,null,null,null,null,null,null,null,31]
["BANULS PHILIPPE","MEUNG CYCLISME",null,null,null,null,null,null,null,null,null,null,null,null,null,32]
["BAPTISTE BENOIT","MONTAULIN CYCLO SPORT",null,null,null,null,null,null,null,null,null,null,null,null,null,33]
["BAPTISTE EMELINE","NEVOY SPORT",null,null,null,null,null,null,null,null,null,null,null,null,null,34]
["BARALON DAMIEN","PEDALE SEMUROISE - SECTION UFOLEP",null,null,null,null,null,null,null,null,null,null,null,null,null,35]
["BARBEAU JEAN LOUIS","RACING CLUB SAINT ANDRE",null,null,null,null,null,null,null,null,null,null,null,null,null,36]
["BARBIER CHARLES HENRY","RICEYS CYCLISME",null,null,null,null,null,null,null,null,null,null,null,null,null,37]
["BARBOSA FRANCOIS","STADE AUXERROIS",null,null,null,null,null,null,null,null,null,null,null,null,null,38]
["BARRAGAN ADRIAN","TEAM HAUTEVILLE CYCLISME",null,null,null,null,null,null,null,null,null,null,null,null,null,39]
["BARRAUT RUDY","Team M'bike 45",null,null,null,null,null,null,null,null,null,null,null,null,null,40]
["BAUDOIN GERARD","TEAM MONTBARD",null,null,null,null,null,null,null,null,null,null,null,null,null,41]
["BAUDOIN HERVE","TEAM O2 TROYES",null,null,null,null,null,null,null,null,null,null,null,null,null,42]
["BAUDOIN JOEL","Team skoda ByMyCar Orleans",null,null,null,null,null,null,null,null,null,null,null,null,null,43]
["BAUDOUX CHARLELIE","TRIATHLON CLUB SEURROIS",null,null,null,null,null,null,null,null,null,null,null,null,null,44]
["BAULOT EDDY","TROYES AUBE CYCLISME",null,null,null,null,null,null,null,null,null,null,null,null,null,45]
["BAUSER ADAM","UNION COSNOISE SPORTIVE UCS CYCLISME",null,null,null,null,null,null,null,null,null,null,null,null,null,46]
["BAUSER SEBASTIEN","UNION CYCLISTE DE CHAMOY",null,null,null,null,null,null,null,null,null,null,null,null,null,47]
["BEAUDIN ARNAUD","UNION SPORTIVE BONNYCHONNE",null,null,null,null,null,null,null,null,null,null,null,null,null,48]
["BEAUDOUIN CHRISTOPHE","UNION SPORTIVE JOIGNY",null,null,null,null,null,null,null,null,null,null,null,null,null,49]
["BEAULANT CORENTIN","UNION VELO CLUB DE L' AUBE-TROYES",null,null,null,null,null,null,null,null,null,null,null,null,null,50]
["BECLIER BERNARD","UNION VELOCIPEDIQUE DE BUCHERES",null,null,null,null,null,null,null,null,null,null,null,null,null,51]
["BEDU JOEL","UNIVERS CYCLISTE GIEN SPORT",null,null,null,null,null,null,null,null,null,null,null,null,null,52]
["BEELL BENJAMIN","US OUZOUER SUR TREZEE",null,null,null,null,null,null,null,null,null,null,null,null,null,53]
["BEGAUD DYLAN","USM SARAN",null,null,null,null,null,null,null,null,null,null,null,null,null,54]
["BEGUE DIDIER","V.C. CHATILLONNAIS SECT. UFOLEP",null,null,null,null,null,null,null,null,null,null,null,null,null,55]
["BEILLEVERT LAURENT","VELO 3 CHAMPAGNE",null,null,null,null,null,null,null,null,null,null,null,null,null,56]
["BELAIR OLIVIER","VELO CLUB  BREVIANDES",null,null,null,null,null,null,null,null,null,null,null,null,null,57]
["BELLINI THOMAS","VELO CLUB ARCIS",null,null,null,null,null,null,null,null,null,null,null,null,null,58]
["BENOIT MACIEJ","VELO CLUB BEAUMONT BOESSES",null,null,null,null,null,null,null,null,null,null,null,null,null,59]
["BERARD CHRISTOPHE","VELO CLUB CASTELNEUVIEN",null,null,null,null,null,null,null,null,null,null,null,null,null,60]
["BERNARD CHRISTOPHE","VELO CLUB COTE DES BARS",null,null,null,null,null,null,null,null,null,null,null,null,null,61]
["BERNARD FRANCOIS","VELO CLUB COURCY AUX LOGES",null,null,null,null,null,null,null,null,null,null,null,null,null,62]
["BERNARD NICOLAS","VELO CLUB D AUXERRE",null,null,null,null,null,null,null,null,null,null,null,null,null,63]
["BERRUER ANTHONIN","VELO CLUB DE BEAUGENCY",null,null,null,null,null,null,null,null,null,null,null,null,null,64]
["BERTON JACKY","VELO CLUB DE CLAMECY",null,null,null,null,null,null,null,null,null,null,null,null,null,65]
["BERTRAND BENJAMIN","VELO CLUB DE TOUCY",null,null,null,null,null,null,null,null,null,null,null,null,null,66]
["BERTRAND BRUNO","VELO CLUB DU BORNANT",null,null,null,null,null,null,null,null,null,null,null,null,null,67]
["BERTRAND PHILIPPE","VELO CLUB DU SENONAIS",null,null,null,null,null,null,null,null,null,null,null,null,null,68]
["BETHAULT MATHIAS","VELO SPORT NIVERNAIS MORVAN",null,null,null,null,null,null,null,null,null,null,null,null,null,69]
["BEULIN THOMAS","VELO SPORT TROUHANS",null,null,null,null,null,null,null,null,null,null,null,null,null,70]
["BEYVIN MATTHIAS","VERT2CHABLIS",null,null,null,null,null,null,null,null,null,null,null,null,null,71]
["BEZOUT GUILLAUME","VTT CLUB DE GEVREY SECT. UFOLEP",null,null,null,null,null,null,null,null,null,null,null,null,null,72]
["BICHOTTE FRANCKY","VTT CLUB DU SENONAIS",null,null,null,null,null,null,null,null,null,null,null,null,null,73]
["BISAULT MIGUEL",null,null,null,null,null,null,null,null,null,null,null,null,null,null,74]
["BLAIRON CEDRIC",null,null,null,null,null,null,null,null,null,null,null,null,null,null,75]
["BLANCHET VICTOR",null,null,null,null,null,null,null,null,null,null,null,null,null,null,76]
["BLANDIN JEAN-ANDRE",null,null,null,null,null,null,null,null,null,null,null,null,null,null,77]
["BOEUVE CHRISTIAN",null,null,null,null,null,null,null,null,null,null,null,null,null,null,78]
["BOIN MICHEL",null,null,null,null,null,null,null,null,null,null,null,null,null,null,79]
["BOISQUILLON ALAIN",null,null,null,null,null,null,null,null,null,null,null,null,null,null,80]
["BOISQUILLON ROMAIN",null,null,null,null,null,null,null,null,null,null,null,null,null,null,81]
["BOISSE FABIEN",null,null,null,null,null,null,null,null,null,null,null,null,null,null,82]
["BOISSONNET LORANE",null,null,null,null,null,null,null,null,null,null,null,null,null,null,83]
["BOITIER FABRICE",null,null,null,null,null,null,null,null,null,null,null,null,null,null,84]
["BOITIER GABRIEL",null,null,null,null,null,null,null,null,null,null,null,null,null,null,85]
["BOITIER THIBAUD",null,null,null,null,null,null,null,null,null,null,null,null,null,null,86]
["BONA ROMAIN",null,null,null,null,null,null,null,null,null,null,null,null,null,null,87]
["BONJEAN JULIEN",null,null,null,null,null,null,null,null,null,null,null,null,null,null,88]
["BONNARD MATTHIEU",null,null,null,null,null,null,null,null,null,null,null,null,null,null,89]
["BONNET DOMINIQUE",null,null,null,null,null,null,null,null,null,null,null,null,null,null,90]
["BONNET GILLES",null,null,null,null,null,null,null,null,null,null,null,null,null,null,91]
["BONNIN CHRISTOPHE",null,null,null,null,null,null,null,null,null,null,null,null,null,null,92]
["BONSANS FLORIAN",null,null,null,null,null,null,null,null,null,null,null,null,null,null,93]
["BONVALOT LUDOVIC",null,null,null,null,null,null,null,null,null,null,null,null,null,null,94]
["BORNEL LIONEL",null,null,null,null,null,null,null,null,null,null,null,null,null,null,95]
["BOUCHANDON ROLAND",null,null,null,null,null,null,null,null,null,null,null,null,null,null,96]
["BOUCHAUDON THOMAS",null,null,null,null,null,null,null,null,null,null,null,null,null,null,97]
["BOUHOUR JEAN-YVES",null,null,null,null,null,null,null,null,null,null,null,null,null,null,98]
["BOULANGER JEREMY"]
["BOULLE LAURENT"]
["BOULZAT GERARD"]
["BOURCEY ALAIN"]
["BOURDET YANNICK"]
["BOURGAULT MARINE"]
["BOURGAULT NICOLAS"]
["BOURGEOIS ERWAN"]
["BOURGOIN CHRISTOPHE"]
["BOURON SEBASTIEN"]
["BOURY ETHAN"]
["BOUSSELLIER YVES"]
["BOUVIER JULIEN"]
["BREDELLE FRANCOIS"]
["BREGERE ARNAUD"]
["BRENOT CHRISTOPHE"]
["BRIDRON ALEX"]
["BRISTEAU GREGORY"]
["BROSSIER RODOLPHE"]
["BRUN EMMANUEL"]
["BRUNET GERARD"]
["BRUNOT BAPTISTE"]
["BRUSSEAU OLIVIER"]
["BUACHE PHILIPPE"]
["BUSSIERE PATRICK"]
["BUTTURI MAXIME"]
["BUZENET FRANCK"]
["CAILLARD JEAN BAPTISTE"]
["CAILLAULT PHILIPPE"]
["CALMUS PASCAL"]
["CALMUS REGIS"]
["CANADA MANUEL"]
["CANOU ALEXANDRA"]
["CARDENAS CAMPOY JOSE"]
["CARIOU NICOLAS"]
["CARLIER ALEXANDRE"]
["CARPENTIER FLORENT"]
["CARRA HERVE"]
["CARREAU LIONEL"]
["CARUANA BRUNO"]
["CARVALHO MANUEL"]
["CASSIN ANTOINE"]
["CASTEX STYVE"]
["CAUDRON YVES"]
["CAVALLINI ROMAIN"]
["CERVEIRA DOS SANTOS PAULO"]
["CESPEDES GEORGES"]
["CHABRILLANGE JEAN PIERRE"]
["CHAGNON MAXIME"]
["CHANARD JOAQUIM"]
["CHANTIER ALAIN"]
["CHAPELAIN MICKAEL"]
["CHAPIGNAC KEVIN"]
["CHAPOTOT MATHIEU"]
["CHAPRON VALENTIN"]
["CHARDONNERET SEBASTIEN"]
["CHARNI WALID"]
["CHARTIER JEAN MICHEL"]
["CHASSAIN HUGO"]
["CHATEAUROUX JULES"]
["CHAUSSARD DANIEL"]
["CHENAUD ROBIN"]
["CHENE CHRISTOPHE"]
["CHENOT JEAN SEBASTIEN"]
["CHERANCE JEAN PIERRE"]
["CHEVASSON FREDERIC"]
["CHEVILLION LIONEL"]
["CHEVREAU BRUNO"]
["CHEVRON SYLVAIN"]
["CHOISELAT GREGOIRE"]
["CHOLLET SEVERIN"]
["CHOQUET DIDIER"]
["CHOQUET FABIEN"]
["CHOQUET PHILIPPE"]
["CHRISMANT THOMAS"]
["CINTRAT BENJAMIN"]
["CINTRAT OLIVIER"]
["CLECH YANN"]
["CLEMENT PIERRE DAMIEN"]
["COADALEN DAVID"]
["COCHEREAU YVES"]
["CODRAN ROMAIN"]
["COLA RENAN"]
["COLAS FABRICE"]
["COLLEONI CHRISTIAN"]
["COLLIN DAVID"]
["COLLIN FREDERIC"]
["COLLOT ANTOINE"]
["COLLOT VALENTIN"]
["CONNANT JEREMY"]
["COPPIN LUKE"]
["COPPIN YANN"]
["COQUIN SOPHIE"]
["CORBERY LEO"]
["CORDONNIER PASCAL"]
["CORPEL JOSE"]
["CORSET ANTOINE"]
["CORSET JACQUES"]
["CORSET WILLY"]
["CORTET ANTOINE"]
["CORTET AXEL"]
["CORTET STEPHANE"]
["COSSU ROBIN"]
["COUPE CEDRIC"]
["COURTOIS EMILIE"]
["COURTOIS GUILLAUME"]
["COURTOIS JEREMIE"]
["COUTABLE CLAIRE"]
["COUTELLE CYRILLE"]
["COUTELLIER CEDRIC"]
["COUTELLIER ROMAIN"]
["COUVE FRANCK"]
["COUVE GAEL"]
["COVELLI DOMINIQUE"]
["CRESSON CHRISTOPHE"]
["CRESSON GREGORY"]
["CROIX STEPHANE"]
["CUNIERE MARCELIN"]
["D HERDT ANTHONY"]
["DA COSTA PHILIPPE"]
["DA SILVA ISIDRO"]
["DADOU DRION PETER"]
["DAHAN JOSEPH"]
["DALLE HUBERT"]
["DAMOISEAU LIONEL"]
["DAMOISEAU QUENTIN"]
["DARDENNES CHRISTOPHE"]
["DARDENNES HENRI"]
["DAVID EMMANUEL"]
["DE CUYPER OLIVIER"]
["DE FARIA CLEMENT"]
["DE FARIA CYRILLE"]
["DE LAS CUEVAS ALESSANDRO"]
["DE LAS CUEVAS MANUEL"]
["DE ROSSI ELOISE"]
["DE ROSSI STEPHANE"]
["DE VECCHI AMELIE"]
["DE VECCHI AXEL"]
["DE VECCHI DAVID"]
["DEBOU ALEXIS"]
["DEBOU JULIEN"]
["DECROUY CHRISTOPHE"]
["DEFRESNES DIDIER"]
["DEGOIS ROGER"]
["DELABESSE GERARD"]
["DELAGOUTTE MICKAEL"]
["DELAHAYE MAXIME"]
["DELECOURT NICOLAS"]
["DELEPINE SEBASTIEN"]
["DELMARE LUCAS"]
["DELPECH NATHALIE"]
["DELZAIVE STEPHANE"]
["DEMATTEIS PATRICK"]
["DENIS PHILIPPE"]
["DENOUE GILLES"]
["DEPARDON HUGO"]
["DERISBOURG DENIS"]
["DESCARTES BRUNO"]
["DESCHAUMES FRANCOIS"]
["DESFORGES BERNARD"]
["DESGARDES PASCAL"]
["DESPLANCHES FRANCOIS"]
["DESSENON JEAN-PHILIPPE"]
["DESTRUMEL PATRICK"]
["DEVULDER SEBASTIEN"]
["DEZECOT GERARD"]
["DIRKSEN CARLE"]
["DOCHE ERIC"]
["DOIT GILLES"]
["DONOUGH JOSEPH"]
["DOS SANTOS CHRISTOPHE"]
["DOSIERES MARC"]
["DOSNON BERTRAND"]
["DOUCET REMY"]
["DOUCET SEBASTIEN"]
["DOUCET TANGUY"]
["DOURU CYRILLE"]
["DREAU HERVE"]
["DRILLOT ALAN"]
["DROIN BENOIT"]
["DRUESNE YANN"]
["DUBAN SAMUEL"]
["DUBIEF JACK"]
["DUBOIS ALEXANDRE"]
["DUBOIS DOMINIQUE"]
["DUBOURG JEAN -JACK"]
["DUCHENE JACQUES"]
["DUFLEXIS CYRIL"]
["DUFOND-DEMATTEIS CHRISTINE"]
["DUGUEY JEAN-FRANCOIS"]
["DUMAS MAE"]
["DUMAZET PHILIPPE"]
["DUMONT DIDIER"]
["DUNANCOURT ALEXIS"]
["DUNIS DIDIER"]
["DUPERREX DANIEL"]
["DUPIRE PHILIPPE"]
["DUPLUS MARC"]
["DURAND EDWIN"]
["DUTHU JOFFREY"]
["DUVENT SAMUEL"]
["DUVIGNAUD CHARLES"]
["EDY ETIENNE"]
["ESPIRT PHILIPPE"]
["FAGEAU OLIVIER"]
["FAGIS BAPTISTE"]
["FAILLENOT ETHAN"]
["FARAMA OLIVIER"]
["FARO MICHAEL"]
["FAVEYRIAL THOMAS"]
["FEIX OLIVIER"]
["FELIX JEAN-MICHEL"]
["FERRARI BENOIT"]
["FESTAL XAVIER"]
["FEUILLETTE DOMINIQUE"]
["FINOCCHIARO WILLY"]
["FINOT CHRISTIAN"]
["FLEURY JEAN LOUIS"]
["FLEURY PASCAL"]
["FLORANCE FREDERIC"]
["FOISEL ANTOINE"]
["FOISEL LAURENT"]
["FOLOPE BERTRAND"]
["FONTAINE JEAN LUC"]
["FONTAINE JOSE"]
["FONVIEILLE HENRI"]
["FOREST SEBASTIEN"]
["FOREY DENIS"]
["FOUCHER CHRISTOPHE"]
["FOUCHER PASCAL"]
["FOULON JULIEN"]
["FRANCOIS MATHILDE"]
["FRECHOT BERTRAND"]
["FREMAUX MAXIME"]
["FRISQUET JEAN-MARC"]
["FRISQUET JOEL"]
["FROCHOT HUBERT"]
["FURET GUILLAUME"]
["FURET JULIEN"]
["GADJIU SACHA"]
["GAGNAIRE FABIEN"]
["GAGNAIRE PIERRE"]
["GAILLARD JEREMIE"]
["GALMARD ROMAIN"]
["GAMBERT YANNICK"]
["GARCIA WILLY"]
["GARD AURELIEN"]
["GARNERIN DAVID"]
["GARNERIN ERIC"]
["GARNERIN THOMAS"]
["GARNIER DIMITRI"]
["GARNIER PATRICK"]
["GASCARD LIONEL"]
["GASNIER JOEL"]
["GAULIEZ ERIC"]
["GAUTHIER GUTTADORO BASTIEN"]
["GAUTHIER REMY"]
["GAUTHIEZ JEREMY"]
["GAVIGNET EMELINE"]
["GAVIGNET JEROME"]
["GEFFROY PIERRE"]
["GENDRON YVES"]
["GEORGES JEAN-DAVID"]
["GIBIER VIRGINIE"]
["GILBERT FLORIAN"]
["GILLON GERALD"]
["GIORDANO NICOLAS"]
["GIRARD FABRICE"]
["GIRARDOT BENJAMIN"]
["GIRAULT REMY"]
["GIRY PASCAL"]
["GLEY DANIEL"]
["GODEFROY WILLIAM"]
["GODICHAUD MATTHIEU"]
["GOGUET BAPTISTE"]
["GOGUET MAXIME"]
["GONCALVES PATRICK"]
["GORAU SYLVAIN"]
["GORIN FRANCOIS"]
["GOUBANT DAVID"]
["GOUELLE ERWAN"]
["GOUELLE KYLIAN"]
["GOUELLE THIERRY"]
["GOUET DAVID"]
["GOUSSAULT FLORENT"]
["GOUX CHRISTIAN"]
["GRAILLER ALBAN"]
["GRALL SEBASTIEN"]
["GRANDJEAN DAVID"]
["GRAVELLE JEAN PIERRE"]
["GRAVELLE NICOLAS"]
["GRENOUILLON NICOLAS"]
["GRESS DIDIER"]
["GROGLER FLORENTIN"]
["GUENARD JEREMY"]
["GUERIN MATHIS"]
["GUERRET BENOIT"]
["GUET PATRICE"]
["GUICHARD VALERY"]
["GUIDOU JEAN CLAUDE"]
["GUILHEM DIDIER"]
["GUILLEMIN GWENAEL"]
["GUIMIOT YVON"]
["GUINAULT JEREMY"]
["HAAS LOIC"]
["HAHN SEILLIER MAHE"]
["HENRIOT FABRICE"]
["HENRIOT TANGUY"]
["HENRIQUES PASCAULT BRUNO"]
["HENRY YANNICK"]
["HERNANDEZ JEAN PIERRE"]
["HERRERO NICOLAS"]
["HERVE FLORIAN"]
["HERVE SEBASTIEN"]
["HERVE VALENTIN"]
["HEURLEY FRANCIS"]
["HILPERT SEBASTIEN"]
["HIPPOLYTE DIANE"]
["HUART FLAVIEN"]
["HUBERT WILLY"]
["HUBSCHWERLIN ALEXY"]
["HUEBRA ROBIN"]
["HULMEL MAXIME"]
["HULO BERTRAND"]
["HUNGER NORBERT"]
["HUREL CHRISTIAN"]
["IALENTI ANDRE"]
["IZARN STEPHANE"]
["JACQUEMAIN ANTHONY"]
["JACQUENET SEBASTIEN"]
["JACQUIN JEAN MICHEL"]
["JANIKI MICHEL"]
["JANNIN SEBASTIEN"]
["JARDIN FRANCK"]
["JARROUSSE JEAN"]
["JEANNIN RAPHAEL"]
["JEAUNEAU LUCIEN"]
["JOLLIN MAXIME"]
["JOLLY CELIA"]
["JONIAUX SYLVAIN"]
["JORDAN DAVID"]
["JORDY CHRISTIAN"]
["JOSLIN HERVE"]
["JOUVEAU MICKAEL"]
["JUIGNET XAVIER"]
["JUMAS ENZO"]
["JUNCHAT MICKAEL"]
["JUSSAK JEAN MARIE"]
["KAESER CALVIN"]
["KAESER CHRISTOPHE"]
["KAIKINGER ALBERT HENRI"]
["KAIKINGER JEREMY"]
["KAPLON FABIEN"]
["KAPLON JEAN-LOUIS"]
["KLEIN VICTOR"]
["KOCH THIERRY"]
["L'HOTELLIER JEAN-MARC"]
["LABOUREAU BRUNO"]
["LABREVOIR ERIC"]
["LABROSSE DANIEL"]
["LACOU ANTOINE"]
["LACOU FREDERIC"]
["LADRANGE ALEXANDRE"]
["LAFOND LAURENT"]
["LAFORGE BRUNO"]
["LAIGNEL ERIC"]
["LAIR ANTOINE"]
["LALANDRE SEBASTIEN"]
["LAMAGA SACHA"]
["LAMARRE MICKAEL"]
["LAMOUREUX EDDY"]
["LAMOUREUX NOLHAN"]
["LANGER OLIVIER"]
["LAPIERRE FRANCK"]
["LARGY STEPHANE"]
["LARICHE JULIEN"]
["LASNIER DENIS"]
["LAURENT BOURGEOIS BAPTISTE"]
["LAURET LOWENN"]
["LAVALLADE GERARD"]
["LAVARENNE MICHEL"]
["LAVAUD ERIC"]
["LAVEYN MATTHEW"]
["LAVIE TOM"]
["LAZZAROTTI JULLIAN"]
["LAZZAROTTI LAURENT"]
["LE CALVEZ MAXIME"]
["LE CLEUZIAT NICOLAS"]
["LE MAITRE STEPHANE"]
["LE PICAUT CHRISTIAN"]
["LE TOQUEU ERIC"]
["LEBLOND ANNE-SOPHIE"]
["LEBLOND JEAN"]
["LEBLOND JEAN PHILIPPE"]
["LEBRUN JULES"]
["LECHAUX ANTHONY"]
["LECLER CYRIL"]
["LECOURT LOIC"]
["LEDROIT ADRIEN"]
["LEDROIT PHILIPPE"]
["LEFEVRE DANIEL"]
["LEFRANC DOMINIQUE"]
["LEMAITRE LUCAS"]
["LEMAITRE STEPHANE"]
["LEMINEUR ARMAND"]
["LEMOINE DIDIER"]
["LEMONNIER ARNAUD"]
["LEONARD LUC"]
["LEPINE ALEXANDRE"]
["LEPRUN TIMOTHE"]
["LEROUGE PATRICK"]
["LEROUX PATRICK"]
["LEROY PAULINE"]
["LEROY ROBERT"]
["LESOURD STEPHANE"]
["LETOQUEU PASCAL"]
["LEVAYER HENRY"]
["LEVEQUE JEAN-NOEL"]
["LEVEQUE JUDYTH"]
["LINARD HUBERT"]
["LOBREAU OWEN"]
["LOGA ORSON"]
["LONGUET VALENTIN"]
["LORAIN ARNAUD"]
["LORENZI VANESSA"]
["LOUCHET CHRISTOPHE"]
["LOURY NUMA"]
["LUISSI FRANCOIS"]
["LUSSIER LUDOVIC"]
["LUTINIER AURELIEN"]
["MABILAT ROMANE"]
["MADET CORINNE"]
["MAILLARD QUENTIN"]
["MAILLET TITOUAN"]
["MAIRE YANN"]
["MALVESTIO GILBERT"]
["MALVESTIO JOHAN"]
["MANGEOT MATTHIEU"]
["MANNEVY GUILLAUME"]
["MANNEVY NICOLAS"]
["MANNEVY REGIS"]
["MAQUET PHILIPPE"]
["MARCEAUX PHILIPPE"]
["MARCELO MARIO"]
["MARCELOT SEBASTIEN"]
["MARCELOT THIBAULT"]
["MARECHAL LUDOVIC"]
["MARECHAL MATHIEU"]
["MARECHAU ALEXANDRE"]
["MARGOT ALEXIS"]
["MARIE EMMANUEL"]
["MARIE GABRIEL"]
["MARILLER LOUIS"]
["MARQUEZ EMMANUEL"]
["MARQUIS LAURENT"]
["MARTEAU BRUNO"]
["MARTIN BERNADETTE"]
["MARTIN DAVID"]
["MARTIN GILLES"]
["MARTY PHILIPPE"]
["MASSON HERVE"]
["MASSON LUC"]
["MASSON OLIVIER"]
["MASSON PASCAL"]
["MATHIOT ALAIN"]
["MATHIOT LUDOVIC"]
["MATIAS CHRISTOPHE"]
["MAZE CHRISTOPHER"]
["MAZIARZ SYLVAIN"]
["MBOSSA BASTIEN"]
["MELAIN MICHAEL"]
["MELLOTTEE ADRIEN"]
["MENAGER CHRISTOPHE"]
["MERLAEN PATRICK"]
["MERON ERIC"]
["MEYER JULES"]
["MICHEL ANTHONY"]
["MICHON ALEXIS"]
["MILARD FABRICE"]
["MILARD PHILIPPE"]
["MILLERET PHILIPPE"]
["MILLOT WILLIAM"]
["MILON PIERRE"]
["MINET SEBASTIEN"]
["MINET THOMAS"]
["MION MAXENCE"]
["MIRANDA JEAN PAUL"]
["MOCQUERY PATRICK"]
["MOCQUERY SIMON"]
["MOLINA FRANCIS"]
["MONERAU SYLVAIN"]
["MONTARON CHRISTIAN"]
["MONTIGNY RODOLPHE"]
["MORANDET CHARLES OLIVIER"]
["MOREAU CHARLY"]
["MORICARD MEDERIC"]
["MORICE TOM"]
["MORIN MICKAEL"]
["MORISSET GILLES"]
["MORIZET JUSTINE"]
["MORTIER ROMAIN"]
["MOSER MATHIEU"]
["MOSLARD AURELIEN"]
["MOUILLAT ERIC"]
["MOUSSUS PIERRE"]
["MOUSSY CHRISTOPHE"]
["MOUSSY HUGO"]
["MOUTON YAN"]
["MUGA EMERIC"]
["MULLER CORENTIN"]
["MUNIER JEROME"]
["MUNIER MAXIME"]
["MURIA FREDERIC"]
["MYCHNO ALAIN"]
["NASSIRI JEAN LOUIS"]
["NERON PASCAL"]
["NICAISE SIMON"]
["NICOLET JULIEN"]
["NICOLLE ANDRE"]
["NIEPS PASCAL"]
["NORMAND ALEXANDRE"]
["NOURY JULIE"]
["NOVELLI FRANCO"]
["OLARD ALEXIS"]
["OLIVEIRA SYLVAIN"]
["ORELLE FREDERIC"]
["ORHON CYRIL"]
["PACAUD BASTIEN"]
["PACHOT FREDERIC"]
["PACTAT KEVIN"]
["PACZEK STEPHANE"]
["PAIRON ALAIN"]
["PANFILI DENIS"]
["PANNEQUIN MARC"]
["PANONT FRANCOIS"]
["PAPELARD BLANDINE"]
["PARADE QUENTIN"]
["PAREDES JOSE"]
["PARIGAUX FABRICE"]
["PAULET JEREMY"]
["PAYEN THEO"]
["PAYRARD SEBASTIEN"]
["PELLERIN JEAN LUC"]
["PELLETIER ANGELINO"]
["PELOILLE LAURENT"]
["PELOILLE THIBAULT"]
["PELTIER MAXIME"]
["PEREIRA ALEX"]
["PEREIRA MARTINS CESAR BRUNO"]
["PEREZ GUILLAUME"]
["PERNET VINCENT"]
["PERON MICHEL"]
["PEROT JACKY"]
["PERREIRA DE BARROS JOSE PINTO"]
["PERRETTE ISABELLE"]
["PERRETTE MATEO"]
["PERRON PASCAL"]
["PERRUCHE DIDIER"]
["PERRUCHE ROMAIN"]
["PESME DAMIEN"]
["PETIT MALO"]
["PHELIPPON ROMAIN"]
["PHILIPPE DIDIER"]
["PHILIPPON JEAN-FRANCOIS"]
["PICARD ADRIEN"]
["PICARD LUCAS"]
["PICAULT GAUTHIER"]
["PICHON LUCAS"]
["PIECHACZ GILLES"]
["PIEDALLU MIKAEL"]
["PIERI AURELIEN"]
["PIGAL DIDIER"]
["PIGAL GUILLAUME"]
["PILARD ALEXANDRE"]
["PILLOT MICHEL"]
["PINEAU SEBASTIEN"]
["PINGOT STEPHANE"]
["PINTHIER PATRICK"]
["PITOT PASCAL"]
["PIVIN CHRISTOPHE"]
["PLANSON GERARD"]
["POIGET FRANCK"]
["POIGET SEBASTIEN"]
["POINSOT JEAN PHILIPPE"]
["POIRIER DENIS"]
["POLETTE PATRICE"]
["POMA ALAIN"]
["POMMELET VINCENT"]
["POMMIER SYLVAIN"]
["PONCEAU FRANCOIS"]
["PONT HERVE"]
["PONTIER DOMINIQUE"]
["POSENATO CLAUDE"]
["POTEZ ADRIAN"]
["POULAIN VALENTIN"]
["PRADILLON VALENTIN"]
["PRAT HERVE"]
["PRATS RAPHAEL"]
["PRAULT YOHAN"]
["PREVOST JEAN MARC"]
["PRIMATESTA ISABELLE"]
["PRIMATESTA PASCAL"]
["PRIMOUT MATTHIEU"]
["PROUET MICHAEL"]
["PROUTEAU CHRISTOPHE"]
["PUCCIANTI CHRISTOPHE"]
["PUCCIANTI PASCAL"]
["PULBY MICHEL"]
["PUTELAT MAXIME"]
["QUESNEL KEVIN"]
["QUIGNARD ARTHUR"]
["QUIGNARD CHRISTOPHE"]
["RABEREAU MAELLE"]
["RABEREAU QUENTIN"]
["RABILLON LUDOVIC"]
["RABOULIN PHILIPPE"]
["RABREGEAU HUGO"]
["RAGOGNA GABIN"]
["RAGOGNA JEAN CHRISTOPHE"]
["RAGOGNA MARTIN"]
["RAIMBAULT IVANN"]
["RAIMBAULT OLIVIER"]
["RAINNOUARD JOSE"]
["RAMOUSSIN DIDIER"]
["RAYER DOMINIQUE"]
["REGLIN GUILLAUME"]
["REGOUBY MATHIEU"]
["REGOUBY PIERRE"]
["RENOUX KEIB SYLVIE"]
["RHIN LORY"]
["RIBEIRO MIKAEL"]
["RICAULT JULIEN"]
["RICHARD CHRISTOPHE"]
["RICHARDOT EUGENE"]
["RICHEBOURG CLAUDE"]
["RICHET GUILLAUME"]
["RIGNAULT YOANN"]
["RIGOBERT PASCAL"]
["RIQUEMENT CLEMENT"]
["RIQUEMENT LANDRY"]
["ROBERT DIDIER"]
["ROBERT INGRID"]
["ROBERT LUC"]
["ROBIN PASCAL"]
["ROBINEAU HERVE"]
["RODOT JEAN LOUIS"]
["ROLLET ARNAUD"]
["ROLLET ROBIN"]
["ROQUE JOSE"]
["ROUGEOT GILLES"]
["ROUSSEAU ALBAN"]
["ROUSSEAU CHRISTOPHE"]
["ROUSSEAU FLORENT"]
["ROUSSELAT LOUIS"]
["ROUSSELET MICKAEL"]
["RUBY CYRIL"]
["RUBY QUENTIN"]
["RYCHTER JORDY"]
["SAILLARD REMI"]
["SAINT-DIZIER ROMAIN"]
["SAJDUR VIVIAN"]
["SALMON VALENTIN"]
["SARRAZIN MICKAEL"]
["SASSIER FREDERIC"]
["SAVY SYLVAIN"]
["SCHMITH DANIEL"]
["SCHUTZ DAVID"]
["SCIARANI GERARD"]
["SEGUIN PHILIPPE"]
["SEGUIN THIERRY"]
["SEGUT DAVID"]
["SENECHAL JEAN BAPTISTE"]
["SERGENT GILLES"]
["SERGENT JULIEN"]
["SERVAT GUILLAUME"]
["SIBIAL LUDOVIC"]
["SICOT JACQUES"]
["SIMON DOMINIQUE"]
["SIMON SEBASTIEN"]
["SIMONET MICHAEL"]
["SIMONOT JEAN LUC"]
["SIRAT ABDAKA"]
["SIRI NICOLAS"]
["SIVRET NICOLAS"]
["SOBCZAK LAURENT"]
["SOCIER MORGAN"]
["SOILLY JEAN-CLAUDE"]
["SORET BRUNO"]
["SORNIQUE GREGORY"]
["SOUBERCAZES CAMILLE"]
["SOUCHON LAURA"]
["SOULIER OLIVIER"]
["SOULLIER MARC ANTOINE"]
["STAPF BECKER BLANDINE"]
["STEPIEN XAVIER"]
["STRADY FREDERIC"]
["STROUPPE ARNAUD"]
["TAIBI ABDELDJALIL"]
["TAORMINA ANGELO"]
["TAORMINA MICKAEL"]
["TAUPIN PATRICK"]
["TEVENOT ANTONY"]
["THERY MARTIAL"]
["THIEBAUD CANELLE"]
["THIERRY SEBASTIEN"]
["THILLOU JEAN LUC"]
["THIOUST FREDERIC"]
["THOMAS DIDIER"]
["THOMAS FREDERIC"]
["THOMAS LOUIS"]
["THOMAS VINCENT"]
["THUAL MAURICE"]
["THUILLIER CHRISTOPHE"]
["THURET EDOUARD"]
["TIMBERT PATRICK"]
["TIRON FLORIAN"]
["TISSIER NICOLAS"]
["TORDEUX CHRISTOPHE"]
["TORDEUX ZOE"]
["TORTOCHAUX BERTRAND"]
["TOUCHARD MICKAEL"]
["TOURETTE ALEXIS"]
["TOURETTE SANDRINE"]
["TOURETTE THIERRY"]
["TOURRAUD DIDIER"]
["TOURTE JEAN LUC"]
["TRECHOT CHRISTOPHE"]
["TRIADOU JULIEN"]
["TRIADOU LUDOVIC"]
["TRIPIER JEROME"]
["TRIPOGNEY LUDOVIC"]
["TROCH VINCENT"]
["TRUFFY MAXIME"]
["TUDURI LOUIS"]
["TURK DAVID"]
["TURK MICHEL"]
["TURPIN LAETITIA"]
["URBAIN MARC"]
["UVALLE PATRICK"]
["UZON AURELIEN"]
["VACHER DIDIER"]
["VALLEE PATRICK"]
["VALLOIS JULIEN"]
["VAN CEUNEBROECK PASCAL"]
["VAN DALEN LORIS"]
["VAN DEN BROECKE BERTRAND"]
["VANDAME CAROLINE"]
["VANDEPUTTE HUGUES"]
["VATAN MATTHIEU"]
["VATAN PASCAL"]
["VAUCAIRE FREDERIC"]
["VAUDOIR GILLES"]
["VAUTRAIN JIMMY"]
["VERISSON GEOFFROY"]
["VERJOT BAPTISTE"]
["VERNICE MARIO"]
["VIDAL GASTON"]
["VIESSIERE ERIC"]
["VILATTE DENIS"]
["VILLAIN JEAN-JACQUES"]
["VILLAIN PATRICK"]
["VINCENT MARTIAL"]
["VINCENT PIERRE"]
["VINCENT STEPHANE"]
["VOINCHET ANTHONY"]
["VOLLEREAU CHRISTOPHE"]
["WAGNER STEVE"]
["WANNY MARC"]
["WEILAND SAMUEL"]
["WEILAND STEPHANE"]
["WEISS CHRISTIAN"]
["WEISS MICKAEL"]
["WELFORD ROBIN"]